BEGIN:VCALENDAR
VERSION:2.0
PRODID:-//Comox Valley Sports - ECPv4.4.4//NONSGML v1.0//EN
CALSCALE:GREGORIAN
METHOD:PUBLISH
X-WR-CALNAME:Comox Valley Sports
X-ORIGINAL-URL:https://comoxvalleysports.ca
X-WR-CALDESC:Events for Comox Valley Sports
BEGIN:VEVENT
DTSTART;TZID=America/Vancouver:20250903T235900
DTEND;TZID=America/Vancouver:20250903T235900
DTSTAMP:20260423T225902
CREATED:20200805T201848Z
LAST-MODIFIED:20250717T170455Z
UID:18110-1756943940-1756943940@comoxvalleysports.ca
SUMMARY:Registration closes for indoor fall leagues
DESCRIPTION:Registration closes for indoor fall leagues
URL:https://comoxvalleysports.ca/event/registration-closes-for-indoor-fall-leagues/
CATEGORIES:registration close
END:VEVENT
END:VCALENDAR