BEGIN:VCALENDAR
VERSION:2.0
PRODID:-//Comox Valley Sports - ECPv4.4.4//NONSGML v1.0//EN
CALSCALE:GREGORIAN
METHOD:PUBLISH
X-WR-CALNAME:Comox Valley Sports
X-ORIGINAL-URL:https://comoxvalleysports.ca
X-WR-CALDESC:Events for Comox Valley Sports
BEGIN:VEVENT
DTSTART;TZID=America/Vancouver:20260325T235900
DTEND;TZID=America/Vancouver:20260325T235900
DTSTAMP:20260419T140737
CREATED:20170309T065726Z
LAST-MODIFIED:20260130T201328Z
UID:1676-1774483140-1774483140@comoxvalleysports.ca
SUMMARY:Registration closes for Spring leagues
DESCRIPTION:Registration closes for Spring Sports Leagues. Be sure to sign up early.
URL:https://comoxvalleysports.ca/event/registration-closes-for-spring-leagues/
CATEGORIES:registration close
END:VEVENT
END:VCALENDAR