BEGIN:VCALENDAR
VERSION:2.0
PRODID:-//SCVSSC//EN
CALSCALE:GREGORIAN
METHOD:PUBLISH
URL:https://comoxvalleysports.ca/calendar/wasted-talent-calendar/?feed=cvssc-calendar-ical
X-FROM-URL:https://comoxvalleysports.ca/calendar/wasted-talent-calendar/?feed=cvssc-calendar-ical
NAME:Wasted Talent Calendar
X-WR-CALNAME:Wasted Talent Calendar
DESCRIPTION:Wasted Talent Calendar
X-WR-CALDESC:Wasted Talent Calendar
REFRESH-INTERVAL;VALUE=DURATION:PT2M
X-PUBLISHED-TTL:PT2M
TZID:America/Vancouver
X-WR-TIMEZONE:America/Vancouver
BEGIN:VTIMEZONE
TZID:America/Vancouver
X-LIC-LOCATION:America/Vancouver
BEGIN:DAYLIGHT
TZOFFSETFROM:-0800
TZOFFSETTO:-0700
TZNAME:PDT
DTSTART:19700308T020000
RRULE:FREQ=YEARLY;BYMONTH=3;BYDAY=2SU
END:DAYLIGHT
BEGIN:STANDARD
TZOFFSETFROM:-0700
TZOFFSETTO:-0800
TZNAME:PST
DTSTART:19701101T020000
RRULE:FREQ=YEARLY;BYMONTH=11;BYDAY=1SU
END:STANDARD
END:VTIMEZONE
BEGIN:VEVENT
UID:28770
DTSTAMP;TZID=America/Vancouver:20220623T183000
DTSTART;TZID=America/Vancouver:20220623T183000
DTEND;TZID=America/Vancouver:20220623T194500
SUMMARY:Wasted Talent 3 Disco Pirates 4
DESCRIPTION:*Please arrive 10 minutes early to your games and bring cleats, water and check your team colour priority on the schedule for each week of games. Let's have some fun!
STATUS:CONFIRMED
LAST-MODIFIED:20220624T013000
LOCATION:Queneesh - Field 2: Middle Field\, 2345 Mission Rd\, Courtenay\, BC V9N 9H1\, Canada
GEO:;
END:VEVENT
BEGIN:VEVENT
UID:28840
DTSTAMP;TZID=America/Vancouver:20220630T194500
DTSTART;TZID=America/Vancouver:20220630T194500
DTEND;TZID=America/Vancouver:20220630T210000
SUMMARY:Wasted Talent 4 Grass Stains 0
DESCRIPTION:
STATUS:CONFIRMED
LAST-MODIFIED:20220701T024500
LOCATION:G.P. Vanier - Field 2: Rugby field, further from school access road\, 4828 Headquarters Rd\, Courtenay\, BC V9N 7J3\, Canada
GEO:49.707656;-125.00350300000002
END:VEVENT
BEGIN:VEVENT
UID:28854
DTSTAMP;TZID=America/Vancouver:20220707T183000
DTSTART;TZID=America/Vancouver:20220707T183000
DTEND;TZID=America/Vancouver:20220707T194500
SUMMARY:Toepunters 4 Wasted Talent 4
DESCRIPTION:
STATUS:CONFIRMED
LAST-MODIFIED:20220708T013000
LOCATION:G.P. Vanier - Field 3: Right field, 2nd closest Headquarters Rd.\, 4830 Headquarters Rd\, Courtenay\, BC V9J 1P2\, Canada
GEO:49.70965529999999;-124.9983923
END:VEVENT
BEGIN:VEVENT
UID:29160
DTSTAMP;TZID=America/Vancouver:20220714T194500
DTSTART;TZID=America/Vancouver:20220714T194500
DTEND;TZID=America/Vancouver:20220714T210000
SUMMARY:Wasted Talent 2 Nice To Cleat You 5
DESCRIPTION:
STATUS:CONFIRMED
LAST-MODIFIED:20220715T024500
LOCATION:Highland Soccer Field #4: Ball Diamond Side, bordering entry path\, Highland Park\, 1519 Highridge Dr\, Comox\, BC V9M 4H7\, Canada
GEO:49.68953992269148;-124.91109171429446
END:VEVENT
BEGIN:VEVENT
UID:29137
DTSTAMP;TZID=America/Vancouver:20220721T183000
DTSTART;TZID=America/Vancouver:20220721T183000
DTEND;TZID=America/Vancouver:20220721T194500
SUMMARY:Wasted Talent 5 The Team 3
DESCRIPTION:
STATUS:CONFIRMED
LAST-MODIFIED:20220722T013000
LOCATION:Highland Soccer Field #1 - Closest to Pickleball Courts\, 775 Torrence Rd\, Comox\, BC V9M 0A5\, Canada
GEO:49.689179;-124.909933
END:VEVENT
BEGIN:VEVENT
UID:29166
DTSTAMP;TZID=America/Vancouver:20220728T194500
DTSTART;TZID=America/Vancouver:20220728T194500
DTEND;TZID=America/Vancouver:20220728T210000
SUMMARY:Wasted Talent 3 Let&#8217\;s get Messi 5
DESCRIPTION:
STATUS:CONFIRMED
LAST-MODIFIED:20220729T024500
LOCATION:G.P. Vanier - Field 1: Rugby field, closer to school access road\, P252+WG Courtenay\, BC\, Canada
GEO:49.709771;-124.998649
END:VEVENT
BEGIN:VEVENT
UID:29287
DTSTAMP;TZID=America/Vancouver:20220804T191500
DTSTART;TZID=America/Vancouver:20220804T191500
DTEND;TZID=America/Vancouver:20220804T203000
SUMMARY:Rayo Lazo 4 Wasted Talent 7
DESCRIPTION:*Start times move up 30 minutes this week; Shootouts break ties in playoffs; C Tier SF#4: Seeds 6 vs. 7
STATUS:CONFIRMED
LAST-MODIFIED:20220805T021500
LOCATION:Highland Soccer Field #3 - Furthest from Pickleball Courts\, 775 Torrence Rd\, Comox\, BC V9M 0A5\, Canada
GEO:49.689179;-124.909933
END:VEVENT
BEGIN:VEVENT
UID:29383
DTSTAMP;TZID=America/Vancouver:20220811T180000
DTSTART;TZID=America/Vancouver:20220811T180000
DTEND;TZID=America/Vancouver:20220811T191500
SUMMARY:Toepunters 7 Wasted Talent 6
DESCRIPTION:C Tier 5th Place Game
STATUS:CONFIRMED
LAST-MODIFIED:20220812T010000
LOCATION:G.P. Vanier - Field 2: Rugby field, further from school access road\, 4828 Headquarters Rd\, Courtenay\, BC V9N 7J3\, Canada
GEO:49.707656;-125.00350300000002
END:VEVENT
BEGIN:VEVENT
UID:34411
DTSTAMP;TZID=America/Vancouver:20230413T191500
DTSTART;TZID=America/Vancouver:20230413T191500
DTEND;TZID=America/Vancouver:20230413T203000
SUMMARY:Wasted Talent 4 Injured Reserve 3
DESCRIPTION:*Please arrive 10-15 minutes early to warm up and review any league rules; Goals at Queneesh need to be moved back to fence and locked up at end of night.
STATUS:CONFIRMED
LAST-MODIFIED:20230414T021500
LOCATION:Queneesh - Field 2: Middle Field\, 2345 Mission Rd\, Courtenay\, BC V9N 9H1\, Canada
GEO:;
END:VEVENT
BEGIN:VEVENT
UID:34444
DTSTAMP;TZID=America/Vancouver:20230420T235900
DTSTART;TZID=America/Vancouver:20230420T235900
DTEND;TZID=America/Vancouver:20230420T235900
SUMMARY:Wasted Talent - BYE WEEK. NO GAME.
DESCRIPTION:
STATUS:CONFIRMED
LAST-MODIFIED:20230421T065900
GEO:;
END:VEVENT
BEGIN:VEVENT
UID:34637
DTSTAMP;TZID=America/Vancouver:20230424T183000
DTSTART;TZID=America/Vancouver:20230424T183000
DTEND;TZID=America/Vancouver:20230424T194500
SUMMARY:ManChestHair United 7 Wasted Talent 0
DESCRIPTION:*Monday games begin for 4 C Tier teams that wanted them.
STATUS:CONFIRMED
LAST-MODIFIED:20230518T001700
LOCATION:G.P. Vanier - Field 1: Rugby field, closer to school access road\, P252+WG Courtenay\, BC\, Canada
GEO:49.709771;-124.998649
END:VEVENT
BEGIN:VEVENT
UID:34639
DTSTAMP;TZID=America/Vancouver:20230501T183000
DTSTART;TZID=America/Vancouver:20230501T183000
DTEND;TZID=America/Vancouver:20230501T194500
SUMMARY:Grass Stains 2 Wasted Talent 3
DESCRIPTION:*Monday game.
STATUS:CONFIRMED
LAST-MODIFIED:20230502T174900
LOCATION:G.P. Vanier - Field 1: Rugby field, closer to school access road\, P252+WG Courtenay\, BC\, Canada
GEO:49.709771;-124.998649
END:VEVENT
BEGIN:VEVENT
UID:34641
DTSTAMP;TZID=America/Vancouver:20230508T183000
DTSTART;TZID=America/Vancouver:20230508T183000
DTEND;TZID=America/Vancouver:20230508T194500
SUMMARY:Wasted Talent 3 Valley Vipers 5
DESCRIPTION:*Monday game.
STATUS:CONFIRMED
LAST-MODIFIED:20230509T013000
LOCATION:G.P. Vanier - Field 1: Rugby field, closer to school access road\, P252+WG Courtenay\, BC\, Canada
GEO:49.709771;-124.998649
END:VEVENT
BEGIN:VEVENT
UID:34695
DTSTAMP;TZID=America/Vancouver:20230518T183000
DTSTART;TZID=America/Vancouver:20230518T183000
DTEND;TZID=America/Vancouver:20230518T194500
SUMMARY:Wasted Talent 4 Beta Blockers FC 11
DESCRIPTION:
STATUS:CONFIRMED
LAST-MODIFIED:20230519T013000
LOCATION:Queneesh - Field 1: Left field\, 2345 Mission Rd\, Courtenay\, BC V9N 9H1\, Canada
GEO:49.69393028209098;-124.99450891534423
END:VEVENT
BEGIN:VEVENT
UID:35334
DTSTAMP;TZID=America/Vancouver:20230525T183000
DTSTART;TZID=America/Vancouver:20230525T183000
DTEND;TZID=America/Vancouver:20230525T194500
SUMMARY:Grass Stains 1 Wasted Talent 0
DESCRIPTION:C Tier QF#6: Seeds 10 vs. 11
STATUS:CONFIRMED
LAST-MODIFIED:20230526T013000
LOCATION:Queneesh - Field 2: Middle Field\, 2345 Mission Rd\, Courtenay\, BC V9N 9H1\, Canada
GEO:;
END:VEVENT
BEGIN:VEVENT
UID:35455
DTSTAMP;TZID=America/Vancouver:20230601T235900
DTSTART;TZID=America/Vancouver:20230601T235900
DTEND;TZID=America/Vancouver:20230601T235900
SUMMARY:Wasted Talent - BYE WEEK. NO GAME.
DESCRIPTION:*No scheduled game. Awaits results of QF#5.
STATUS:CONFIRMED
LAST-MODIFIED:20230602T065900
GEO:;
END:VEVENT
BEGIN:VEVENT
UID:35585
DTSTAMP;TZID=America/Vancouver:20230608T194500
DTSTART;TZID=America/Vancouver:20230608T194500
DTEND;TZID=America/Vancouver:20230608T210000
SUMMARY:Wasted Talent 6 North Island College 0
DESCRIPTION:C Tier SF#6: High Seed Loser (bottom 6) vs. Winner QF#7
STATUS:CONFIRMED
LAST-MODIFIED:20230609T024500
LOCATION:Queneesh - Field 1: Left field\, 2345 Mission Rd\, Courtenay\, BC V9N 9H1\, Canada
GEO:49.69393028209098;-124.99450891534423
END:VEVENT
BEGIN:VEVENT
UID:35989
DTSTAMP;TZID=America/Vancouver:20230615T183000
DTSTART;TZID=America/Vancouver:20230615T183000
DTEND;TZID=America/Vancouver:20230615T194500
SUMMARY:Rayo Lazo 5 Wasted Talent 11
DESCRIPTION:C Tier 9th Place Game
STATUS:CONFIRMED
LAST-MODIFIED:20230616T013000
LOCATION:G.P. Vanier - Field 2: Rugby field, further from school access road\, 4828 Headquarters Rd\, Courtenay\, BC V9N 7J3\, Canada
GEO:49.707656;-125.00350300000002
END:VEVENT
END:VCALENDAR