BEGIN:VCALENDAR
VERSION:2.0
PRODID:-//SCVSSC//EN
CALSCALE:GREGORIAN
METHOD:PUBLISH
URL:https://comoxvalleysports.ca/calendar/volley-llamas-calendar/?feed=cvssc-calendar-ical
X-FROM-URL:https://comoxvalleysports.ca/calendar/volley-llamas-calendar/?feed=cvssc-calendar-ical
NAME:Volley Llamas Calendar
X-WR-CALNAME:Volley Llamas Calendar
DESCRIPTION:Volley Llamas Calendar
X-WR-CALDESC:Volley Llamas Calendar
REFRESH-INTERVAL;VALUE=DURATION:PT2M
X-PUBLISHED-TTL:PT2M
TZID:America/Vancouver
X-WR-TIMEZONE:America/Vancouver
BEGIN:VTIMEZONE
TZID:America/Vancouver
X-LIC-LOCATION:America/Vancouver
BEGIN:DAYLIGHT
TZOFFSETFROM:-0800
TZOFFSETTO:-0700
TZNAME:PDT
DTSTART:19700308T020000
RRULE:FREQ=YEARLY;BYMONTH=3;BYDAY=2SU
END:DAYLIGHT
BEGIN:STANDARD
TZOFFSETFROM:-0700
TZOFFSETTO:-0800
TZNAME:PST
DTSTART:19701101T020000
RRULE:FREQ=YEARLY;BYMONTH=11;BYDAY=1SU
END:STANDARD
END:VTIMEZONE
BEGIN:VEVENT
UID:6796
DTSTAMP;TZID=America/Vancouver:20180417T190000
DTSTART;TZID=America/Vancouver:20180417T190000
DTEND;TZID=America/Vancouver:20180417T194500
SUMMARY:Beach Better Have My Sunny 2 Volley Llamas 0
DESCRIPTION:
STATUS:CONFIRMED
LAST-MODIFIED:20180412T221400
LOCATION:Standard Park - Court 2 - Furthest From the Road\, 1450-1530 Cliffe Ave\, Courtenay\, BC V9N\, Canada
GEO:49.68625102398914;-124.99253111875612
END:VEVENT
BEGIN:VEVENT
UID:6797
DTSTAMP;TZID=America/Vancouver:20180417T194500
DTSTART;TZID=America/Vancouver:20180417T194500
DTEND;TZID=America/Vancouver:20180417T203000
SUMMARY:S*M*A*S*H 2 Volley Llamas 0
DESCRIPTION:
STATUS:CONFIRMED
LAST-MODIFIED:20180412T221400
LOCATION:Standard Park - Court 1 - Closest to the Road\, 1450-1530 Cliffe Ave\, Courtenay\, BC V9N\, Canada
GEO:49.686237141457475;-124.99255257642824
END:VEVENT
BEGIN:VEVENT
UID:6826
DTSTAMP;TZID=America/Vancouver:20180424T235900
DTSTART;TZID=America/Vancouver:20180424T235900
DTEND;TZID=America/Vancouver:20180424T235900
SUMMARY:Bakers &amp\; Shakers vs Volley Llamas - BYE WEEK. NO GAME.
DESCRIPTION:2nd Week Bye Weeks For: Bakers &amp; Shakers, Volley Llamas, Safe Sets + Team Media(ocre). No game this week. This allows bye week to show up on your Team Page.
STATUS:CONFIRMED
LAST-MODIFIED:20180412T224400
GEO:49.686237141457475;-124.99255257642824
END:VEVENT
BEGIN:VEVENT
UID:6811
DTSTAMP;TZID=America/Vancouver:20180501T173000
DTSTART;TZID=America/Vancouver:20180501T173000
DTEND;TZID=America/Vancouver:20180501T181500
SUMMARY:Volley Llamas 0 Will Work for Sets 2
DESCRIPTION:
STATUS:CONFIRMED
LAST-MODIFIED:20180412T222600
LOCATION:Standard Park - Court 2 - Furthest From the Road\, 1450-1530 Cliffe Ave\, Courtenay\, BC V9N\, Canada
GEO:49.68625102398914;-124.99253111875612
END:VEVENT
BEGIN:VEVENT
UID:6813
DTSTAMP;TZID=America/Vancouver:20180501T181500
DTSTART;TZID=America/Vancouver:20180501T181500
DTEND;TZID=America/Vancouver:20180501T190000
SUMMARY:Volley Llamas 0 We Dig That 2
DESCRIPTION:
STATUS:CONFIRMED
LAST-MODIFIED:20180412T223100
LOCATION:Standard Park - Court 2 - Furthest From the Road\, 1450-1530 Cliffe Ave\, Courtenay\, BC V9N\, Canada
GEO:49.68625102398914;-124.99253111875612
END:VEVENT
BEGIN:VEVENT
UID:6820
DTSTAMP;TZID=America/Vancouver:20180508T183000
DTSTART;TZID=America/Vancouver:20180508T183000
DTEND;TZID=America/Vancouver:20180508T193000
SUMMARY:Bakers &amp\; Shakers 2 Volley Llamas 0
DESCRIPTION:*Best-of-3 game for official score, but the 60-minute time slot should allow for plenty bonus playing time.
STATUS:CONFIRMED
LAST-MODIFIED:20180412T223600
LOCATION:Standard Park - Court 1 - Closest to the Road\, 1450-1530 Cliffe Ave\, Courtenay\, BC V9N\, Canada
GEO:49.686237141457475;-124.99255257642824
END:VEVENT
BEGIN:VEVENT
UID:7190
DTSTAMP;TZID=America/Vancouver:20180515T201000
DTSTART;TZID=America/Vancouver:20180515T201000
DTEND;TZID=America/Vancouver:20180515T205000
SUMMARY:Comeback Kings 2 Volley Llamas 0
DESCRIPTION:
STATUS:CONFIRMED
LAST-MODIFIED:20180509T184200
LOCATION:Standard Park - Court 1 - Closest to the Road\, 1450-1530 Cliffe Ave\, Courtenay\, BC V9N\, Canada
GEO:49.686237141457475;-124.99255257642824
END:VEVENT
BEGIN:VEVENT
UID:7193
DTSTAMP;TZID=America/Vancouver:20180515T205000
DTSTART;TZID=America/Vancouver:20180515T205000
DTEND;TZID=America/Vancouver:20180515T213000
SUMMARY:Empire Spikes Back 2 Volley Llamas 0
DESCRIPTION:
STATUS:CONFIRMED
LAST-MODIFIED:20180509T184500
LOCATION:Standard Park - Court 2 - Furthest From the Road\, 1450-1530 Cliffe Ave\, Courtenay\, BC V9N\, Canada
GEO:49.68625102398914;-124.99253111875612
END:VEVENT
BEGIN:VEVENT
UID:7201
DTSTAMP;TZID=America/Vancouver:20180522T185000
DTSTART;TZID=America/Vancouver:20180522T185000
DTEND;TZID=America/Vancouver:20180522T193000
SUMMARY:Volley Llamas 0 Team Media(ocre) 2
DESCRIPTION:
STATUS:CONFIRMED
LAST-MODIFIED:20180509T190500
LOCATION:Standard Park - Court 2 - Furthest From the Road\, 1450-1530 Cliffe Ave\, Courtenay\, BC V9N\, Canada
GEO:49.68625102398914;-124.99253111875612
END:VEVENT
BEGIN:VEVENT
UID:7203
DTSTAMP;TZID=America/Vancouver:20180522T193000
DTSTART;TZID=America/Vancouver:20180522T193000
DTEND;TZID=America/Vancouver:20180522T201000
SUMMARY:Volley Llamas 0 Safe Sets 2
DESCRIPTION:
STATUS:CONFIRMED
LAST-MODIFIED:20180509T190700
LOCATION:Standard Park - Court 2 - Furthest From the Road\, 1450-1530 Cliffe Ave\, Courtenay\, BC V9N\, Canada
GEO:49.68625102398914;-124.99253111875612
END:VEVENT
BEGIN:VEVENT
UID:7209
DTSTAMP;TZID=America/Vancouver:20180529T173000
DTSTART;TZID=America/Vancouver:20180529T173000
DTEND;TZID=America/Vancouver:20180529T181000
SUMMARY:Volley Llamas 2 Some Spike it Hot 0
DESCRIPTION:
STATUS:CONFIRMED
LAST-MODIFIED:20180509T191400
LOCATION:Standard Park - Court 2 - Furthest From the Road\, 1450-1530 Cliffe Ave\, Courtenay\, BC V9N\, Canada
GEO:49.68625102398914;-124.99253111875612
END:VEVENT
BEGIN:VEVENT
UID:7211
DTSTAMP;TZID=America/Vancouver:20180529T181000
DTSTART;TZID=America/Vancouver:20180529T181000
DTEND;TZID=America/Vancouver:20180529T185000
SUMMARY:Volley Llamas 1 Scared Hitless 1
DESCRIPTION:
STATUS:CONFIRMED
LAST-MODIFIED:20180509T191500
LOCATION:Standard Park - Court 2 - Furthest From the Road\, 1450-1530 Cliffe Ave\, Courtenay\, BC V9N\, Canada
GEO:49.68625102398914;-124.99253111875612
END:VEVENT
BEGIN:VEVENT
UID:7521
DTSTAMP;TZID=America/Vancouver:20180612T185000
DTSTART;TZID=America/Vancouver:20180612T185000
DTEND;TZID=America/Vancouver:20180612T201000
SUMMARY:Team Media(ocre) 2 Volley Llamas 3
DESCRIPTION:SF#6: Seeds 10 vs. 11 (Best-of-5)
STATUS:CONFIRMED
LAST-MODIFIED:20180605T231200
LOCATION:Standard Park - Court 2 - Furthest From the Road\, 1450-1530 Cliffe Ave\, Courtenay\, BC V9N\, Canada
GEO:49.68625102398914;-124.99253111875612
END:VEVENT
BEGIN:VEVENT
UID:7734
DTSTAMP;TZID=America/Vancouver:20180619T173000
DTSTART;TZID=America/Vancouver:20180619T173000
DTEND;TZID=America/Vancouver:20180619T185000
SUMMARY:Volley Llamas 1 Safe Sets 3
DESCRIPTION:9th Place Game
STATUS:CONFIRMED
LAST-MODIFIED:20180613T163500
LOCATION:Standard Park - Court 1 - Closest to the Road\, 1450-1530 Cliffe Ave\, Courtenay\, BC V9N\, Canada
GEO:49.686237141457475;-124.99255257642824
END:VEVENT
END:VCALENDAR