BEGIN:VCALENDAR
VERSION:2.0
PRODID:-//SCVSSC//EN
CALSCALE:GREGORIAN
METHOD:PUBLISH
URL:https://comoxvalleysports.ca/calendar/vertically-challenged-calendar/?feed=cvssc-calendar-ical
X-FROM-URL:https://comoxvalleysports.ca/calendar/vertically-challenged-calendar/?feed=cvssc-calendar-ical
NAME:vertically challenged Calendar
X-WR-CALNAME:vertically challenged Calendar
DESCRIPTION:vertically challenged Calendar
X-WR-CALDESC:vertically challenged Calendar
REFRESH-INTERVAL;VALUE=DURATION:PT2M
X-PUBLISHED-TTL:PT2M
TZID:America/Vancouver
X-WR-TIMEZONE:America/Vancouver
BEGIN:VTIMEZONE
TZID:America/Vancouver
X-LIC-LOCATION:America/Vancouver
BEGIN:DAYLIGHT
TZOFFSETFROM:-0800
TZOFFSETTO:-0700
TZNAME:PDT
DTSTART:19700308T020000
RRULE:FREQ=YEARLY;BYMONTH=3;BYDAY=2SU
END:DAYLIGHT
BEGIN:STANDARD
TZOFFSETFROM:-0700
TZOFFSETTO:-0800
TZNAME:PST
DTSTART:19701101T020000
RRULE:FREQ=YEARLY;BYMONTH=11;BYDAY=1SU
END:STANDARD
END:VTIMEZONE
BEGIN:VEVENT
UID:8323
DTSTAMP;TZID=America/Vancouver:20180709T173000
DTSTART;TZID=America/Vancouver:20180709T173000
DTEND;TZID=America/Vancouver:20180709T181000
SUMMARY:All Sets Are Off 2 vertically challenged 0
DESCRIPTION:
STATUS:CONFIRMED
LAST-MODIFIED:20180703T232400
LOCATION:Standard Park - Court 2 - Furthest From the Road\, 1450-1530 Cliffe Ave\, Courtenay\, BC V9N\, Canada
GEO:49.68625102398914;-124.99253111875612
END:VEVENT
BEGIN:VEVENT
UID:8324
DTSTAMP;TZID=America/Vancouver:20180709T181000
DTSTART;TZID=America/Vancouver:20180709T181000
DTEND;TZID=America/Vancouver:20180709T185000
SUMMARY:Bump up the jam 2 vertically challenged 0
DESCRIPTION:
STATUS:CONFIRMED
LAST-MODIFIED:20180703T232500
LOCATION:Standard Park - Court 1 - Closest to the Road\, 1450-1530 Cliffe Ave\, Courtenay\, BC V9N\, Canada
GEO:49.686237141457475;-124.99255257642824
END:VEVENT
BEGIN:VEVENT
UID:8337
DTSTAMP;TZID=America/Vancouver:20180716T185000
DTSTART;TZID=America/Vancouver:20180716T185000
DTEND;TZID=America/Vancouver:20180716T193000
SUMMARY:vertically challenged 0 Team Awesome 2
DESCRIPTION:
STATUS:CONFIRMED
LAST-MODIFIED:20180703T234300
LOCATION:Standard Park - Court 1 - Closest to the Road\, 1450-1530 Cliffe Ave\, Courtenay\, BC V9N\, Canada
GEO:49.686237141457475;-124.99255257642824
END:VEVENT
BEGIN:VEVENT
UID:8339
DTSTAMP;TZID=America/Vancouver:20180716T193000
DTSTART;TZID=America/Vancouver:20180716T193000
DTEND;TZID=America/Vancouver:20180716T201000
SUMMARY:vertically challenged 0 Wildcats 2
DESCRIPTION:
STATUS:CONFIRMED
LAST-MODIFIED:20180703T234400
LOCATION:Standard Park - Court 1 - Closest to the Road\, 1450-1530 Cliffe Ave\, Courtenay\, BC V9N\, Canada
GEO:49.686237141457475;-124.99255257642824
END:VEVENT
BEGIN:VEVENT
UID:8353
DTSTAMP;TZID=America/Vancouver:20180723T201000
DTSTART;TZID=America/Vancouver:20180723T201000
DTEND;TZID=America/Vancouver:20180723T211500
SUMMARY:vertically challenged 3 Beach Ballers 2
DESCRIPTION:Best-of-5
STATUS:CONFIRMED
LAST-MODIFIED:20180704T185100
LOCATION:Standard Park - Court 1 - Closest to the Road\, 1450-1530 Cliffe Ave\, Courtenay\, BC V9N\, Canada
GEO:49.686237141457475;-124.99255257642824
END:VEVENT
BEGIN:VEVENT
UID:8354
DTSTAMP;TZID=America/Vancouver:20180730T173000
DTSTART;TZID=America/Vancouver:20180730T173000
DTEND;TZID=America/Vancouver:20180730T181000
SUMMARY:Safe Sets 0 vertically challenged 2
DESCRIPTION:
STATUS:CONFIRMED
LAST-MODIFIED:20180704T185200
LOCATION:Standard Park - Court 1 - Closest to the Road\, 1450-1530 Cliffe Ave\, Courtenay\, BC V9N\, Canada
GEO:49.686237141457475;-124.99255257642824
END:VEVENT
BEGIN:VEVENT
UID:8357
DTSTAMP;TZID=America/Vancouver:20180730T181000
DTSTART;TZID=America/Vancouver:20180730T181000
DTEND;TZID=America/Vancouver:20180730T185000
SUMMARY:Old House Hotel &amp\; Spa 0 vertically challenged 2
DESCRIPTION:
STATUS:CONFIRMED
LAST-MODIFIED:20180704T185400
LOCATION:Standard Park - Court 2 - Furthest From the Road\, 1450-1530 Cliffe Ave\, Courtenay\, BC V9N\, Canada
GEO:49.68625102398914;-124.99253111875612
END:VEVENT
BEGIN:VEVENT
UID:8368
DTSTAMP;TZID=America/Vancouver:20180813T185000
DTSTART;TZID=America/Vancouver:20180813T185000
DTEND;TZID=America/Vancouver:20180813T193000
SUMMARY:vertically challenged 0 Empire Spikes Back 2
DESCRIPTION:
STATUS:CONFIRMED
LAST-MODIFIED:20180704T190700
LOCATION:Standard Park - Court 2 - Furthest From the Road\, 1450-1530 Cliffe Ave\, Courtenay\, BC V9N\, Canada
GEO:49.68625102398914;-124.99253111875612
END:VEVENT
BEGIN:VEVENT
UID:8370
DTSTAMP;TZID=America/Vancouver:20180813T193000
DTSTART;TZID=America/Vancouver:20180813T193000
DTEND;TZID=America/Vancouver:20180813T201000
SUMMARY:vertically challenged 0 Drunken monkeys 2
DESCRIPTION:
STATUS:CONFIRMED
LAST-MODIFIED:20180704T190800
LOCATION:Standard Park - Court 2 - Furthest From the Road\, 1450-1530 Cliffe Ave\, Courtenay\, BC V9N\, Canada
GEO:49.68625102398914;-124.99253111875612
END:VEVENT
BEGIN:VEVENT
UID:8736
DTSTAMP;TZID=America/Vancouver:20180820T173000
DTSTART;TZID=America/Vancouver:20180820T173000
DTEND;TZID=America/Vancouver:20180820T180500
SUMMARY:Beach Ballers 0 vertically challenged 2
DESCRIPTION:SF#4: Seeds 6 vs. 7
Best-of-3
*Winner moves to Court 1 to play for 5th Place. Loser stays on Court 2 to play for 7th Place.
STATUS:CONFIRMED
LAST-MODIFIED:20180814T232600
LOCATION:Standard Park - Court 2 - Furthest From the Road\, 1450-1530 Cliffe Ave\, Courtenay\, BC V9N\, Canada
GEO:49.68625102398914;-124.99253111875612
END:VEVENT
BEGIN:VEVENT
UID:8737
DTSTAMP;TZID=America/Vancouver:20180820T180500
DTSTART;TZID=America/Vancouver:20180820T180500
DTEND;TZID=America/Vancouver:20180820T184000
SUMMARY:Bump up the jam 2 vertically challenged 1
DESCRIPTION:*5th Place Game. Winners SF#3 vs. SF#4.
STATUS:CONFIRMED
LAST-MODIFIED:20180822T174900
LOCATION:Standard Park - Court 1 - Closest to the Road\, 1450-1530 Cliffe Ave\, Courtenay\, BC V9N\, Canada
GEO:49.686237141457475;-124.99255257642824
END:VEVENT
BEGIN:VEVENT
UID:13372
DTSTAMP;TZID=America/Vancouver:20190625T201000
DTSTART;TZID=America/Vancouver:20190625T201000
DTEND;TZID=America/Vancouver:20190625T205000
SUMMARY:S*M*A*S*H 2 vertically challenged 0
DESCRIPTION:
STATUS:CONFIRMED
LAST-MODIFIED:20190626T031000
LOCATION:Standard Park - Court 2 - Furthest From the Road\, 1450-1530 Cliffe Ave\, Courtenay\, BC V9N\, Canada
GEO:49.68625102398914;-124.99253111875612
END:VEVENT
BEGIN:VEVENT
UID:13373
DTSTAMP;TZID=America/Vancouver:20190625T205000
DTSTART;TZID=America/Vancouver:20190625T205000
DTEND;TZID=America/Vancouver:20190625T213000
SUMMARY:NetNinjas 0 vertically challenged 2
DESCRIPTION:
STATUS:CONFIRMED
LAST-MODIFIED:20190626T035000
LOCATION:Standard Park - Court 1 - Closest to the Road\, 1450-1530 Cliffe Ave\, Courtenay\, BC V9N\, Canada
GEO:49.686237141457475;-124.99255257642824
END:VEVENT
BEGIN:VEVENT
UID:13379
DTSTAMP;TZID=America/Vancouver:20190702T185000
DTSTART;TZID=America/Vancouver:20190702T185000
DTEND;TZID=America/Vancouver:20190702T193000
SUMMARY:vertically challenged 2 Beach Please! 0
DESCRIPTION:
STATUS:CONFIRMED
LAST-MODIFIED:20190709T192000
LOCATION:Standard Park - Court 1 - Closest to the Road\, 1450-1530 Cliffe Ave\, Courtenay\, BC V9N\, Canada
GEO:49.686237141457475;-124.99255257642824
END:VEVENT
BEGIN:VEVENT
UID:13381
DTSTAMP;TZID=America/Vancouver:20190702T193000
DTSTART;TZID=America/Vancouver:20190702T193000
DTEND;TZID=America/Vancouver:20190702T201000
SUMMARY:vertically challenged 0 Orville Set&#8217\;n&#8217\;blocker 2
DESCRIPTION:
STATUS:CONFIRMED
LAST-MODIFIED:20190703T023000
LOCATION:Standard Park - Court 1 - Closest to the Road\, 1450-1530 Cliffe Ave\, Courtenay\, BC V9N\, Canada
GEO:49.686237141457475;-124.99255257642824
END:VEVENT
BEGIN:VEVENT
UID:13387
DTSTAMP;TZID=America/Vancouver:20190709T173000
DTSTART;TZID=America/Vancouver:20190709T173000
DTEND;TZID=America/Vancouver:20190709T181000
SUMMARY:Beach Better Have My Sunny 2 vertically challenged 0
DESCRIPTION:
STATUS:CONFIRMED
LAST-MODIFIED:20190710T003000
LOCATION:Standard Park - Court 1 - Closest to the Road\, 1450-1530 Cliffe Ave\, Courtenay\, BC V9N\, Canada
GEO:49.686237141457475;-124.99255257642824
END:VEVENT
BEGIN:VEVENT
UID:13390
DTSTAMP;TZID=America/Vancouver:20190709T181000
DTSTART;TZID=America/Vancouver:20190709T181000
DTEND;TZID=America/Vancouver:20190709T185000
SUMMARY:Scared Hitless 1 vertically challenged 2
DESCRIPTION:
STATUS:CONFIRMED
LAST-MODIFIED:20190710T011000
LOCATION:Standard Park - Court 2 - Furthest From the Road\, 1450-1530 Cliffe Ave\, Courtenay\, BC V9N\, Canada
GEO:49.68625102398914;-124.99253111875612
END:VEVENT
BEGIN:VEVENT
UID:13750
DTSTAMP;TZID=America/Vancouver:20190716T185000
DTSTART;TZID=America/Vancouver:20190716T185000
DTEND;TZID=America/Vancouver:20190716T193000
SUMMARY:Rotationally Challenged 1 vertically challenged 2
DESCRIPTION:
STATUS:CONFIRMED
LAST-MODIFIED:20190717T015000
LOCATION:Standard Park - Court 2 - Furthest From the Road\, 1450-1530 Cliffe Ave\, Courtenay\, BC V9N\, Canada
GEO:49.68625102398914;-124.99253111875612
END:VEVENT
BEGIN:VEVENT
UID:13751
DTSTAMP;TZID=America/Vancouver:20190716T193000
DTSTART;TZID=America/Vancouver:20190716T193000
DTEND;TZID=America/Vancouver:20190716T201000
SUMMARY:Bumpin Uglies 0 vertically challenged 2
DESCRIPTION:
STATUS:CONFIRMED
LAST-MODIFIED:20190717T023000
LOCATION:Standard Park - Court 1 - Closest to the Road\, 1450-1530 Cliffe Ave\, Courtenay\, BC V9N\, Canada
GEO:49.686237141457475;-124.99255257642824
END:VEVENT
BEGIN:VEVENT
UID:13764
DTSTAMP;TZID=America/Vancouver:20190723T201000
DTSTART;TZID=America/Vancouver:20190723T201000
DTEND;TZID=America/Vancouver:20190723T211500
SUMMARY:Team Media(ocre) 0 vertically challenged 3
DESCRIPTION:Best-of-5 (Time permitting)
STATUS:CONFIRMED
LAST-MODIFIED:20190724T031000
LOCATION:Standard Park - Court 2 - Furthest From the Road\, 1450-1530 Cliffe Ave\, Courtenay\, BC V9N\, Canada
GEO:49.68625102398914;-124.99253111875612
END:VEVENT
BEGIN:VEVENT
UID:13769
DTSTAMP;TZID=America/Vancouver:20190730T185000
DTSTART;TZID=America/Vancouver:20190730T185000
DTEND;TZID=America/Vancouver:20190730T193000
SUMMARY:vertically challenged 2 Beach Ballers 0
DESCRIPTION:
STATUS:CONFIRMED
LAST-MODIFIED:20190731T015000
LOCATION:Standard Park - Court 1 - Closest to the Road\, 1450-1530 Cliffe Ave\, Courtenay\, BC V9N\, Canada
GEO:49.686237141457475;-124.99255257642824
END:VEVENT
BEGIN:VEVENT
UID:13771
DTSTAMP;TZID=America/Vancouver:20190730T193000
DTSTART;TZID=America/Vancouver:20190730T193000
DTEND;TZID=America/Vancouver:20190730T201000
SUMMARY:vertically challenged 1 No sets for you! 2
DESCRIPTION:
STATUS:CONFIRMED
LAST-MODIFIED:20190731T023000
LOCATION:Standard Park - Court 1 - Closest to the Road\, 1450-1530 Cliffe Ave\, Courtenay\, BC V9N\, Canada
GEO:49.686237141457475;-124.99255257642824
END:VEVENT
BEGIN:VEVENT
UID:13987
DTSTAMP;TZID=America/Vancouver:20190806T173000
DTSTART;TZID=America/Vancouver:20190806T173000
DTEND;TZID=America/Vancouver:20190806T184000
SUMMARY:vertically challenged 0 Beach Please! 3
DESCRIPTION:SF#4: Seeds 6 vs. 7
STATUS:CONFIRMED
LAST-MODIFIED:20190807T003000
LOCATION:Standard Park - Court 2 - Furthest From the Road\, 1450-1530 Cliffe Ave\, Courtenay\, BC V9N\, Canada
GEO:49.68625102398914;-124.99253111875612
END:VEVENT
BEGIN:VEVENT
UID:14031
DTSTAMP;TZID=America/Vancouver:20190813T195000
DTSTART;TZID=America/Vancouver:20190813T195000
DTEND;TZID=America/Vancouver:20190813T210000
SUMMARY:Scared Hitless 1 vertically challenged 3
DESCRIPTION:7th Place: Losers SF#3 vs. SF#4
STATUS:CONFIRMED
LAST-MODIFIED:20190814T025000
LOCATION:Standard Park - Court 2 - Furthest From the Road\, 1450-1530 Cliffe Ave\, Courtenay\, BC V9N\, Canada
GEO:49.68625102398914;-124.99253111875612
END:VEVENT
END:VCALENDAR