BEGIN:VCALENDAR
VERSION:2.0
PRODID:-//SCVSSC//EN
CALSCALE:GREGORIAN
METHOD:PUBLISH
URL:https://comoxvalleysports.ca/calendar/two-bump-chumps-calendar/?feed=cvssc-calendar-ical
X-FROM-URL:https://comoxvalleysports.ca/calendar/two-bump-chumps-calendar/?feed=cvssc-calendar-ical
NAME:Two Bump Chumps Calendar
X-WR-CALNAME:Two Bump Chumps Calendar
DESCRIPTION:Two Bump Chumps Calendar
X-WR-CALDESC:Two Bump Chumps Calendar
REFRESH-INTERVAL;VALUE=DURATION:PT2M
X-PUBLISHED-TTL:PT2M
TZID:America/Vancouver
X-WR-TIMEZONE:America/Vancouver
BEGIN:VTIMEZONE
TZID:America/Vancouver
X-LIC-LOCATION:America/Vancouver
BEGIN:DAYLIGHT
TZOFFSETFROM:-0800
TZOFFSETTO:-0700
TZNAME:PDT
DTSTART:19700308T020000
RRULE:FREQ=YEARLY;BYMONTH=3;BYDAY=2SU
END:DAYLIGHT
BEGIN:STANDARD
TZOFFSETFROM:-0700
TZOFFSETTO:-0800
TZNAME:PST
DTSTART:19701101T020000
RRULE:FREQ=YEARLY;BYMONTH=11;BYDAY=1SU
END:STANDARD
END:VTIMEZONE
BEGIN:VEVENT
UID:12176
DTSTAMP;TZID=America/Vancouver:20190416T173000
DTSTART;TZID=America/Vancouver:20190416T173000
DTEND;TZID=America/Vancouver:20190416T181500
SUMMARY:Balls 0 Two Bump Chumps 2
DESCRIPTION:
STATUS:CONFIRMED
LAST-MODIFIED:20190408T232100
LOCATION:Standard Park - Court 2 - Furthest From the Road\, 1450-1530 Cliffe Ave\, Courtenay\, BC V9N\, Canada
GEO:49.68625102398914;-124.99253111875612
END:VEVENT
BEGIN:VEVENT
UID:12177
DTSTAMP;TZID=America/Vancouver:20190416T181500
DTSTART;TZID=America/Vancouver:20190416T181500
DTEND;TZID=America/Vancouver:20190416T190000
SUMMARY:Orville Set&#8217\;n&#8217\;blocker 2 Two Bump Chumps 0
DESCRIPTION:
STATUS:CONFIRMED
LAST-MODIFIED:20190408T232200
LOCATION:Standard Park - Court 1 - Closest to the Road\, 1450-1530 Cliffe Ave\, Courtenay\, BC V9N\, Canada
GEO:49.686237141457475;-124.99255257642824
END:VEVENT
BEGIN:VEVENT
UID:12261
DTSTAMP;TZID=America/Vancouver:20190423T235900
DTSTART;TZID=America/Vancouver:20190423T235900
DTEND;TZID=America/Vancouver:20190423T235900
SUMMARY:Two Bump Chumps - BYE WEEK. NO GAME.
DESCRIPTION:
STATUS:CONFIRMED
LAST-MODIFIED:20190424T065900
GEO:49.686237141457475;-124.99255257642824
END:VEVENT
BEGIN:VEVENT
UID:12271
DTSTAMP;TZID=America/Vancouver:20190430T190000
DTSTART;TZID=America/Vancouver:20190430T190000
DTEND;TZID=America/Vancouver:20190430T194500
SUMMARY:Two Bump Chumps 0 Scared Hitless 2
DESCRIPTION:
STATUS:CONFIRMED
LAST-MODIFIED:20190501T020000
LOCATION:Standard Park - Court 2 - Furthest From the Road\, 1450-1530 Cliffe Ave\, Courtenay\, BC V9N\, Canada
GEO:49.68625102398914;-124.99253111875612
END:VEVENT
BEGIN:VEVENT
UID:12273
DTSTAMP;TZID=America/Vancouver:20190430T194500
DTSTART;TZID=America/Vancouver:20190430T194500
DTEND;TZID=America/Vancouver:20190430T203000
SUMMARY:Two Bump Chumps 0 No sets for you! 2
DESCRIPTION:
STATUS:CONFIRMED
LAST-MODIFIED:20190501T024500
LOCATION:Standard Park - Court 2 - Furthest From the Road\, 1450-1530 Cliffe Ave\, Courtenay\, BC V9N\, Canada
GEO:49.68625102398914;-124.99253111875612
END:VEVENT
BEGIN:VEVENT
UID:12279
DTSTAMP;TZID=America/Vancouver:20190507T173000
DTSTART;TZID=America/Vancouver:20190507T173000
DTEND;TZID=America/Vancouver:20190507T184000
SUMMARY:These here spiders 3 Two Bump Chumps 0
DESCRIPTION:*Best of 5 - Time permitting. 
STATUS:CONFIRMED
LAST-MODIFIED:20190508T003000
LOCATION:Standard Park - Court 2 - Furthest From the Road\, 1450-1530 Cliffe Ave\, Courtenay\, BC V9N\, Canada
GEO:49.68625102398914;-124.99253111875612
END:VEVENT
BEGIN:VEVENT
UID:12736
DTSTAMP;TZID=America/Vancouver:20190514T173000
DTSTART;TZID=America/Vancouver:20190514T173000
DTEND;TZID=America/Vancouver:20190514T181000
SUMMARY:Two Bump Chumps 0 Beach Better Have My Sunny 2
DESCRIPTION:
STATUS:CONFIRMED
LAST-MODIFIED:20190515T003000
LOCATION:Standard Park - Court 2 - Furthest From the Road\, 1450-1530 Cliffe Ave\, Courtenay\, BC V9N\, Canada
GEO:49.68625102398914;-124.99253111875612
END:VEVENT
BEGIN:VEVENT
UID:12738
DTSTAMP;TZID=America/Vancouver:20190514T181000
DTSTART;TZID=America/Vancouver:20190514T181000
DTEND;TZID=America/Vancouver:20190514T185000
SUMMARY:Two Bump Chumps 0 S*M*A*S*H 2
DESCRIPTION:
STATUS:CONFIRMED
LAST-MODIFIED:20190515T011000
LOCATION:Standard Park - Court 2 - Furthest From the Road\, 1450-1530 Cliffe Ave\, Courtenay\, BC V9N\, Canada
GEO:49.68625102398914;-124.99253111875612
END:VEVENT
BEGIN:VEVENT
UID:12752
DTSTAMP;TZID=America/Vancouver:20190521T185000
DTSTART;TZID=America/Vancouver:20190521T185000
DTEND;TZID=America/Vancouver:20190521T193000
SUMMARY:Sonava Beach 2 Two Bump Chumps 0
DESCRIPTION:
STATUS:CONFIRMED
LAST-MODIFIED:20190522T015000
LOCATION:Standard Park - Court 2 - Furthest From the Road\, 1450-1530 Cliffe Ave\, Courtenay\, BC V9N\, Canada
GEO:49.68625102398914;-124.99253111875612
END:VEVENT
BEGIN:VEVENT
UID:12753
DTSTAMP;TZID=America/Vancouver:20190521T193000
DTSTART;TZID=America/Vancouver:20190521T193000
DTEND;TZID=America/Vancouver:20190521T201000
SUMMARY:Animal kingdom 2 Two Bump Chumps 0
DESCRIPTION:
STATUS:CONFIRMED
LAST-MODIFIED:20190522T023000
LOCATION:Standard Park - Court 1 - Closest to the Road\, 1450-1530 Cliffe Ave\, Courtenay\, BC V9N\, Canada
GEO:49.686237141457475;-124.99255257642824
END:VEVENT
BEGIN:VEVENT
UID:12764
DTSTAMP;TZID=America/Vancouver:20190528T185000
DTSTART;TZID=America/Vancouver:20190528T185000
DTEND;TZID=America/Vancouver:20190528T193000
SUMMARY:We always get it up 2 Two Bump Chumps 0
DESCRIPTION:
STATUS:CONFIRMED
LAST-MODIFIED:20190529T015000
LOCATION:Standard Park - Court 2 - Furthest From the Road\, 1450-1530 Cliffe Ave\, Courtenay\, BC V9N\, Canada
GEO:49.68625102398914;-124.99253111875612
END:VEVENT
BEGIN:VEVENT
UID:12765
DTSTAMP;TZID=America/Vancouver:20190528T193000
DTSTART;TZID=America/Vancouver:20190528T193000
DTEND;TZID=America/Vancouver:20190528T201000
SUMMARY:Sloppy Sets 2 Two Bump Chumps 0
DESCRIPTION:
STATUS:CONFIRMED
LAST-MODIFIED:20190529T023000
LOCATION:Standard Park - Court 1 - Closest to the Road\, 1450-1530 Cliffe Ave\, Courtenay\, BC V9N\, Canada
GEO:49.686237141457475;-124.99255257642824
END:VEVENT
BEGIN:VEVENT
UID:12873
DTSTAMP;TZID=America/Vancouver:20190604T185000
DTSTART;TZID=America/Vancouver:20190604T185000
DTEND;TZID=America/Vancouver:20190604T201000
SUMMARY:Sloppy Sets 3 Two Bump Chumps 0
DESCRIPTION:SF#5: Seeds 10 vs. 11
STATUS:CONFIRMED
LAST-MODIFIED:20190529T201500
LOCATION:Standard Park - Court 2 - Furthest From the Road\, 1450-1530 Cliffe Ave\, Courtenay\, BC V9N\, Canada
GEO:49.68625102398914;-124.99253111875612
END:VEVENT
BEGIN:VEVENT
UID:12970
DTSTAMP;TZID=America/Vancouver:20190611T173000
DTSTART;TZID=America/Vancouver:20190611T173000
DTEND;TZID=America/Vancouver:20190611T185000
SUMMARY:Balls 3 Two Bump Chumps 1
DESCRIPTION:11th Place: Losers SF#5 vs. SF#6
Best-of-5
STATUS:CONFIRMED
LAST-MODIFIED:20190612T003000
LOCATION:Standard Park - Court 2 - Furthest From the Road\, 1450-1530 Cliffe Ave\, Courtenay\, BC V9N\, Canada
GEO:49.68625102398914;-124.99253111875612
END:VEVENT
END:VCALENDAR