BEGIN:VCALENDAR
VERSION:2.0
PRODID:-//SCVSSC//EN
CALSCALE:GREGORIAN
METHOD:PUBLISH
URL:https://comoxvalleysports.ca/calendar/tweedledees-calendar/?feed=cvssc-calendar-ical
X-FROM-URL:https://comoxvalleysports.ca/calendar/tweedledees-calendar/?feed=cvssc-calendar-ical
NAME:Tweedledees Calendar
X-WR-CALNAME:Tweedledees Calendar
DESCRIPTION:Tweedledees Calendar
X-WR-CALDESC:Tweedledees Calendar
REFRESH-INTERVAL;VALUE=DURATION:PT2M
X-PUBLISHED-TTL:PT2M
TZID:America/Vancouver
X-WR-TIMEZONE:America/Vancouver
BEGIN:VTIMEZONE
TZID:America/Vancouver
X-LIC-LOCATION:America/Vancouver
BEGIN:DAYLIGHT
TZOFFSETFROM:-0800
TZOFFSETTO:-0700
TZNAME:PDT
DTSTART:19700308T020000
RRULE:FREQ=YEARLY;BYMONTH=3;BYDAY=2SU
END:DAYLIGHT
BEGIN:STANDARD
TZOFFSETFROM:-0700
TZOFFSETTO:-0800
TZNAME:PST
DTSTART:19701101T020000
RRULE:FREQ=YEARLY;BYMONTH=11;BYDAY=1SU
END:STANDARD
END:VTIMEZONE
BEGIN:VEVENT
UID:52204
DTSTAMP;TZID=America/Vancouver:20260107T194500
DTSTART;TZID=America/Vancouver:20260107T194500
DTEND;TZID=America/Vancouver:20260107T204500
SUMMARY:Rumspringa 12 Tweedledees 7
DESCRIPTION:
STATUS:CONFIRMED
LAST-MODIFIED:20260108T034500
LOCATION:Cumberland Jr - Court 2\, 2674 Windemere Ave\, Cumberland\, BC V0R\, Canada
GEO:49.62112036211578;-125.03315414550781
END:VEVENT
BEGIN:VEVENT
UID:52206
DTSTAMP;TZID=America/Vancouver:20260114T184500
DTSTART;TZID=America/Vancouver:20260114T184500
DTEND;TZID=America/Vancouver:20260114T194500
SUMMARY:Tweedledees 7 DodgeFathers 6
DESCRIPTION:
STATUS:CONFIRMED
LAST-MODIFIED:20260115T024500
LOCATION:Cumberland Jr - Court 2\, 2674 Windemere Ave\, Cumberland\, BC V0R\, Canada
GEO:49.62112036211578;-125.03315414550781
END:VEVENT
BEGIN:VEVENT
UID:52208
DTSTAMP;TZID=America/Vancouver:20260121T184500
DTSTART;TZID=America/Vancouver:20260121T184500
DTEND;TZID=America/Vancouver:20260121T194500
SUMMARY:Tweedledees 5 Piggy Back Attack 12
DESCRIPTION:
STATUS:CONFIRMED
LAST-MODIFIED:20260122T024500
LOCATION:Cumberland Jr - Court 1\, 2674 Windemere Ave\, Cumberland\, BC V0R\, Canada
GEO:49.62114293423199;-125.03311143224335
END:VEVENT
BEGIN:VEVENT
UID:52211
DTSTAMP;TZID=America/Vancouver:20260128T184500
DTSTART;TZID=America/Vancouver:20260128T184500
DTEND;TZID=America/Vancouver:20260128T194500
SUMMARY:Tweedledees 6 Tweedledums 11
DESCRIPTION:
STATUS:CONFIRMED
LAST-MODIFIED:20260129T024500
LOCATION:Cumberland Jr - Court 1\, 2674 Windemere Ave\, Cumberland\, BC V0R\, Canada
GEO:49.62114293423199;-125.03311143224335
END:VEVENT
BEGIN:VEVENT
UID:52215
DTSTAMP;TZID=America/Vancouver:20260204T184500
DTSTART;TZID=America/Vancouver:20260204T184500
DTEND;TZID=America/Vancouver:20260204T194500
SUMMARY:Tweedledees 15 The NOBL Wheelers 5
DESCRIPTION:
STATUS:CONFIRMED
LAST-MODIFIED:20260205T024500
LOCATION:Cumberland Jr - Court 2\, 2674 Windemere Ave\, Cumberland\, BC V0R\, Canada
GEO:49.62112036211578;-125.03315414550781
END:VEVENT
BEGIN:VEVENT
UID:52966
DTSTAMP;TZID=America/Vancouver:20260211T194500
DTSTART;TZID=America/Vancouver:20260211T194500
DTEND;TZID=America/Vancouver:20260211T204500
SUMMARY:Tweedledums 2 Tweedledees 12
DESCRIPTION:QF#3: Seeds 3 vs. 4
STATUS:CONFIRMED
LAST-MODIFIED:20260212T034500
LOCATION:Cumberland Jr - Court 2\, 2674 Windemere Ave\, Cumberland\, BC V0R\, Canada
GEO:49.62112036211578;-125.03315414550781
END:VEVENT
BEGIN:VEVENT
UID:53000
DTSTAMP;TZID=America/Vancouver:20260218T184500
DTSTART;TZID=America/Vancouver:20260218T184500
DTEND;TZID=America/Vancouver:20260218T194500
SUMMARY:Piggy Back Attack 9 Tweedledees 8
DESCRIPTION:SF#2: Winners QF#2 vs. QF#3
STATUS:CONFIRMED
LAST-MODIFIED:20260219T024500
LOCATION:Cumberland Jr - Court 1\, 2674 Windemere Ave\, Cumberland\, BC V0R\, Canada
GEO:49.62114293423199;-125.03311143224335
END:VEVENT
BEGIN:VEVENT
UID:53099
DTSTAMP;TZID=America/Vancouver:20260225T184500
DTSTART;TZID=America/Vancouver:20260225T184500
DTEND;TZID=America/Vancouver:20260225T194500
SUMMARY:DodgeFathers 3 Tweedledees 13
DESCRIPTION:3rd Place Game
STATUS:CONFIRMED
LAST-MODIFIED:20260226T024500
LOCATION:Cumberland Jr - Court 2\, 2674 Windemere Ave\, Cumberland\, BC V0R\, Canada
GEO:49.62112036211578;-125.03315414550781
END:VEVENT
END:VCALENDAR