BEGIN:VCALENDAR
VERSION:2.0
PRODID:-//SCVSSC//EN
CALSCALE:GREGORIAN
METHOD:PUBLISH
URL:https://comoxvalleysports.ca/calendar/tropics-calendar/?feed=cvssc-calendar-ical
X-FROM-URL:https://comoxvalleysports.ca/calendar/tropics-calendar/?feed=cvssc-calendar-ical
NAME:Tropics Calendar
X-WR-CALNAME:Tropics Calendar
DESCRIPTION:Tropics Calendar
X-WR-CALDESC:Tropics Calendar
REFRESH-INTERVAL;VALUE=DURATION:PT2M
X-PUBLISHED-TTL:PT2M
TZID:America/Vancouver
X-WR-TIMEZONE:America/Vancouver
BEGIN:VTIMEZONE
TZID:America/Vancouver
X-LIC-LOCATION:America/Vancouver
BEGIN:DAYLIGHT
TZOFFSETFROM:-0800
TZOFFSETTO:-0700
TZNAME:PDT
DTSTART:19700308T020000
RRULE:FREQ=YEARLY;BYMONTH=3;BYDAY=2SU
END:DAYLIGHT
BEGIN:STANDARD
TZOFFSETFROM:-0700
TZOFFSETTO:-0800
TZNAME:PST
DTSTART:19701101T020000
RRULE:FREQ=YEARLY;BYMONTH=11;BYDAY=1SU
END:STANDARD
END:VTIMEZONE
BEGIN:VEVENT
UID:14826
DTSTAMP;TZID=America/Vancouver:20190927T200000
DTSTART;TZID=America/Vancouver:20190927T200000
DTEND;TZID=America/Vancouver:20190927T210000
SUMMARY:That 70s team 61 Tropics 70
DESCRIPTION:
STATUS:CONFIRMED
LAST-MODIFIED:20190928T030000
LOCATION:19 Wing Gym - Gym Entrance Side\, 1575 Military Row\, Comox\, BC V9M 4H2\, Canada
GEO:49.71217159999999;-124.90964311163941
END:VEVENT
BEGIN:VEVENT
UID:14829
DTSTAMP;TZID=America/Vancouver:20191004T190000
DTSTART;TZID=America/Vancouver:20191004T190000
DTEND;TZID=America/Vancouver:20191004T200000
SUMMARY:Tropics 64 Holy Shot! 69
DESCRIPTION:
STATUS:CONFIRMED
LAST-MODIFIED:20191005T020000
LOCATION:19 Wing Gym - Storage Side\, 1575 Military Row\, Comox\, BC V9M 4H2\, Canada
GEO:49.7121716;-124.90975040000001
END:VEVENT
BEGIN:VEVENT
UID:14834
DTSTAMP;TZID=America/Vancouver:20191011T200000
DTSTART;TZID=America/Vancouver:20191011T200000
DTEND;TZID=America/Vancouver:20191011T210000
SUMMARY:Tropics 47 The 3 &amp\; Ds 47
DESCRIPTION:
STATUS:CONFIRMED
LAST-MODIFIED:20190923T190900
LOCATION:19 Wing Gym - Gym Entrance Side\, 1575 Military Row\, Comox\, BC V9M 4H2\, Canada
GEO:49.71217159999999;-124.90964311163941
END:VEVENT
BEGIN:VEVENT
UID:15066
DTSTAMP;TZID=America/Vancouver:20191018T190000
DTSTART;TZID=America/Vancouver:20191018T190000
DTEND;TZID=America/Vancouver:20191018T200000
SUMMARY:Tropics 43 Raiders 73
DESCRIPTION:
STATUS:CONFIRMED
LAST-MODIFIED:20191105T000100
LOCATION:19 Wing Gym - Storage Side\, 1575 Military Row\, Comox\, BC V9M 4H2\, Canada
GEO:49.7121716;-124.90975040000001
END:VEVENT
BEGIN:VEVENT
UID:15069
DTSTAMP;TZID=America/Vancouver:20191025T190000
DTSTART;TZID=America/Vancouver:20191025T190000
DTEND;TZID=America/Vancouver:20191025T200000
SUMMARY:Rimming Me Softly 105 Tropics 63
DESCRIPTION:
STATUS:CONFIRMED
LAST-MODIFIED:20191105T000200
LOCATION:19 Wing Gym - Gym Entrance Side\, 1575 Military Row\, Comox\, BC V9M 4H2\, Canada
GEO:49.71217159999999;-124.90964311163941
END:VEVENT
BEGIN:VEVENT
UID:15075
DTSTAMP;TZID=America/Vancouver:20191101T200000
DTSTART;TZID=America/Vancouver:20191101T200000
DTEND;TZID=America/Vancouver:20191101T210000
SUMMARY:Tropics 70 Fear the Deer 65
DESCRIPTION:
STATUS:CONFIRMED
LAST-MODIFIED:20191105T000300
LOCATION:19 Wing Gym - Gym Entrance Side\, 1575 Military Row\, Comox\, BC V9M 4H2\, Canada
GEO:49.71217159999999;-124.90964311163941
END:VEVENT
BEGIN:VEVENT
UID:15185
DTSTAMP;TZID=America/Vancouver:20191108T200000
DTSTART;TZID=America/Vancouver:20191108T200000
DTEND;TZID=America/Vancouver:20191108T205500
SUMMARY:Tropics 75 Fear the Deer 81
DESCRIPTION:SF#3: Seeds 5 vs. 8
STATUS:CONFIRMED
LAST-MODIFIED:20191109T040000
LOCATION:19 Wing Gym - Storage Side\, 1575 Military Row\, Comox\, BC V9M 4H2\, Canada
GEO:49.7121716;-124.90975040000001
END:VEVENT
BEGIN:VEVENT
UID:15242
DTSTAMP;TZID=America/Vancouver:20191115T200000
DTSTART;TZID=America/Vancouver:20191115T200000
DTEND;TZID=America/Vancouver:20191115T205500
SUMMARY:Tropics 77 That 70s team 73
DESCRIPTION:7th Place: Losers SF#3 vs. SF#4
STATUS:CONFIRMED
LAST-MODIFIED:20191116T040000
LOCATION:19 Wing Gym - Gym Entrance Side\, 1575 Military Row\, Comox\, BC V9M 4H2\, Canada
GEO:49.71217159999999;-124.90964311163941
END:VEVENT
BEGIN:VEVENT
UID:15802
DTSTAMP;TZID=America/Vancouver:20200117T200000
DTSTART;TZID=America/Vancouver:20200117T200000
DTEND;TZID=America/Vancouver:20200117T210000
SUMMARY:The big L 0 Tropics 30
DESCRIPTION:
STATUS:CONFIRMED
LAST-MODIFIED:20200118T040000
LOCATION:19 Wing Gym - Gym Entrance Side\, 1575 Military Row\, Comox\, BC V9M 4H2\, Canada
GEO:49.71217159999999;-124.90964311163941
END:VEVENT
BEGIN:VEVENT
UID:15848
DTSTAMP;TZID=America/Vancouver:20200124T190000
DTSTART;TZID=America/Vancouver:20200124T190000
DTEND;TZID=America/Vancouver:20200124T200000
SUMMARY:Rimming Me Softly 97 Tropics 66
DESCRIPTION:
STATUS:CONFIRMED
LAST-MODIFIED:20200224T235700
LOCATION:19 Wing Gym - Gym Entrance Side\, 1575 Military Row\, Comox\, BC V9M 4H2\, Canada
GEO:49.71217159999999;-124.90964311163941
END:VEVENT
BEGIN:VEVENT
UID:15860
DTSTAMP;TZID=America/Vancouver:20200131T200000
DTSTART;TZID=America/Vancouver:20200131T200000
DTEND;TZID=America/Vancouver:20200131T210000
SUMMARY:Avid Ballers 82 Tropics 69
DESCRIPTION:
STATUS:CONFIRMED
LAST-MODIFIED:20200201T040000
LOCATION:19 Wing Gym - Storage Side\, 1575 Military Row\, Comox\, BC V9M 4H2\, Canada
GEO:49.7121716;-124.90975040000001
END:VEVENT
BEGIN:VEVENT
UID:15866
DTSTAMP;TZID=America/Vancouver:20200207T235900
DTSTART;TZID=America/Vancouver:20200207T235900
DTEND;TZID=America/Vancouver:20200207T235900
SUMMARY:Tropics - BYE WEEK. NO GAME.
DESCRIPTION:
STATUS:CONFIRMED
LAST-MODIFIED:20200208T075900
GEO:49.7121716;-124.90975040000001
END:VEVENT
BEGIN:VEVENT
UID:15868
DTSTAMP;TZID=America/Vancouver:20200214T190000
DTSTART;TZID=America/Vancouver:20200214T190000
DTEND;TZID=America/Vancouver:20200214T200000
SUMMARY:FRIDAY CLUB&#8211\;PHENOM 100 Tropics 101
DESCRIPTION:
STATUS:CONFIRMED
LAST-MODIFIED:20200215T030000
LOCATION:19 Wing Gym - Storage Side\, 1575 Military Row\, Comox\, BC V9M 4H2\, Canada
GEO:49.7121716;-124.90975040000001
END:VEVENT
BEGIN:VEVENT
UID:15876
DTSTAMP;TZID=America/Vancouver:20200221T200000
DTSTART;TZID=America/Vancouver:20200221T200000
DTEND;TZID=America/Vancouver:20200221T210000
SUMMARY:Tropics 57 Royston Rockets 60
DESCRIPTION:
STATUS:CONFIRMED
LAST-MODIFIED:20200222T040000
LOCATION:19 Wing Gym - Storage Side\, 1575 Military Row\, Comox\, BC V9M 4H2\, Canada
GEO:49.7121716;-124.90975040000001
END:VEVENT
BEGIN:VEVENT
UID:15879
DTSTAMP;TZID=America/Vancouver:20200228T190000
DTSTART;TZID=America/Vancouver:20200228T190000
DTEND;TZID=America/Vancouver:20200228T200000
SUMMARY:Tropics 73 Fear the Deer 72
DESCRIPTION:
STATUS:CONFIRMED
LAST-MODIFIED:20200229T030000
LOCATION:19 Wing Gym - Storage Side\, 1575 Military Row\, Comox\, BC V9M 4H2\, Canada
GEO:49.7121716;-124.90975040000001
END:VEVENT
BEGIN:VEVENT
UID:16293
DTSTAMP;TZID=America/Vancouver:20200306T200000
DTSTART;TZID=America/Vancouver:20200306T200000
DTEND;TZID=America/Vancouver:20200306T205500
SUMMARY:Tropics 49 Tune Squad 51
DESCRIPTION:SF#3: Seeds 5 vs. 8 *Loser of SF#3 sticks around to play double-header against Fear the Deer.
STATUS:CONFIRMED
LAST-MODIFIED:20200304T192900
LOCATION:19 Wing Gym - Gym Entrance Side\, 1575 Military Row\, Comox\, BC V9M 4H2\, Canada
GEO:49.71217159999999;-124.90964311163941
END:VEVENT
BEGIN:VEVENT
UID:16295
DTSTAMP;TZID=America/Vancouver:20200306T210000
DTSTART;TZID=America/Vancouver:20200306T210000
DTEND;TZID=America/Vancouver:20200306T215500
SUMMARY:Fear the Deer 81 Tropics 73
DESCRIPTION:SF#5: Seed 9 vs. Loser SF#3
STATUS:CONFIRMED
LAST-MODIFIED:20200307T160400
LOCATION:19 Wing Gym - Gym Entrance Side\, 1575 Military Row\, Comox\, BC V9M 4H2\, Canada
GEO:49.71217159999999;-124.90964311163941
END:VEVENT
BEGIN:VEVENT
UID:16372
DTSTAMP;TZID=America/Vancouver:20200313T190000
DTSTART;TZID=America/Vancouver:20200313T190000
DTEND;TZID=America/Vancouver:20200313T195500
SUMMARY:Tropics 39 The big L 72
DESCRIPTION:9th Place Game: Losers SF#4 vs. Loser SF#5 (Loser of this game finishes 9th. Winner stays for double-header to finish as high as 7th).
STATUS:CONFIRMED
LAST-MODIFIED:20200314T020000
LOCATION:19 Wing Gym - Gym Entrance Side\, 1575 Military Row\, Comox\, BC V9M 4H2\, Canada
GEO:49.71217159999999;-124.90964311163941
END:VEVENT
END:VCALENDAR