BEGIN:VCALENDAR
VERSION:2.0
PRODID:-//SCVSSC//EN
CALSCALE:GREGORIAN
METHOD:PUBLISH
URL:https://comoxvalleysports.ca/calendar/titans-calendar/?feed=cvssc-calendar-ical
X-FROM-URL:https://comoxvalleysports.ca/calendar/titans-calendar/?feed=cvssc-calendar-ical
NAME:Titans Calendar
X-WR-CALNAME:Titans Calendar
DESCRIPTION:Titans Calendar
X-WR-CALDESC:Titans Calendar
REFRESH-INTERVAL;VALUE=DURATION:PT2M
X-PUBLISHED-TTL:PT2M
TZID:America/Vancouver
X-WR-TIMEZONE:America/Vancouver
BEGIN:VTIMEZONE
TZID:America/Vancouver
X-LIC-LOCATION:America/Vancouver
BEGIN:DAYLIGHT
TZOFFSETFROM:-0800
TZOFFSETTO:-0700
TZNAME:PDT
DTSTART:19700308T020000
RRULE:FREQ=YEARLY;BYMONTH=3;BYDAY=2SU
END:DAYLIGHT
BEGIN:STANDARD
TZOFFSETFROM:-0700
TZOFFSETTO:-0800
TZNAME:PST
DTSTART:19701101T020000
RRULE:FREQ=YEARLY;BYMONTH=11;BYDAY=1SU
END:STANDARD
END:VTIMEZONE
BEGIN:VEVENT
UID:23784
DTSTAMP;TZID=America/Vancouver:20211007T214500
DTSTART;TZID=America/Vancouver:20211007T214500
DTEND;TZID=America/Vancouver:20211007T230000
SUMMARY:Westview Wolves 2 Whistle Stop Railers 5
DESCRIPTION:
STATUS:CONFIRMED
LAST-MODIFIED:20211008T210600
LOCATION:Comox Valley Sports Centre - Arena 2\, 3001 Vanier Dr\, Courtenay\, BC V9N 5Y2\, Canada
GEO:49.7110735;-125.0005839
END:VEVENT
BEGIN:VEVENT
UID:23791
DTSTAMP;TZID=America/Vancouver:20211017T183000
DTSTART;TZID=America/Vancouver:20211017T183000
DTEND;TZID=America/Vancouver:20211017T194500
SUMMARY:Lucky Loggers 2 Whistle Stop Railers 6
DESCRIPTION:
STATUS:CONFIRMED
LAST-MODIFIED:20211018T224300
LOCATION:Glacier Gardens Arena 1\, 1399 Military Row\, Comox\, BC V9M 4H2\, Canada
GEO:49.7086512;-124.9098752
END:VEVENT
BEGIN:VEVENT
UID:23806
DTSTAMP;TZID=America/Vancouver:20211028T220000
DTSTART;TZID=America/Vancouver:20211028T220000
DTEND;TZID=America/Vancouver:20211028T231500
SUMMARY:Whalers 2 Whistle Stop Railers 4
DESCRIPTION:
STATUS:CONFIRMED
LAST-MODIFIED:20211101T205600
LOCATION:Glacier Gardens Arena 1\, 1399 Military Row\, Comox\, BC V9M 4H2\, Canada
GEO:49.7086512;-124.9098752
END:VEVENT
BEGIN:VEVENT
UID:23797
DTSTAMP;TZID=America/Vancouver:20211105T190000
DTSTART;TZID=America/Vancouver:20211105T190000
DTEND;TZID=America/Vancouver:20211105T201500
SUMMARY:Tigersharks 2 Whistle Stop Railers 8
DESCRIPTION:*Game from Sunday, Oct. 24 cancelled due to Power Outage at GG. Game re-scheduled to Friday, Nov. 5 at SC1 with both teams' permission. 
STATUS:CONFIRMED
LAST-MODIFIED:20211108T235600
LOCATION:Comox Valley Sports Centre - Arena 1\, 3001 Vanier Dr\, Courtenay\, BC V9N 5Y2\, Canada
GEO:49.7110735;-125.0005839
END:VEVENT
BEGIN:VEVENT
UID:23814
DTSTAMP;TZID=America/Vancouver:20211107T213000
DTSTART;TZID=America/Vancouver:20211107T213000
DTEND;TZID=America/Vancouver:20211107T224500
SUMMARY:Golden Eagles 2 Whistle Stop Railers 9
DESCRIPTION:
STATUS:CONFIRMED
LAST-MODIFIED:20211108T233000
LOCATION:Glacier Gardens Arena 1\, 1399 Military Row\, Comox\, BC V9M 4H2\, Canada
GEO:49.7086512;-124.9098752
END:VEVENT
BEGIN:VEVENT
UID:23819
DTSTAMP;TZID=America/Vancouver:20211111T190000
DTSTART;TZID=America/Vancouver:20211111T190000
DTEND;TZID=America/Vancouver:20211111T201500
SUMMARY:Whistle Stop Railers 2 Comox Bombers 2
DESCRIPTION:
STATUS:CONFIRMED
LAST-MODIFIED:20211117T220900
LOCATION:Comox Valley Sports Centre - Arena 2\, 3001 Vanier Dr\, Courtenay\, BC V9N 5Y2\, Canada
GEO:49.7110735;-125.0005839
END:VEVENT
BEGIN:VEVENT
UID:24364
DTSTAMP;TZID=America/Vancouver:20211121T183000
DTSTART;TZID=America/Vancouver:20211121T183000
DTEND;TZID=America/Vancouver:20211121T194500
SUMMARY:Badgers 3 Whistle Stop Railers 1
DESCRIPTION:
STATUS:CONFIRMED
LAST-MODIFIED:20211122T195100
LOCATION:Glacier Gardens Arena 1\, 1399 Military Row\, Comox\, BC V9M 4H2\, Canada
GEO:49.7086512;-124.9098752
END:VEVENT
BEGIN:VEVENT
UID:24367
DTSTAMP;TZID=America/Vancouver:20211125T214500
DTSTART;TZID=America/Vancouver:20211125T214500
DTEND;TZID=America/Vancouver:20211125T230000
SUMMARY:Dump Bears 2 Whistle Stop Railers 5
DESCRIPTION:
STATUS:CONFIRMED
LAST-MODIFIED:20211129T202700
LOCATION:Comox Valley Sports Centre - Arena 2\, 3001 Vanier Dr\, Courtenay\, BC V9N 5Y2\, Canada
GEO:49.7110735;-125.0005839
END:VEVENT
BEGIN:VEVENT
UID:24919
DTSTAMP;TZID=America/Vancouver:20211209T214500
DTSTART;TZID=America/Vancouver:20211209T214500
DTEND;TZID=America/Vancouver:20211209T230000
SUMMARY:Badgers 3 Whistle Stop Railers 2
DESCRIPTION:SF#2: Church Seed #2 vs. Gladstone Seed #1
STATUS:CONFIRMED
LAST-MODIFIED:20211210T174700
LOCATION:Comox Valley Sports Centre - Arena 2\, 3001 Vanier Dr\, Courtenay\, BC V9N 5Y2\, Canada
GEO:49.7110735;-125.0005839
END:VEVENT
BEGIN:VEVENT
UID:25078
DTSTAMP;TZID=America/Vancouver:20211216T214500
DTSTART;TZID=America/Vancouver:20211216T214500
DTEND;TZID=America/Vancouver:20211216T230000
SUMMARY:Whistle Stop Railers 4 Dump Bears 7
DESCRIPTION:3rd Place Game: Losers SF#1 vs. SF#2
STATUS:CONFIRMED
LAST-MODIFIED:20211217T190700
LOCATION:Comox Valley Sports Centre - Arena 2\, 3001 Vanier Dr\, Courtenay\, BC V9N 5Y2\, Canada
GEO:49.7110735;-125.0005839
END:VEVENT
BEGIN:VEVENT
UID:25318
DTSTAMP;TZID=America/Vancouver:20220113T190000
DTSTART;TZID=America/Vancouver:20220113T190000
DTEND;TZID=America/Vancouver:20220113T201500
SUMMARY:Westview Wolves 5 Whistle Stop Railers 4
DESCRIPTION:
STATUS:CONFIRMED
LAST-MODIFIED:20220114T230800
LOCATION:Glacier Gardens Arena 1\, 1399 Military Row\, Comox\, BC V9M 4H2\, Canada
GEO:49.7086512;-124.9098752
END:VEVENT
BEGIN:VEVENT
UID:25321
DTSTAMP;TZID=America/Vancouver:20220116T213000
DTSTART;TZID=America/Vancouver:20220116T213000
DTEND;TZID=America/Vancouver:20220116T224500
SUMMARY:Whistle Stop Railers 5 Whalers 1
DESCRIPTION:
STATUS:CONFIRMED
LAST-MODIFIED:20220118T203700
LOCATION:Glacier Gardens Arena 1\, 1399 Military Row\, Comox\, BC V9M 4H2\, Canada
GEO:49.7086512;-124.9098752
END:VEVENT
BEGIN:VEVENT
UID:25324
DTSTAMP;TZID=America/Vancouver:20220120T190000
DTSTART;TZID=America/Vancouver:20220120T190000
DTEND;TZID=America/Vancouver:20220120T201500
SUMMARY:Whistle Stop Railers 2 Silver Totems 1
DESCRIPTION:
STATUS:CONFIRMED
LAST-MODIFIED:20220121T191400
LOCATION:Glacier Gardens Arena 1\, 1399 Military Row\, Comox\, BC V9M 4H2\, Canada
GEO:49.7086512;-124.9098752
END:VEVENT
BEGIN:VEVENT
UID:25405
DTSTAMP;TZID=America/Vancouver:20220127T214500
DTSTART;TZID=America/Vancouver:20220127T214500
DTEND;TZID=America/Vancouver:20220127T230000
SUMMARY:Dump Bears 7 Whistle Stop Railers 4
DESCRIPTION:
STATUS:CONFIRMED
LAST-MODIFIED:20220128T184200
LOCATION:Comox Valley Sports Centre - Arena 2\, 3001 Vanier Dr\, Courtenay\, BC V9N 5Y2\, Canada
GEO:49.7110735;-125.0005839
END:VEVENT
BEGIN:VEVENT
UID:25409
DTSTAMP;TZID=America/Vancouver:20220203T214500
DTSTART;TZID=America/Vancouver:20220203T214500
DTEND;TZID=America/Vancouver:20220203T230000
SUMMARY:Whistle Stop Railers 3 Badgers 5
DESCRIPTION:
STATUS:CONFIRMED
LAST-MODIFIED:20220207T221400
LOCATION:Comox Valley Sports Centre - Arena 2\, 3001 Vanier Dr\, Courtenay\, BC V9N 5Y2\, Canada
GEO:49.7110735;-125.0005839
END:VEVENT
BEGIN:VEVENT
UID:25435
DTSTAMP;TZID=America/Vancouver:20220220T213000
DTSTART;TZID=America/Vancouver:20220220T213000
DTEND;TZID=America/Vancouver:20220220T224500
SUMMARY:Whistle Stop Railers 2 Whalers 2
DESCRIPTION:
STATUS:CONFIRMED
LAST-MODIFIED:20220222T184400
LOCATION:Glacier Gardens Arena 1\, 1399 Military Row\, Comox\, BC V9M 4H2\, Canada
GEO:49.7086512;-124.9098752
END:VEVENT
BEGIN:VEVENT
UID:25420
DTSTAMP;TZID=America/Vancouver:20220224T201500
DTSTART;TZID=America/Vancouver:20220224T201500
DTEND;TZID=America/Vancouver:20220224T213000
SUMMARY:Whistle Stop Railers 3 Westview Wolves 2
DESCRIPTION:
STATUS:CONFIRMED
LAST-MODIFIED:20220225T175800
LOCATION:Comox Valley Sports Centre - Arena 2\, 3001 Vanier Dr\, Courtenay\, BC V9N 5Y2\, Canada
GEO:49.7110735;-125.0005839
END:VEVENT
BEGIN:VEVENT
UID:25438
DTSTAMP;TZID=America/Vancouver:20220306T183000
DTSTART;TZID=America/Vancouver:20220306T183000
DTEND;TZID=America/Vancouver:20220306T194500
SUMMARY:Badgers 5 Whistle Stop Railers 4
DESCRIPTION:
STATUS:CONFIRMED
LAST-MODIFIED:20220307T171300
LOCATION:Glacier Gardens Arena 1\, 1399 Military Row\, Comox\, BC V9M 4H2\, Canada
GEO:49.7086512;-124.9098752
END:VEVENT
BEGIN:VEVENT
UID:26190
DTSTAMP;TZID=America/Vancouver:20220310T214500
DTSTART;TZID=America/Vancouver:20220310T214500
DTEND;TZID=America/Vancouver:20220310T230000
SUMMARY:Whistle Stop Railers 1 Dump Bears 4
DESCRIPTION:Church St. Div. SF#1: Seeds 1vs. 4
STATUS:CONFIRMED
LAST-MODIFIED:20220311T210200
LOCATION:Comox Valley Sports Centre - Arena 2\, 3001 Vanier Dr\, Courtenay\, BC V9N 5Y2\, Canada
GEO:49.7110735;-125.0005839
END:VEVENT
BEGIN:VEVENT
UID:26290
DTSTAMP;TZID=America/Vancouver:20220320T200000
DTSTART;TZID=America/Vancouver:20220320T200000
DTEND;TZID=America/Vancouver:20220320T211500
SUMMARY:Whalers 7 Whistle Stop Railers 2
DESCRIPTION:Church St. 5th Place: Loser SF#3 vs. Next Low Seed Loser
STATUS:CONFIRMED
LAST-MODIFIED:20220321T212000
LOCATION:Glacier Gardens Arena 1\, 1399 Military Row\, Comox\, BC V9M 4H2\, Canada
GEO:49.7086512;-124.9098752
END:VEVENT
BEGIN:VEVENT
UID:30192
DTSTAMP;TZID=America/Vancouver:20220925T210000
DTSTART;TZID=America/Vancouver:20220925T210000
DTEND;TZID=America/Vancouver:20220925T221500
SUMMARY:Whalers 1 Whistle Stop Railers 2
DESCRIPTION:
STATUS:CONFIRMED
LAST-MODIFIED:20220929T205200
LOCATION:Glacier Gardens Arena 1\, 1399 Military Row\, Comox\, BC V9M 4H2\, Canada
GEO:49.7086512;-124.9098752
END:VEVENT
BEGIN:VEVENT
UID:30139
DTSTAMP;TZID=America/Vancouver:20220929T190000
DTSTART;TZID=America/Vancouver:20220929T190000
DTEND;TZID=America/Vancouver:20220929T201500
SUMMARY:Whistle Stop Railers 7 Silver Totems 1
DESCRIPTION:
STATUS:CONFIRMED
LAST-MODIFIED:20220930T182800
LOCATION:Glacier Gardens Arena 1\, 1399 Military Row\, Comox\, BC V9M 4H2\, Canada
GEO:49.7086512;-124.9098752
END:VEVENT
BEGIN:VEVENT
UID:30141
DTSTAMP;TZID=America/Vancouver:20221006T201500
DTSTART;TZID=America/Vancouver:20221006T201500
DTEND;TZID=America/Vancouver:20221006T213000
SUMMARY:Walrus 3 Whistle Stop Railers 7
DESCRIPTION:
STATUS:CONFIRMED
LAST-MODIFIED:20221007T171700
LOCATION:Comox Valley Sports Centre - Arena 2\, 3001 Vanier Dr\, Courtenay\, BC V9N 5Y2\, Canada
GEO:49.7110735;-125.0005839
END:VEVENT
BEGIN:VEVENT
UID:30178
DTSTAMP;TZID=America/Vancouver:20221011T221500
DTSTART;TZID=America/Vancouver:20221011T221500
DTEND;TZID=America/Vancouver:20221011T233000
SUMMARY:Westview Wolves 4 Whistle Stop Railers 3
DESCRIPTION:
STATUS:CONFIRMED
LAST-MODIFIED:20221012T201900
LOCATION:Comox Valley Sports Centre - Arena 2\, 3001 Vanier Dr\, Courtenay\, BC V9N 5Y2\, Canada
GEO:49.7110735;-125.0005839
END:VEVENT
BEGIN:VEVENT
UID:30199
DTSTAMP;TZID=America/Vancouver:20221023T193000
DTSTART;TZID=America/Vancouver:20221023T193000
DTEND;TZID=America/Vancouver:20221023T204500
SUMMARY:Whistle Stop Railers 4 Dump Bears 7
DESCRIPTION:
STATUS:CONFIRMED
LAST-MODIFIED:20221025T204400
LOCATION:Glacier Gardens Arena 1\, 1399 Military Row\, Comox\, BC V9M 4H2\, Canada
GEO:49.7086512;-124.9098752
END:VEVENT
BEGIN:VEVENT
UID:30153
DTSTAMP;TZID=America/Vancouver:20221027T201500
DTSTART;TZID=America/Vancouver:20221027T201500
DTEND;TZID=America/Vancouver:20221027T213000
SUMMARY:Badgers 1 Whistle Stop Railers 4
DESCRIPTION:
STATUS:CONFIRMED
LAST-MODIFIED:20221028T172900
LOCATION:Comox Valley Sports Centre - Arena 2\, 3001 Vanier Dr\, Courtenay\, BC V9N 5Y2\, Canada
GEO:49.7110735;-125.0005839
END:VEVENT
BEGIN:VEVENT
UID:30184
DTSTAMP;TZID=America/Vancouver:20221101T221500
DTSTART;TZID=America/Vancouver:20221101T221500
DTEND;TZID=America/Vancouver:20221101T233000
SUMMARY:Whistle Stop Railers 0 Comox Bombers 5
DESCRIPTION:
STATUS:CONFIRMED
LAST-MODIFIED:20221102T163200
LOCATION:Comox Valley Sports Centre - Arena 2\, 3001 Vanier Dr\, Courtenay\, BC V9N 5Y2\, Canada
GEO:49.7110735;-125.0005839
END:VEVENT
BEGIN:VEVENT
UID:30164
DTSTAMP;TZID=America/Vancouver:20221110T203000
DTSTART;TZID=America/Vancouver:20221110T203000
DTEND;TZID=America/Vancouver:20221110T214500
SUMMARY:Whistle Stop Railers 3 Whalers 3
DESCRIPTION:
STATUS:CONFIRMED
LAST-MODIFIED:20221118T071500
LOCATION:Glacier Gardens Arena 1\, 1399 Military Row\, Comox\, BC V9M 4H2\, Canada
GEO:49.7086512;-124.9098752
END:VEVENT
BEGIN:VEVENT
UID:30165
DTSTAMP;TZID=America/Vancouver:20221117T201500
DTSTART;TZID=America/Vancouver:20221117T201500
DTEND;TZID=America/Vancouver:20221117T213000
SUMMARY:Dump Bears 3 Whistle Stop Railers 1
DESCRIPTION:
STATUS:CONFIRMED
LAST-MODIFIED:20221118T080400
LOCATION:Comox Valley Sports Centre - Arena 2\, 3001 Vanier Dr\, Courtenay\, BC V9N 5Y2\, Canada
GEO:49.7110735;-125.0005839
END:VEVENT
BEGIN:VEVENT
UID:31607
DTSTAMP;TZID=America/Vancouver:20221124T214500
DTSTART;TZID=America/Vancouver:20221124T214500
DTEND;TZID=America/Vancouver:20221124T230000
SUMMARY:Westview Wolves 0 Whistle Stop Railers 6
DESCRIPTION:Church St. QF#4: Seeds 4 vs. 5
STATUS:CONFIRMED
LAST-MODIFIED:20221125T220000
LOCATION:Comox Valley Sports Centre - Arena 2\, 3001 Vanier Dr\, Courtenay\, BC V9N 5Y2\, Canada
GEO:49.7110735;-125.0005839
END:VEVENT
BEGIN:VEVENT
UID:31717
DTSTAMP;TZID=America/Vancouver:20221208T201500
DTSTART;TZID=America/Vancouver:20221208T201500
DTEND;TZID=America/Vancouver:20221208T213000
SUMMARY:Dump Bears 6 Whistle Stop Railers 0
DESCRIPTION:Church St. SF#1: Winners QF#1 vs. QF#4
*Moved to Dec. 8 due to power outage at SC*
STATUS:CONFIRMED
LAST-MODIFIED:20221209T204000
LOCATION:Comox Valley Sports Centre - Arena 2\, 3001 Vanier Dr\, Courtenay\, BC V9N 5Y2\, Canada
GEO:49.7110735;-125.0005839
END:VEVENT
BEGIN:VEVENT
UID:31916
DTSTAMP;TZID=America/Vancouver:20221213T221500
DTSTART;TZID=America/Vancouver:20221213T221500
DTEND;TZID=America/Vancouver:20221213T233000
SUMMARY:Whistle Stop Railers 2 Whalers 5
DESCRIPTION:Church St. Division 3rd Place Game
STATUS:CONFIRMED
LAST-MODIFIED:20221214T182000
LOCATION:Comox Valley Sports Centre - Arena 2\, 3001 Vanier Dr\, Courtenay\, BC V9N 5Y2\, Canada
GEO:49.7110735;-125.0005839
END:VEVENT
BEGIN:VEVENT
UID:32243
DTSTAMP;TZID=America/Vancouver:20230112T190000
DTSTART;TZID=America/Vancouver:20230112T190000
DTEND;TZID=America/Vancouver:20230112T201500
SUMMARY:Whistle Stop Railers 3 Silver Totems 1
DESCRIPTION:
STATUS:CONFIRMED
LAST-MODIFIED:20230224T201800
LOCATION:Glacier Gardens Arena 1\, 1399 Military Row\, Comox\, BC V9M 4H2\, Canada
GEO:49.7086512;-124.9098752
END:VEVENT
BEGIN:VEVENT
UID:32245
DTSTAMP;TZID=America/Vancouver:20230119T201500
DTSTART;TZID=America/Vancouver:20230119T201500
DTEND;TZID=America/Vancouver:20230119T213000
SUMMARY:Badgers 4 Whistle Stop Railers 1
DESCRIPTION:
STATUS:CONFIRMED
LAST-MODIFIED:20230224T202000
LOCATION:Comox Valley Sports Centre - Arena 2\, 3001 Vanier Dr\, Courtenay\, BC V9N 5Y2\, Canada
GEO:49.7110735;-125.0005839
END:VEVENT
BEGIN:VEVENT
UID:32226
DTSTAMP;TZID=America/Vancouver:20230124T221500
DTSTART;TZID=America/Vancouver:20230124T221500
DTEND;TZID=America/Vancouver:20230124T233000
SUMMARY:Dump Bears 2 Whistle Stop Railers 0
DESCRIPTION:
STATUS:CONFIRMED
LAST-MODIFIED:20230125T184000
LOCATION:Comox Valley Sports Centre - Arena 2\, 3001 Vanier Dr\, Courtenay\, BC V9N 5Y2\, Canada
GEO:49.7110735;-125.0005839
END:VEVENT
BEGIN:VEVENT
UID:32256
DTSTAMP;TZID=America/Vancouver:20230202T203000
DTSTART;TZID=America/Vancouver:20230202T203000
DTEND;TZID=America/Vancouver:20230202T214500
SUMMARY:Whistle Stop Railers 5 Comox Bombers 1
DESCRIPTION:
STATUS:CONFIRMED
LAST-MODIFIED:20230203T220900
LOCATION:Glacier Gardens Arena 1\, 1399 Military Row\, Comox\, BC V9M 4H2\, Canada
GEO:49.7086512;-124.9098752
END:VEVENT
BEGIN:VEVENT
UID:32258
DTSTAMP;TZID=America/Vancouver:20230209T214500
DTSTART;TZID=America/Vancouver:20230209T214500
DTEND;TZID=America/Vancouver:20230209T230000
SUMMARY:Whalers 3 Whistle Stop Railers 3
DESCRIPTION:
STATUS:CONFIRMED
LAST-MODIFIED:20230224T203200
LOCATION:Comox Valley Sports Centre - Arena 2\, 3001 Vanier Dr\, Courtenay\, BC V9N 5Y2\, Canada
GEO:49.7110735;-125.0005839
END:VEVENT
BEGIN:VEVENT
UID:32286
DTSTAMP;TZID=America/Vancouver:20230219T213000
DTSTART;TZID=America/Vancouver:20230219T213000
DTEND;TZID=America/Vancouver:20230219T224500
SUMMARY:Whistle Stop Railers 3 Westview Wolves 1
DESCRIPTION:*Time slot at 9:30 due to minor hockey tourney.
STATUS:CONFIRMED
LAST-MODIFIED:20230221T180100
LOCATION:Glacier Gardens Arena 1\, 1399 Military Row\, Comox\, BC V9M 4H2\, Canada
GEO:49.7086512;-124.9098752
END:VEVENT
BEGIN:VEVENT
UID:32265
DTSTAMP;TZID=America/Vancouver:20230223T201500
DTSTART;TZID=America/Vancouver:20230223T201500
DTEND;TZID=America/Vancouver:20230223T213000
SUMMARY:Whistle Stop Railers 2 Walrus 4
DESCRIPTION:
STATUS:CONFIRMED
LAST-MODIFIED:20230224T203600
LOCATION:Comox Valley Sports Centre - Arena 2\, 3001 Vanier Dr\, Courtenay\, BC V9N 5Y2\, Canada
GEO:49.7110735;-125.0005839
END:VEVENT
BEGIN:VEVENT
UID:32235
DTSTAMP;TZID=America/Vancouver:20230228T204500
DTSTART;TZID=America/Vancouver:20230228T204500
DTEND;TZID=America/Vancouver:20230228T220000
SUMMARY:Comox Bombers 2 Whistle Stop Railers 3
DESCRIPTION:
STATUS:CONFIRMED
LAST-MODIFIED:20230303T003600
LOCATION:Comox Valley Sports Centre - Arena 2\, 3001 Vanier Dr\, Courtenay\, BC V9N 5Y2\, Canada
GEO:49.7110735;-125.0005839
END:VEVENT
BEGIN:VEVENT
UID:32291
DTSTAMP;TZID=America/Vancouver:20230312T193000
DTSTART;TZID=America/Vancouver:20230312T193000
DTEND;TZID=America/Vancouver:20230312T204500
SUMMARY:Whistle Stop Railers 3 Westview Wolves 5
DESCRIPTION:
STATUS:CONFIRMED
LAST-MODIFIED:20230313T234700
LOCATION:Glacier Gardens Arena 1\, 1399 Military Row\, Comox\, BC V9M 4H2\, Canada
GEO:49.7086512;-124.9098752
END:VEVENT
BEGIN:VEVENT
UID:33670
DTSTAMP;TZID=America/Vancouver:20230319T210000
DTSTART;TZID=America/Vancouver:20230319T210000
DTEND;TZID=America/Vancouver:20230319T221500
SUMMARY:Whistle Stop Railers 4 Whalers 2
DESCRIPTION:Church St. QF#4: Seeds 4 vs. 5 (High seed is home team.)
STATUS:CONFIRMED
LAST-MODIFIED:20230320T220400
LOCATION:Glacier Gardens Arena 1\, 1399 Military Row\, Comox\, BC V9M 4H2\, Canada
GEO:49.7086512;-124.9098752
END:VEVENT
BEGIN:VEVENT
UID:33813
DTSTAMP;TZID=America/Vancouver:20230323T201500
DTSTART;TZID=America/Vancouver:20230323T201500
DTEND;TZID=America/Vancouver:20230323T213000
SUMMARY:Whistle Stop Railers 2 Dump Bears 3
DESCRIPTION:Church Div. SF#1: Winners QF#1 vs. QF#4 (Dump Bears are home team)
STATUS:CONFIRMED
LAST-MODIFIED:20230324T172200
LOCATION:Comox Valley Sports Centre - Arena 2\, 3001 Vanier Dr\, Courtenay\, BC V9N 5Y2\, Canada
GEO:49.7110735;-125.0005839
END:VEVENT
BEGIN:VEVENT
UID:33911
DTSTAMP;TZID=America/Vancouver:20230404T204500
DTSTART;TZID=America/Vancouver:20230404T204500
DTEND;TZID=America/Vancouver:20230404T220000
SUMMARY:Whistle Stop Railers 3 Westview Wolves 7
DESCRIPTION:*Church St. Div. 3rd Place Game: Losers SF#1 vs. SF#2
STATUS:CONFIRMED
LAST-MODIFIED:20230406T001000
LOCATION:Comox Valley Sports Centre - Arena 2\, 3001 Vanier Dr\, Courtenay\, BC V9N 5Y2\, Canada
GEO:49.7110735;-125.0005839
END:VEVENT
END:VCALENDAR