BEGIN:VCALENDAR
VERSION:2.0
PRODID:-//SCVSSC//EN
CALSCALE:GREGORIAN
METHOD:PUBLISH
URL:https://comoxvalleysports.ca/calendar/tigersharks-calendar/?feed=cvssc-calendar-ical
X-FROM-URL:https://comoxvalleysports.ca/calendar/tigersharks-calendar/?feed=cvssc-calendar-ical
NAME:Tigersharks Calendar
X-WR-CALNAME:Tigersharks Calendar
DESCRIPTION:Tigersharks Calendar
X-WR-CALDESC:Tigersharks Calendar
REFRESH-INTERVAL;VALUE=DURATION:PT2M
X-PUBLISHED-TTL:PT2M
TZID:America/Vancouver
X-WR-TIMEZONE:America/Vancouver
BEGIN:VTIMEZONE
TZID:America/Vancouver
X-LIC-LOCATION:America/Vancouver
BEGIN:DAYLIGHT
TZOFFSETFROM:-0800
TZOFFSETTO:-0700
TZNAME:PDT
DTSTART:19700308T020000
RRULE:FREQ=YEARLY;BYMONTH=3;BYDAY=2SU
END:DAYLIGHT
BEGIN:STANDARD
TZOFFSETFROM:-0700
TZOFFSETTO:-0800
TZNAME:PST
DTSTART:19701101T020000
RRULE:FREQ=YEARLY;BYMONTH=11;BYDAY=1SU
END:STANDARD
END:VTIMEZONE
BEGIN:VEVENT
UID:23786
DTSTAMP;TZID=America/Vancouver:20211007T220000
DTSTART;TZID=America/Vancouver:20211007T220000
DTEND;TZID=America/Vancouver:20211007T231500
SUMMARY:Tigersharks 3 Lucky Loggers 4
DESCRIPTION:
STATUS:CONFIRMED
LAST-MODIFIED:20211008T213600
LOCATION:Glacier Gardens Arena 1\, 1399 Military Row\, Comox\, BC V9M 4H2\, Canada
GEO:49.7086512;-124.9098752
END:VEVENT
BEGIN:VEVENT
UID:23790
DTSTAMP;TZID=America/Vancouver:20211014T220000
DTSTART;TZID=America/Vancouver:20211014T220000
DTEND;TZID=America/Vancouver:20211014T231500
SUMMARY:Tigersharks 2 Westview Wolves 7
DESCRIPTION:
STATUS:CONFIRMED
LAST-MODIFIED:20211018T192900
LOCATION:Glacier Gardens Arena 1\, 1399 Military Row\, Comox\, BC V9M 4H2\, Canada
GEO:49.7086512;-124.9098752
END:VEVENT
BEGIN:VEVENT
UID:23804
DTSTAMP;TZID=America/Vancouver:20211028T214500
DTSTART;TZID=America/Vancouver:20211028T214500
DTEND;TZID=America/Vancouver:20211028T230000
SUMMARY:Tigersharks 3 Golden Eagles 9
DESCRIPTION:
STATUS:CONFIRMED
LAST-MODIFIED:20211101T211100
LOCATION:Comox Valley Sports Centre - Arena 2\, 3001 Vanier Dr\, Courtenay\, BC V9N 5Y2\, Canada
GEO:49.7110735;-125.0005839
END:VEVENT
BEGIN:VEVENT
UID:23797
DTSTAMP;TZID=America/Vancouver:20211105T190000
DTSTART;TZID=America/Vancouver:20211105T190000
DTEND;TZID=America/Vancouver:20211105T201500
SUMMARY:Tigersharks 2 Whistle Stop Railers 8
DESCRIPTION:*Game from Sunday, Oct. 24 cancelled due to Power Outage at GG. Game re-scheduled to Friday, Nov. 5 at SC1 with both teams' permission. 
STATUS:CONFIRMED
LAST-MODIFIED:20211108T235600
LOCATION:Comox Valley Sports Centre - Arena 1\, 3001 Vanier Dr\, Courtenay\, BC V9N 5Y2\, Canada
GEO:49.7110735;-125.0005839
END:VEVENT
BEGIN:VEVENT
UID:23813
DTSTAMP;TZID=America/Vancouver:20211107T183000
DTSTART;TZID=America/Vancouver:20211107T183000
DTEND;TZID=America/Vancouver:20211107T194500
SUMMARY:Whalers 8 Tigersharks 2
DESCRIPTION:
STATUS:CONFIRMED
LAST-MODIFIED:20211108T232200
LOCATION:Glacier Gardens Arena 1\, 1399 Military Row\, Comox\, BC V9M 4H2\, Canada
GEO:49.7086512;-124.9098752
END:VEVENT
BEGIN:VEVENT
UID:23820
DTSTAMP;TZID=America/Vancouver:20211112T190000
DTSTART;TZID=America/Vancouver:20211112T190000
DTEND;TZID=America/Vancouver:20211112T201500
SUMMARY:Tigersharks 1 Silver Totems 8
DESCRIPTION:
STATUS:CONFIRMED
LAST-MODIFIED:20211115T203400
LOCATION:Glacier Gardens Arena 1\, 1399 Military Row\, Comox\, BC V9M 4H2\, Canada
GEO:49.7086512;-124.9098752
END:VEVENT
BEGIN:VEVENT
UID:24361
DTSTAMP;TZID=America/Vancouver:20211118T214500
DTSTART;TZID=America/Vancouver:20211118T214500
DTEND;TZID=America/Vancouver:20211118T230000
SUMMARY:Tigersharks 3 Timber Hounds 5
DESCRIPTION:
STATUS:CONFIRMED
LAST-MODIFIED:20211119T195400
LOCATION:Comox Valley Sports Centre - Arena 2\, 3001 Vanier Dr\, Courtenay\, BC V9N 5Y2\, Canada
GEO:49.7110735;-125.0005839
END:VEVENT
BEGIN:VEVENT
UID:24366
DTSTAMP;TZID=America/Vancouver:20211125T201500
DTSTART;TZID=America/Vancouver:20211125T201500
DTEND;TZID=America/Vancouver:20211125T213000
SUMMARY:No Dekes 4 Tigersharks 4
DESCRIPTION:
STATUS:CONFIRMED
LAST-MODIFIED:20211130T004400
LOCATION:Comox Valley Sports Centre - Arena 2\, 3001 Vanier Dr\, Courtenay\, BC V9N 5Y2\, Canada
GEO:49.7110735;-125.0005839
END:VEVENT
BEGIN:VEVENT
UID:24917
DTSTAMP;TZID=America/Vancouver:20211205T213000
DTSTART;TZID=America/Vancouver:20211205T213000
DTEND;TZID=America/Vancouver:20211205T224500
SUMMARY:Tigersharks 5 No Dekes 4
DESCRIPTION:SF#6: Gladstone Seed #6 vs. Church Seed #5 
**Tigersharks need access to spare whites for game. 
STATUS:CONFIRMED
LAST-MODIFIED:20211206T192900
LOCATION:Glacier Gardens Arena 1\, 1399 Military Row\, Comox\, BC V9M 4H2\, Canada
GEO:49.7086512;-124.9098752
END:VEVENT
BEGIN:VEVENT
UID:25010
DTSTAMP;TZID=America/Vancouver:20211212T183000
DTSTART;TZID=America/Vancouver:20211212T183000
DTEND;TZID=America/Vancouver:20211212T194500
SUMMARY:Tigersharks 6 Timber Hounds 5
DESCRIPTION:9th Place Game: Winners SF#5 vs. SF#6
STATUS:CONFIRMED
LAST-MODIFIED:20211213T183100
LOCATION:Glacier Gardens Arena 1\, 1399 Military Row\, Comox\, BC V9M 4H2\, Canada
GEO:49.7086512;-124.9098752
END:VEVENT
BEGIN:VEVENT
UID:25316
DTSTAMP;TZID=America/Vancouver:20220113T201500
DTSTART;TZID=America/Vancouver:20220113T201500
DTEND;TZID=America/Vancouver:20220113T213000
SUMMARY:Lucky Loggers 2 Tigersharks 5
DESCRIPTION:
STATUS:CONFIRMED
LAST-MODIFIED:20220114T232000
LOCATION:Comox Valley Sports Centre - Arena 2\, 3001 Vanier Dr\, Courtenay\, BC V9N 5Y2\, Canada
GEO:49.7110735;-125.0005839
END:VEVENT
BEGIN:VEVENT
UID:25325
DTSTAMP;TZID=America/Vancouver:20220120T203000
DTSTART;TZID=America/Vancouver:20220120T203000
DTEND;TZID=America/Vancouver:20220120T214500
SUMMARY:Comox Bombers 6 Tigersharks 0
DESCRIPTION:*Game time moved up to 8:30 p.m. Both captains, referees, scorekeepers all notified. 
STATUS:CONFIRMED
LAST-MODIFIED:20220121T190700
LOCATION:Glacier Gardens Arena 1\, 1399 Military Row\, Comox\, BC V9M 4H2\, Canada
GEO:49.7086512;-124.9098752
END:VEVENT
BEGIN:VEVENT
UID:25428
DTSTAMP;TZID=America/Vancouver:20220130T183000
DTSTART;TZID=America/Vancouver:20220130T183000
DTEND;TZID=America/Vancouver:20220130T194500
SUMMARY:Tigersharks 8 Golden Eagles 3
DESCRIPTION:
STATUS:CONFIRMED
LAST-MODIFIED:20220131T233200
LOCATION:Glacier Gardens Arena 1\, 1399 Military Row\, Comox\, BC V9M 4H2\, Canada
GEO:49.7086512;-124.9098752
END:VEVENT
BEGIN:VEVENT
UID:25431
DTSTAMP;TZID=America/Vancouver:20220206T213000
DTSTART;TZID=America/Vancouver:20220206T213000
DTEND;TZID=America/Vancouver:20220206T224500
SUMMARY:Tigersharks 5 Timber Hounds 4
DESCRIPTION:
STATUS:CONFIRMED
LAST-MODIFIED:20220207T213900
LOCATION:Glacier Gardens Arena 1\, 1399 Military Row\, Comox\, BC V9M 4H2\, Canada
GEO:49.7086512;-124.9098752
END:VEVENT
BEGIN:VEVENT
UID:25415
DTSTAMP;TZID=America/Vancouver:20220210T220000
DTSTART;TZID=America/Vancouver:20220210T220000
DTEND;TZID=America/Vancouver:20220210T231500
SUMMARY:No Dekes 6 Tigersharks 4
DESCRIPTION:*Tigersharks need CVHL spare white jerseys from scorekeeper.
STATUS:CONFIRMED
LAST-MODIFIED:20220212T003400
LOCATION:Glacier Gardens Arena 1\, 1399 Military Row\, Comox\, BC V9M 4H2\, Canada
GEO:49.7086512;-124.9098752
END:VEVENT
BEGIN:VEVENT
UID:25417
DTSTAMP;TZID=America/Vancouver:20220217T214500
DTSTART;TZID=America/Vancouver:20220217T214500
DTEND;TZID=America/Vancouver:20220217T230000
SUMMARY:Tigersharks 0 Comox Bombers 5
DESCRIPTION:
STATUS:CONFIRMED
LAST-MODIFIED:20220222T182400
LOCATION:Comox Valley Sports Centre - Arena 2\, 3001 Vanier Dr\, Courtenay\, BC V9N 5Y2\, Canada
GEO:49.7110735;-125.0005839
END:VEVENT
BEGIN:VEVENT
UID:25436
DTSTAMP;TZID=America/Vancouver:20220227T183000
DTSTART;TZID=America/Vancouver:20220227T183000
DTEND;TZID=America/Vancouver:20220227T194500
SUMMARY:Golden Eagles 3 Tigersharks 5
DESCRIPTION:
STATUS:CONFIRMED
LAST-MODIFIED:20220228T194800
LOCATION:Glacier Gardens Arena 1\, 1399 Military Row\, Comox\, BC V9M 4H2\, Canada
GEO:49.7086512;-124.9098752
END:VEVENT
BEGIN:VEVENT
UID:25427
DTSTAMP;TZID=America/Vancouver:20220303T203000
DTSTART;TZID=America/Vancouver:20220303T203000
DTEND;TZID=America/Vancouver:20220303T214500
SUMMARY:Tigersharks 3 No Dekes 0
DESCRIPTION:*Game has been moved up to 8:30 p.m. start.
*Tigersharks need to access spare jerseys.
STATUS:CONFIRMED
LAST-MODIFIED:20220304T201900
LOCATION:Glacier Gardens Arena 1\, 1399 Military Row\, Comox\, BC V9M 4H2\, Canada
GEO:49.7086512;-124.9098752
END:VEVENT
BEGIN:VEVENT
UID:26193
DTSTAMP;TZID=America/Vancouver:20220313T183000
DTSTART;TZID=America/Vancouver:20220313T183000
DTEND;TZID=America/Vancouver:20220313T194500
SUMMARY:Lucky Loggers 1 Tigersharks 9
DESCRIPTION:Gladstone Div. SF#2: Seeds 2 vs. 3
STATUS:CONFIRMED
LAST-MODIFIED:20220314T170500
LOCATION:Glacier Gardens Arena 1\, 1399 Military Row\, Comox\, BC V9M 4H2\, Canada
GEO:49.7086512;-124.9098752
END:VEVENT
BEGIN:VEVENT
UID:26306
DTSTAMP;TZID=America/Vancouver:20220317T214500
DTSTART;TZID=America/Vancouver:20220317T214500
DTEND;TZID=America/Vancouver:20220317T230000
SUMMARY:Tigersharks 3 Comox Bombers 4
DESCRIPTION:Gladstone 1st Place Game: Winners SF#1 vs. SF#2
STATUS:CONFIRMED
LAST-MODIFIED:20220318T190300
LOCATION:Comox Valley Sports Centre - Arena 2\, 3001 Vanier Dr\, Courtenay\, BC V9N 5Y2\, Canada
GEO:49.7110735;-125.0005839
END:VEVENT
BEGIN:VEVENT
UID:30136
DTSTAMP;TZID=America/Vancouver:20220922T203000
DTSTART;TZID=America/Vancouver:20220922T203000
DTEND;TZID=America/Vancouver:20220922T214500
SUMMARY:Grizzlies 5 Tigersharks 2
DESCRIPTION:
STATUS:CONFIRMED
LAST-MODIFIED:20220924T002200
LOCATION:Glacier Gardens Arena 1\, 1399 Military Row\, Comox\, BC V9M 4H2\, Canada
GEO:49.7086512;-124.9098752
END:VEVENT
BEGIN:VEVENT
UID:30193
DTSTAMP;TZID=America/Vancouver:20221002T193000
DTSTART;TZID=America/Vancouver:20221002T193000
DTEND;TZID=America/Vancouver:20221002T204500
SUMMARY:Timber Hounds 6 Tigersharks 4
DESCRIPTION:
STATUS:CONFIRMED
LAST-MODIFIED:20221003T200500
LOCATION:Glacier Gardens Arena 1\, 1399 Military Row\, Comox\, BC V9M 4H2\, Canada
GEO:49.7086512;-124.9098752
END:VEVENT
BEGIN:VEVENT
UID:30195
DTSTAMP;TZID=America/Vancouver:20221009T193000
DTSTART;TZID=America/Vancouver:20221009T193000
DTEND;TZID=America/Vancouver:20221009T204500
SUMMARY:The Booze 6 Tigersharks 7
DESCRIPTION:
STATUS:CONFIRMED
LAST-MODIFIED:20221011T171300
LOCATION:Glacier Gardens Arena 1\, 1399 Military Row\, Comox\, BC V9M 4H2\, Canada
GEO:49.7086512;-124.9098752
END:VEVENT
BEGIN:VEVENT
UID:30148
DTSTAMP;TZID=America/Vancouver:20221013T203000
DTSTART;TZID=America/Vancouver:20221013T203000
DTEND;TZID=America/Vancouver:20221013T214500
SUMMARY:Golden Eagles 1 Tigersharks 3
DESCRIPTION:
STATUS:CONFIRMED
LAST-MODIFIED:20221014T175400
LOCATION:Glacier Gardens Arena 1\, 1399 Military Row\, Comox\, BC V9M 4H2\, Canada
GEO:49.7086512;-124.9098752
END:VEVENT
BEGIN:VEVENT
UID:30149
DTSTAMP;TZID=America/Vancouver:20221020T201500
DTSTART;TZID=America/Vancouver:20221020T201500
DTEND;TZID=America/Vancouver:20221020T213000
SUMMARY:Tigersharks 1 Lucky Loggers 5
DESCRIPTION:
STATUS:CONFIRMED
LAST-MODIFIED:20221021T172200
LOCATION:Comox Valley Sports Centre - Arena 2\, 3001 Vanier Dr\, Courtenay\, BC V9N 5Y2\, Canada
GEO:49.7110735;-125.0005839
END:VEVENT
BEGIN:VEVENT
UID:30182
DTSTAMP;TZID=America/Vancouver:20221025T221500
DTSTART;TZID=America/Vancouver:20221025T221500
DTEND;TZID=America/Vancouver:20221025T233000
SUMMARY:No Dekes 10 Tigersharks 1
DESCRIPTION:
STATUS:CONFIRMED
LAST-MODIFIED:20221026T212400
LOCATION:Comox Valley Sports Centre - Arena 2\, 3001 Vanier Dr\, Courtenay\, BC V9N 5Y2\, Canada
GEO:49.7110735;-125.0005839
END:VEVENT
BEGIN:VEVENT
UID:30160
DTSTAMP;TZID=America/Vancouver:20221103T203000
DTSTART;TZID=America/Vancouver:20221103T203000
DTEND;TZID=America/Vancouver:20221103T214500
SUMMARY:Tigersharks 4 Kraken Beers 3
DESCRIPTION:
STATUS:CONFIRMED
LAST-MODIFIED:20221104T194700
LOCATION:Glacier Gardens Arena 1\, 1399 Military Row\, Comox\, BC V9M 4H2\, Canada
GEO:49.7086512;-124.9098752
END:VEVENT
BEGIN:VEVENT
UID:30186
DTSTAMP;TZID=America/Vancouver:20221108T221500
DTSTART;TZID=America/Vancouver:20221108T221500
DTEND;TZID=America/Vancouver:20221108T233000
SUMMARY:Tigersharks 4 Grizzlies 9
DESCRIPTION:
STATUS:CONFIRMED
LAST-MODIFIED:20221109T170500
LOCATION:Comox Valley Sports Centre - Arena 2\, 3001 Vanier Dr\, Courtenay\, BC V9N 5Y2\, Canada
GEO:49.7110735;-125.0005839
END:VEVENT
BEGIN:VEVENT
UID:30208
DTSTAMP;TZID=America/Vancouver:20221120T210000
DTSTART;TZID=America/Vancouver:20221120T210000
DTEND;TZID=America/Vancouver:20221120T221500
SUMMARY:The Booze 5 Tigersharks 3
DESCRIPTION:
STATUS:CONFIRMED
LAST-MODIFIED:20221121T070300
LOCATION:Glacier Gardens Arena 1\, 1399 Military Row\, Comox\, BC V9M 4H2\, Canada
GEO:49.7086512;-124.9098752
END:VEVENT
BEGIN:VEVENT
UID:31640
DTSTAMP;TZID=America/Vancouver:20221127T210000
DTSTART;TZID=America/Vancouver:20221127T210000
DTEND;TZID=America/Vancouver:20221127T221500
SUMMARY:Grizzlies 7 Tigersharks 1
DESCRIPTION:Gladstone Div QF#1: Seeds 1 vs. 8
STATUS:CONFIRMED
LAST-MODIFIED:20221128T212300
LOCATION:Glacier Gardens Arena 1\, 1399 Military Row\, Comox\, BC V9M 4H2\, Canada
GEO:49.7086512;-124.9098752
END:VEVENT
BEGIN:VEVENT
UID:31723
DTSTAMP;TZID=America/Vancouver:20221201T190000
DTSTART;TZID=America/Vancouver:20221201T190000
DTEND;TZID=America/Vancouver:20221201T201500
SUMMARY:Kraken Beers 7 Tigersharks 5
DESCRIPTION:Gladstone Div. SF#3: Losers QF#1 vs. QF#4
STATUS:CONFIRMED
LAST-MODIFIED:20221202T204200
LOCATION:Glacier Gardens Arena 1\, 1399 Military Row\, Comox\, BC V9M 4H2\, Canada
GEO:49.7086512;-124.9098752
END:VEVENT
BEGIN:VEVENT
UID:31797
DTSTAMP;TZID=America/Vancouver:20221208T203000
DTSTART;TZID=America/Vancouver:20221208T203000
DTEND;TZID=America/Vancouver:20221208T214500
SUMMARY:Tigersharks 8 The Booze 3
DESCRIPTION:Gladstone Division 7th Place Game
STATUS:CONFIRMED
LAST-MODIFIED:20221209T205500
LOCATION:Glacier Gardens Arena 1\, 1399 Military Row\, Comox\, BC V9M 4H2\, Canada
GEO:49.7086512;-124.9098752
END:VEVENT
BEGIN:VEVENT
UID:32242
DTSTAMP;TZID=America/Vancouver:20230112T214500
DTSTART;TZID=America/Vancouver:20230112T214500
DTEND;TZID=America/Vancouver:20230112T230000
SUMMARY:Tigersharks 6 The Booze 1
DESCRIPTION:
STATUS:CONFIRMED
LAST-MODIFIED:20230116T182000
LOCATION:Comox Valley Sports Centre - Arena 2\, 3001 Vanier Dr\, Courtenay\, BC V9N 5Y2\, Canada
GEO:49.7110735;-125.0005839
END:VEVENT
BEGIN:VEVENT
UID:32280
DTSTAMP;TZID=America/Vancouver:20230122T210000
DTSTART;TZID=America/Vancouver:20230122T210000
DTEND;TZID=America/Vancouver:20230122T221500
SUMMARY:Lucky Loggers 4 Tigersharks 5
DESCRIPTION:
STATUS:CONFIRMED
LAST-MODIFIED:20230123T175800
LOCATION:Glacier Gardens Arena 1\, 1399 Military Row\, Comox\, BC V9M 4H2\, Canada
GEO:49.7086512;-124.9098752
END:VEVENT
BEGIN:VEVENT
UID:32225
DTSTAMP;TZID=America/Vancouver:20230124T204500
DTSTART;TZID=America/Vancouver:20230124T204500
DTEND;TZID=America/Vancouver:20230124T220000
SUMMARY:Tigersharks 5 No Dekes 11
DESCRIPTION:
STATUS:CONFIRMED
LAST-MODIFIED:20230127T234700
LOCATION:Comox Valley Sports Centre - Arena 2\, 3001 Vanier Dr\, Courtenay\, BC V9N 5Y2\, Canada
GEO:49.7110735;-125.0005839
END:VEVENT
BEGIN:VEVENT
UID:32284
DTSTAMP;TZID=America/Vancouver:20230205T210000
DTSTART;TZID=America/Vancouver:20230205T210000
DTEND;TZID=America/Vancouver:20230205T221500
SUMMARY:Golden Eagles 4 Tigersharks 6
DESCRIPTION:
STATUS:CONFIRMED
LAST-MODIFIED:20230206T174000
LOCATION:Glacier Gardens Arena 1\, 1399 Military Row\, Comox\, BC V9M 4H2\, Canada
GEO:49.7086512;-124.9098752
END:VEVENT
BEGIN:VEVENT
UID:32260
DTSTAMP;TZID=America/Vancouver:20230209T203000
DTSTART;TZID=America/Vancouver:20230209T203000
DTEND;TZID=America/Vancouver:20230209T214500
SUMMARY:Grizzlies 5 Tigersharks 2
DESCRIPTION:
STATUS:CONFIRMED
LAST-MODIFIED:20230210T181400
LOCATION:Glacier Gardens Arena 1\, 1399 Military Row\, Comox\, BC V9M 4H2\, Canada
GEO:49.7086512;-124.9098752
END:VEVENT
BEGIN:VEVENT
UID:32264
DTSTAMP;TZID=America/Vancouver:20230216T203000
DTSTART;TZID=America/Vancouver:20230216T203000
DTEND;TZID=America/Vancouver:20230216T214500
SUMMARY:Tigersharks 2 Lucky Loggers 3
DESCRIPTION:
STATUS:CONFIRMED
LAST-MODIFIED:20230217T223200
LOCATION:Glacier Gardens Arena 1\, 1399 Military Row\, Comox\, BC V9M 4H2\, Canada
GEO:49.7086512;-124.9098752
END:VEVENT
BEGIN:VEVENT
UID:32234
DTSTAMP;TZID=America/Vancouver:20230221T221500
DTSTART;TZID=America/Vancouver:20230221T221500
DTEND;TZID=America/Vancouver:20230221T233000
SUMMARY:Kraken Beers 3 Tigersharks 2
DESCRIPTION:
STATUS:CONFIRMED
LAST-MODIFIED:20230224T203600
LOCATION:Comox Valley Sports Centre - Arena 2\, 3001 Vanier Dr\, Courtenay\, BC V9N 5Y2\, Canada
GEO:49.7110735;-125.0005839
END:VEVENT
BEGIN:VEVENT
UID:32270
DTSTAMP;TZID=America/Vancouver:20230302T214500
DTSTART;TZID=America/Vancouver:20230302T214500
DTEND;TZID=America/Vancouver:20230302T230000
SUMMARY:Tigersharks 5 Timber Hounds 1
DESCRIPTION:
STATUS:CONFIRMED
LAST-MODIFIED:20230303T211900
LOCATION:Comox Valley Sports Centre - Arena 2\, 3001 Vanier Dr\, Courtenay\, BC V9N 5Y2\, Canada
GEO:49.7110735;-125.0005839
END:VEVENT
BEGIN:VEVENT
UID:32239
DTSTAMP;TZID=America/Vancouver:20230314T204500
DTSTART;TZID=America/Vancouver:20230314T204500
DTEND;TZID=America/Vancouver:20230314T220000
SUMMARY:No Dekes 6 Tigersharks 3
DESCRIPTION:
STATUS:CONFIRMED
LAST-MODIFIED:20230316T185700
LOCATION:Comox Valley Sports Centre - Arena 2\, 3001 Vanier Dr\, Courtenay\, BC V9N 5Y2\, Canada
GEO:49.7110735;-125.0005839
END:VEVENT
BEGIN:VEVENT
UID:33766
DTSTAMP;TZID=America/Vancouver:20230323T203000
DTSTART;TZID=America/Vancouver:20230323T203000
DTEND;TZID=America/Vancouver:20230323T214500
SUMMARY:Tigersharks 0 Grizzlies 3
DESCRIPTION:Gladstone Div. QF#4: Seeds 4 vs. 5 (High Seed is home team).
STATUS:CONFIRMED
LAST-MODIFIED:20230324T170900
LOCATION:Glacier Gardens Arena 1\, 1399 Military Row\, Comox\, BC V9M 4H2\, Canada
GEO:49.7086512;-124.9098752
END:VEVENT
BEGIN:VEVENT
UID:33906
DTSTAMP;TZID=America/Vancouver:20230330T214500
DTSTART;TZID=America/Vancouver:20230330T214500
DTEND;TZID=America/Vancouver:20230330T230000
SUMMARY:Timber Hounds 2 Tigersharks 10
DESCRIPTION:*Gladstone Div. SF#3: Losers QF#1 vs. QF#4 (Tigersharks home team).
STATUS:CONFIRMED
LAST-MODIFIED:20230331T173100
LOCATION:Comox Valley Sports Centre - Arena 2\, 3001 Vanier Dr\, Courtenay\, BC V9N 5Y2\, Canada
GEO:49.7110735;-125.0005839
END:VEVENT
BEGIN:VEVENT
UID:34167
DTSTAMP;TZID=America/Vancouver:20230404T221500
DTSTART;TZID=America/Vancouver:20230404T221500
DTEND;TZID=America/Vancouver:20230404T233000
SUMMARY:The Booze 4 Tigersharks 6
DESCRIPTION:*Gladstone Division 5th Place Game (Tigersharks are home team.)
STATUS:CONFIRMED
LAST-MODIFIED:20230405T165700
LOCATION:Comox Valley Sports Centre - Arena 2\, 3001 Vanier Dr\, Courtenay\, BC V9N 5Y2\, Canada
GEO:49.7110735;-125.0005839
END:VEVENT
END:VCALENDAR