BEGIN:VCALENDAR
VERSION:2.0
PRODID:-//SCVSSC//EN
CALSCALE:GREGORIAN
METHOD:PUBLISH
URL:https://comoxvalleysports.ca/calendar/the-baskets-and-the-balls-calendar/?feed=cvssc-calendar-ical
X-FROM-URL:https://comoxvalleysports.ca/calendar/the-baskets-and-the-balls-calendar/?feed=cvssc-calendar-ical
NAME:The Baskets and the Balls Calendar
X-WR-CALNAME:The Baskets and the Balls Calendar
DESCRIPTION:The Baskets and the Balls Calendar
X-WR-CALDESC:The Baskets and the Balls Calendar
REFRESH-INTERVAL;VALUE=DURATION:PT2M
X-PUBLISHED-TTL:PT2M
TZID:America/Vancouver
X-WR-TIMEZONE:America/Vancouver
BEGIN:VTIMEZONE
TZID:America/Vancouver
X-LIC-LOCATION:America/Vancouver
BEGIN:DAYLIGHT
TZOFFSETFROM:-0800
TZOFFSETTO:-0700
TZNAME:PDT
DTSTART:19700308T020000
RRULE:FREQ=YEARLY;BYMONTH=3;BYDAY=2SU
END:DAYLIGHT
BEGIN:STANDARD
TZOFFSETFROM:-0700
TZOFFSETTO:-0800
TZNAME:PST
DTSTART:19701101T020000
RRULE:FREQ=YEARLY;BYMONTH=11;BYDAY=1SU
END:STANDARD
END:VTIMEZONE
BEGIN:VEVENT
UID:52236
DTSTAMP;TZID=America/Vancouver:20260116T193000
DTSTART;TZID=America/Vancouver:20260116T193000
DTEND;TZID=America/Vancouver:20260116T203000
SUMMARY:Swishbucklers 60 The Baskets and the Balls 30
DESCRIPTION:
STATUS:CONFIRMED
LAST-MODIFIED:20260112T200800
LOCATION:19 Wing Gym - Storage Side\, 1575 Military Row\, Comox\, BC V9M 4H2\, Canada
GEO:49.7121716;-124.90975040000001
END:VEVENT
BEGIN:VEVENT
UID:52244
DTSTAMP;TZID=America/Vancouver:20260123T203000
DTSTART;TZID=America/Vancouver:20260123T203000
DTEND;TZID=America/Vancouver:20260123T213000
SUMMARY:The Baskets and the Balls 51 Geeks in Sneaks 78
DESCRIPTION:
STATUS:CONFIRMED
LAST-MODIFIED:20260124T043000
LOCATION:19 Wing Gym - Gym Entrance Side\, 1575 Military Row\, Comox\, BC V9M 4H2\, Canada
GEO:49.71217159999999;-124.90964311163941
END:VEVENT
BEGIN:VEVENT
UID:52249
DTSTAMP;TZID=America/Vancouver:20260130T193000
DTSTART;TZID=America/Vancouver:20260130T193000
DTEND;TZID=America/Vancouver:20260130T203000
SUMMARY:The Baskets and the Balls 28 Pippen Ain&#8217\;t Easy 58
DESCRIPTION:
STATUS:CONFIRMED
LAST-MODIFIED:20260131T033000
LOCATION:19 Wing Gym - Storage Side\, 1575 Military Row\, Comox\, BC V9M 4H2\, Canada
GEO:49.7121716;-124.90975040000001
END:VEVENT
BEGIN:VEVENT
UID:52256
DTSTAMP;TZID=America/Vancouver:20260206T203000
DTSTART;TZID=America/Vancouver:20260206T203000
DTEND;TZID=America/Vancouver:20260206T213000
SUMMARY:The Baskets and the Balls 33 Halfcourt hustlers 63
DESCRIPTION:
STATUS:CONFIRMED
LAST-MODIFIED:20260207T043000
LOCATION:19 Wing Gym - Gym Entrance Side\, 1575 Military Row\, Comox\, BC V9M 4H2\, Canada
GEO:49.71217159999999;-124.90964311163941
END:VEVENT
BEGIN:VEVENT
UID:52264
DTSTAMP;TZID=America/Vancouver:20260213T235900
DTSTART;TZID=America/Vancouver:20260213T235900
DTEND;TZID=America/Vancouver:20260213T235900
SUMMARY:The Baskets and the Balls - BYE WEEK. NO GAME.
DESCRIPTION:*No scheduled game this week
STATUS:CONFIRMED
LAST-MODIFIED:20260214T075900
GEO:49.71217159999999;-124.90964311163941
END:VEVENT
BEGIN:VEVENT
UID:52266
DTSTAMP;TZID=America/Vancouver:20260220T193000
DTSTART;TZID=America/Vancouver:20260220T193000
DTEND;TZID=America/Vancouver:20260220T203000
SUMMARY:The Baskets and the Balls 47 Boonies Pizza 67ers 77
DESCRIPTION:
STATUS:CONFIRMED
LAST-MODIFIED:20260221T033000
LOCATION:19 Wing Gym - Gym Entrance Side\, 1575 Military Row\, Comox\, BC V9M 4H2\, Canada
GEO:49.71217159999999;-124.90964311163941
END:VEVENT
BEGIN:VEVENT
UID:52274
DTSTAMP;TZID=America/Vancouver:20260227T203000
DTSTART;TZID=America/Vancouver:20260227T203000
DTEND;TZID=America/Vancouver:20260227T213000
SUMMARY:The Baskets and the Balls 27 Built different 57
DESCRIPTION:
STATUS:CONFIRMED
LAST-MODIFIED:20260228T043000
LOCATION:19 Wing Gym - Gym Entrance Side\, 1575 Military Row\, Comox\, BC V9M 4H2\, Canada
GEO:49.71217159999999;-124.90964311163941
END:VEVENT
BEGIN:VEVENT
UID:53370
DTSTAMP;TZID=America/Vancouver:20260306T235900
DTSTART;TZID=America/Vancouver:20260306T235900
DTEND;TZID=America/Vancouver:20260306T235900
SUMMARY:The Baskets and the Balls - BYE WEEK. NO GAME.
DESCRIPTION:*Seed #10. No scheduled opponent this week
STATUS:CONFIRMED
LAST-MODIFIED:20260307T075900
GEO:49.71217159999999;-124.90964311163941
END:VEVENT
BEGIN:VEVENT
UID:53371
DTSTAMP;TZID=America/Vancouver:20260313T203000
DTSTART;TZID=America/Vancouver:20260313T203000
DTEND;TZID=America/Vancouver:20260313T212500
SUMMARY:Geeks in Sneaks 59 The Baskets and the Balls 43
DESCRIPTION:SF#5: Seeds 9 vs. 10
STATUS:CONFIRMED
LAST-MODIFIED:20260314T033000
LOCATION:19 Wing Gym - Storage Side\, 1575 Military Row\, Comox\, BC V9M 4H2\, Canada
GEO:49.7121716;-124.90975040000001
END:VEVENT
BEGIN:VEVENT
UID:53536
DTSTAMP;TZID=America/Vancouver:20260320T193000
DTSTART;TZID=America/Vancouver:20260320T193000
DTEND;TZID=America/Vancouver:20260320T202500
SUMMARY:Pippen Ain&#8217\;t Easy 30 The Baskets and the Balls 0
DESCRIPTION:*9th Place Game
STATUS:CONFIRMED
LAST-MODIFIED:20260316T225300
LOCATION:19 Wing Gym - Storage Side\, 1575 Military Row\, Comox\, BC V9M 4H2\, Canada
GEO:49.7121716;-124.90975040000001
END:VEVENT
END:VCALENDAR