BEGIN:VCALENDAR
VERSION:2.0
PRODID:-//SCVSSC//EN
CALSCALE:GREGORIAN
METHOD:PUBLISH
URL:https://comoxvalleysports.ca/calendar/thats-what-she-set-calendar-3/?feed=cvssc-calendar-ical
X-FROM-URL:https://comoxvalleysports.ca/calendar/thats-what-she-set-calendar-3/?feed=cvssc-calendar-ical
NAME:That&#8217;s What She Set Calendar
X-WR-CALNAME:That&#8217;s What She Set Calendar
DESCRIPTION:That&#8217;s What She Set Calendar
X-WR-CALDESC:That&#8217;s What She Set Calendar
REFRESH-INTERVAL;VALUE=DURATION:PT2M
X-PUBLISHED-TTL:PT2M
TZID:America/Vancouver
X-WR-TIMEZONE:America/Vancouver
BEGIN:VTIMEZONE
TZID:America/Vancouver
X-LIC-LOCATION:America/Vancouver
BEGIN:DAYLIGHT
TZOFFSETFROM:-0800
TZOFFSETTO:-0700
TZNAME:PDT
DTSTART:19700308T020000
RRULE:FREQ=YEARLY;BYMONTH=3;BYDAY=2SU
END:DAYLIGHT
BEGIN:STANDARD
TZOFFSETFROM:-0700
TZOFFSETTO:-0800
TZNAME:PST
DTSTART:19701101T020000
RRULE:FREQ=YEARLY;BYMONTH=11;BYDAY=1SU
END:STANDARD
END:VTIMEZONE
BEGIN:VEVENT
UID:15783
DTSTAMP;TZID=America/Vancouver:20200122T183000
DTSTART;TZID=America/Vancouver:20200122T183000
DTEND;TZID=America/Vancouver:20200122T191500
SUMMARY:That&#8217\;s What She Set 0 Old Spikes 2
DESCRIPTION:*Game re-scheduled from Jan. 15 due to snow cancellation. 
STATUS:CONFIRMED
LAST-MODIFIED:20200115T221100
LOCATION:Ecole au Coeur de L’Ile - Court 2\, 566 Linshart Rd\, Comox\, BC V9M 2K8\, Canada
GEO:49.6839056;-124.9287382
END:VEVENT
BEGIN:VEVENT
UID:15785
DTSTAMP;TZID=America/Vancouver:20200122T191500
DTSTART;TZID=America/Vancouver:20200122T191500
DTEND;TZID=America/Vancouver:20200122T200000
SUMMARY:That&#8217\;s What She Set 1 Strike Farce 2
DESCRIPTION:*Game re-scheduled from Jan. 15 due to snow cancellation. 
STATUS:CONFIRMED
LAST-MODIFIED:20200115T221100
LOCATION:Ecole au Coeur de L’Ile - Court 2\, 566 Linshart Rd\, Comox\, BC V9M 2K8\, Canada
GEO:49.6839056;-124.9287382
END:VEVENT
BEGIN:VEVENT
UID:15928
DTSTAMP;TZID=America/Vancouver:20200129T200000
DTSTART;TZID=America/Vancouver:20200129T200000
DTEND;TZID=America/Vancouver:20200129T204500
SUMMARY:Big Digs 0 That&#8217\;s What She Set 2
DESCRIPTION:
STATUS:CONFIRMED
LAST-MODIFIED:20200130T040000
LOCATION:Ecole au Coeur de L’Ile - Court 1\, 566 Linshart Rd\, Comox\, BC V9M 2K8\, Canada
GEO:49.6839056;-124.9287382
END:VEVENT
BEGIN:VEVENT
UID:15931
DTSTAMP;TZID=America/Vancouver:20200129T204500
DTSTART;TZID=America/Vancouver:20200129T204500
DTEND;TZID=America/Vancouver:20200129T213000
SUMMARY:Click\, Click\, Boom! 2 That&#8217\;s What She Set 0
DESCRIPTION:
STATUS:CONFIRMED
LAST-MODIFIED:20200130T044500
LOCATION:Ecole au Coeur de L’Ile - Court 2\, 566 Linshart Rd\, Comox\, BC V9M 2K8\, Canada
GEO:49.6839056;-124.9287382
END:VEVENT
BEGIN:VEVENT
UID:15937
DTSTAMP;TZID=America/Vancouver:20200205T183000
DTSTART;TZID=America/Vancouver:20200205T183000
DTEND;TZID=America/Vancouver:20200205T191500
SUMMARY:Ball Fondlers 2 That&#8217\;s What She Set 1
DESCRIPTION:
STATUS:CONFIRMED
LAST-MODIFIED:20200206T023000
LOCATION:Brooklyn Elementary - Court 1\, 1290 Guthrie Rd\, Comox\, BC V9M 4G2\, Canada
GEO:49.6868764;-124.90481720000002
END:VEVENT
BEGIN:VEVENT
UID:15940
DTSTAMP;TZID=America/Vancouver:20200205T191500
DTSTART;TZID=America/Vancouver:20200205T191500
DTEND;TZID=America/Vancouver:20200205T200000
SUMMARY:Franky Spanky 0 That&#8217\;s What She Set 2
DESCRIPTION:
STATUS:CONFIRMED
LAST-MODIFIED:20200206T031500
LOCATION:Brooklyn Elementary - Court 2\, 1290 Guthrie Rd\, Comox\, BC V9M 4G2\, Canada
GEO:49.6868764;-124.90481720000002
END:VEVENT
BEGIN:VEVENT
UID:15968
DTSTAMP;TZID=America/Vancouver:20200212T200000
DTSTART;TZID=America/Vancouver:20200212T200000
DTEND;TZID=America/Vancouver:20200212T213000
SUMMARY:Matchblock Twenty 0 That&#8217\;s What She Set 3
DESCRIPTION:Best-of-5
STATUS:CONFIRMED
LAST-MODIFIED:20200213T040000
LOCATION:Ecole au Coeur de L’Ile - Court 2\, 566 Linshart Rd\, Comox\, BC V9M 2K8\, Canada
GEO:49.6839056;-124.9287382
END:VEVENT
BEGIN:VEVENT
UID:15974
DTSTAMP;TZID=America/Vancouver:20200219T183000
DTSTART;TZID=America/Vancouver:20200219T183000
DTEND;TZID=America/Vancouver:20200219T191500
SUMMARY:That&#8217\;s What She Set 2 No sets for you! 0
DESCRIPTION:
STATUS:CONFIRMED
LAST-MODIFIED:20200220T023000
LOCATION:Brooklyn Elementary - Court 2\, 1290 Guthrie Rd\, Comox\, BC V9M 4G2\, Canada
GEO:49.6868764;-124.90481720000002
END:VEVENT
BEGIN:VEVENT
UID:15976
DTSTAMP;TZID=America/Vancouver:20200219T191500
DTSTART;TZID=America/Vancouver:20200219T191500
DTEND;TZID=America/Vancouver:20200219T200000
SUMMARY:That&#8217\;s What She Set 0 Thrillbillies 2
DESCRIPTION:
STATUS:CONFIRMED
LAST-MODIFIED:20200220T031500
LOCATION:Brooklyn Elementary - Court 2\, 1290 Guthrie Rd\, Comox\, BC V9M 4G2\, Canada
GEO:49.6868764;-124.90481720000002
END:VEVENT
BEGIN:VEVENT
UID:15985
DTSTAMP;TZID=America/Vancouver:20200226T183000
DTSTART;TZID=America/Vancouver:20200226T183000
DTEND;TZID=America/Vancouver:20200226T191500
SUMMARY:That&#8217\;s What She Set 2 Empire Spikes Back 0
DESCRIPTION:
STATUS:CONFIRMED
LAST-MODIFIED:20200227T023000
LOCATION:Brooklyn Elementary - Court 2\, 1290 Guthrie Rd\, Comox\, BC V9M 4G2\, Canada
GEO:49.6868764;-124.90481720000002
END:VEVENT
BEGIN:VEVENT
UID:15987
DTSTAMP;TZID=America/Vancouver:20200226T191500
DTSTART;TZID=America/Vancouver:20200226T191500
DTEND;TZID=America/Vancouver:20200226T200000
SUMMARY:That&#8217\;s What She Set 1 Balls Deep 2
DESCRIPTION:
STATUS:CONFIRMED
LAST-MODIFIED:20200227T031500
LOCATION:Brooklyn Elementary - Court 2\, 1290 Guthrie Rd\, Comox\, BC V9M 4G2\, Canada
GEO:49.6868764;-124.90481720000002
END:VEVENT
BEGIN:VEVENT
UID:16241
DTSTAMP;TZID=America/Vancouver:20200304T200000
DTSTART;TZID=America/Vancouver:20200304T200000
DTEND;TZID=America/Vancouver:20200304T213000
SUMMARY:That&#8217\;s What She Set 3 No sets for you! 1
DESCRIPTION:B Tier SF#3: Seeds 5 vs. 8
STATUS:CONFIRMED
LAST-MODIFIED:20200305T040000
LOCATION:Ecole au Coeur de L’Ile - Court 2\, 566 Linshart Rd\, Comox\, BC V9M 2K8\, Canada
GEO:49.6839056;-124.9287382
END:VEVENT
BEGIN:VEVENT
UID:16346
DTSTAMP;TZID=America/Vancouver:20200311T200000
DTSTART;TZID=America/Vancouver:20200311T200000
DTEND;TZID=America/Vancouver:20200311T213000
SUMMARY:That&#8217\;s What She Set 3 Old Spikes 1
DESCRIPTION:B Tier 5th Place: Winners SF#3 vs. SF#4
STATUS:CONFIRMED
LAST-MODIFIED:20200312T030000
LOCATION:Ecole au Coeur de L’Ile - Court 1\, 566 Linshart Rd\, Comox\, BC V9M 2K8\, Canada
GEO:49.6839056;-124.9287382
END:VEVENT
BEGIN:VEVENT
UID:18825
DTSTAMP;TZID=America/Vancouver:20200923T201000
DTSTART;TZID=America/Vancouver:20200923T201000
DTEND;TZID=America/Vancouver:20200923T214000
SUMMARY:That&#8217\;s What She Set 0 Thrillbillies 3
DESCRIPTION:*Best-of-5 - **Teams may enter gym at 8:05 after previous teams have left. ***Ensure all players have signed online waiver and read Return To Play Guidelines.
STATUS:CONFIRMED
LAST-MODIFIED:20200924T031000
LOCATION:19 Wing - Court 3\, 1575 Military Row\, Comox\, BC V9M 4H2\, Canada
GEO:49.71223332552268;-124.9096105552643
END:VEVENT
BEGIN:VEVENT
UID:18829
DTSTAMP;TZID=America/Vancouver:20200930T183000
DTSTART;TZID=America/Vancouver:20200930T183000
DTEND;TZID=America/Vancouver:20200930T191500
SUMMARY:Just Spank It 0 That&#8217\;s What She Set 2
DESCRIPTION:
STATUS:CONFIRMED
LAST-MODIFIED:20201001T013000
LOCATION:19 Wing - Court 2\, 1575 Military Row\, Comox\, BC V9M 4H2\, Canada
GEO:49.71222638796791;-124.90959982642823
END:VEVENT
BEGIN:VEVENT
UID:18831
DTSTAMP;TZID=America/Vancouver:20200930T191500
DTSTART;TZID=America/Vancouver:20200930T191500
DTEND;TZID=America/Vancouver:20200930T200000
SUMMARY:In Our Prime 0 That&#8217\;s What She Set 2
DESCRIPTION:
STATUS:CONFIRMED
LAST-MODIFIED:20201001T021500
LOCATION:19 Wing - Court 1\, 1575 Military Row\, Comox\, BC V9M 4H2\, Canada
GEO:49.71223332552268;-124.90958909759217
END:VEVENT
BEGIN:VEVENT
UID:18844
DTSTAMP;TZID=America/Vancouver:20201007T201000
DTSTART;TZID=America/Vancouver:20201007T201000
DTEND;TZID=America/Vancouver:20201007T205500
SUMMARY:That&#8217\;s What She Set 1 Itsy Tipsy Spikers 1
DESCRIPTION:
STATUS:CONFIRMED
LAST-MODIFIED:20201008T031000
LOCATION:19 Wing - Court 2\, 1575 Military Row\, Comox\, BC V9M 4H2\, Canada
GEO:49.71222638796791;-124.90959982642823
END:VEVENT
BEGIN:VEVENT
UID:18847
DTSTAMP;TZID=America/Vancouver:20201007T205500
DTSTART;TZID=America/Vancouver:20201007T205500
DTEND;TZID=America/Vancouver:20201007T214000
SUMMARY:That&#8217\;s What She Set 2 Ball Fondlers 0
DESCRIPTION:
STATUS:CONFIRMED
LAST-MODIFIED:20201008T035500
LOCATION:19 Wing - Court 2\, 1575 Military Row\, Comox\, BC V9M 4H2\, Canada
GEO:49.71222638796791;-124.90959982642823
END:VEVENT
BEGIN:VEVENT
UID:19119
DTSTAMP;TZID=America/Vancouver:20201014T183000
DTSTART;TZID=America/Vancouver:20201014T183000
DTEND;TZID=America/Vancouver:20201014T191500
SUMMARY:Ball Fondlers 0 That&#8217\;s What She Set 2
DESCRIPTION:
STATUS:CONFIRMED
LAST-MODIFIED:20201015T013000
LOCATION:19 Wing - Court 1\, 1575 Military Row\, Comox\, BC V9M 4H2\, Canada
GEO:49.71223332552268;-124.90958909759217
END:VEVENT
BEGIN:VEVENT
UID:19123
DTSTAMP;TZID=America/Vancouver:20201014T191500
DTSTART;TZID=America/Vancouver:20201014T191500
DTEND;TZID=America/Vancouver:20201014T200000
SUMMARY:Just Spank It 0 That&#8217\;s What She Set 2
DESCRIPTION:
STATUS:CONFIRMED
LAST-MODIFIED:20201015T021500
LOCATION:19 Wing - Court 2\, 1575 Military Row\, Comox\, BC V9M 4H2\, Canada
GEO:49.71222638796791;-124.90959982642823
END:VEVENT
BEGIN:VEVENT
UID:19134
DTSTAMP;TZID=America/Vancouver:20201021T201000
DTSTART;TZID=America/Vancouver:20201021T201000
DTEND;TZID=America/Vancouver:20201021T205500
SUMMARY:That&#8217\;s What She Set 0 Thrillbillies 2
DESCRIPTION:
STATUS:CONFIRMED
LAST-MODIFIED:20201022T031000
LOCATION:19 Wing - Court 1\, 1575 Military Row\, Comox\, BC V9M 4H2\, Canada
GEO:49.71223332552268;-124.90958909759217
END:VEVENT
BEGIN:VEVENT
UID:19137
DTSTAMP;TZID=America/Vancouver:20201021T205500
DTSTART;TZID=America/Vancouver:20201021T205500
DTEND;TZID=America/Vancouver:20201021T214000
SUMMARY:That&#8217\;s What She Set 2 Itsy Tipsy Spikers 0
DESCRIPTION:
STATUS:CONFIRMED
LAST-MODIFIED:20201022T035500
LOCATION:19 Wing - Court 1\, 1575 Military Row\, Comox\, BC V9M 4H2\, Canada
GEO:49.71223332552268;-124.90958909759217
END:VEVENT
BEGIN:VEVENT
UID:19141
DTSTAMP;TZID=America/Vancouver:20201028T183000
DTSTART;TZID=America/Vancouver:20201028T183000
DTEND;TZID=America/Vancouver:20201028T200000
SUMMARY:That&#8217\;s What She Set 2 In Our Prime 3
DESCRIPTION:Best-of-5
STATUS:CONFIRMED
LAST-MODIFIED:20201029T013000
LOCATION:19 Wing - Court 3\, 1575 Military Row\, Comox\, BC V9M 4H2\, Canada
GEO:49.71223332552268;-124.9096105552643
END:VEVENT
BEGIN:VEVENT
UID:19298
DTSTAMP;TZID=America/Vancouver:20201104T201000
DTSTART;TZID=America/Vancouver:20201104T201000
DTEND;TZID=America/Vancouver:20201104T214000
SUMMARY:That&#8217\;s What She Set 1 Itsy Tipsy Spikers 3
DESCRIPTION:B Tier SF#2: Seeds 2 vs. 3 *Best-of-5
STATUS:CONFIRMED
LAST-MODIFIED:20201105T041000
LOCATION:19 Wing - Court 3\, 1575 Military Row\, Comox\, BC V9M 4H2\, Canada
GEO:49.71223332552268;-124.9096105552643
END:VEVENT
BEGIN:VEVENT
UID:19426
DTSTAMP;TZID=America/Vancouver:20201118T183000
DTSTART;TZID=America/Vancouver:20201118T183000
DTEND;TZID=America/Vancouver:20201118T200000
SUMMARY:That&#8217\;s What She Set 3 Ball Fondlers 0
DESCRIPTION:B Tier 3rd Place - Best of 5
STATUS:CONFIRMED
LAST-MODIFIED:20201119T023000
LOCATION:19 Wing - Court 3\, 1575 Military Row\, Comox\, BC V9M 4H2\, Canada
GEO:49.71223332552268;-124.9096105552643
END:VEVENT
END:VCALENDAR