BEGIN:VCALENDAR
VERSION:2.0
PRODID:-//SCVSSC//EN
CALSCALE:GREGORIAN
METHOD:PUBLISH
URL:https://comoxvalleysports.ca/calendar/sound-5-calendar/?feed=cvssc-calendar-ical
X-FROM-URL:https://comoxvalleysports.ca/calendar/sound-5-calendar/?feed=cvssc-calendar-ical
NAME:Sound 5 Calendar
X-WR-CALNAME:Sound 5 Calendar
DESCRIPTION:Sound 5 Calendar
X-WR-CALDESC:Sound 5 Calendar
REFRESH-INTERVAL;VALUE=DURATION:PT2M
X-PUBLISHED-TTL:PT2M
TZID:America/Vancouver
X-WR-TIMEZONE:America/Vancouver
BEGIN:VTIMEZONE
TZID:America/Vancouver
X-LIC-LOCATION:America/Vancouver
BEGIN:DAYLIGHT
TZOFFSETFROM:-0800
TZOFFSETTO:-0700
TZNAME:PDT
DTSTART:19700308T020000
RRULE:FREQ=YEARLY;BYMONTH=3;BYDAY=2SU
END:DAYLIGHT
BEGIN:STANDARD
TZOFFSETFROM:-0700
TZOFFSETTO:-0800
TZNAME:PST
DTSTART:19701101T020000
RRULE:FREQ=YEARLY;BYMONTH=11;BYDAY=1SU
END:STANDARD
END:VTIMEZONE
BEGIN:VEVENT
UID:20961
DTSTAMP;TZID=America/Vancouver:20210621T180000
DTSTART;TZID=America/Vancouver:20210621T180000
DTEND;TZID=America/Vancouver:20210621T184500
SUMMARY:High Balls 2 Sound 5 0
DESCRIPTION:
STATUS:CONFIRMED
LAST-MODIFIED:20210622T010000
LOCATION:Standard Park - Court 2 - Furthest From the Road\, 1450-1530 Cliffe Ave\, Courtenay\, BC V9N\, Canada
GEO:49.68625102398914;-124.99253111875612
END:VEVENT
BEGIN:VEVENT
UID:20962
DTSTAMP;TZID=America/Vancouver:20210621T184500
DTSTART;TZID=America/Vancouver:20210621T184500
DTEND;TZID=America/Vancouver:20210621T193000
SUMMARY:Always get er up 2 Sound 5 0
DESCRIPTION:
STATUS:CONFIRMED
LAST-MODIFIED:20210622T014500
LOCATION:Standard Park - Court 1 - Closest to the Road\, 1450-1530 Cliffe Ave\, Courtenay\, BC V9N\, Canada
GEO:49.686237141457475;-124.99255257642824
END:VEVENT
BEGIN:VEVENT
UID:21059
DTSTAMP;TZID=America/Vancouver:20210623T201000
DTSTART;TZID=America/Vancouver:20210623T201000
DTEND;TZID=America/Vancouver:20210623T205000
SUMMARY:Sound 5 0 Spiked Punch 2
DESCRIPTION:
STATUS:CONFIRMED
LAST-MODIFIED:20210618T164200
LOCATION:Standard Park - Court 2 - Furthest From the Road\, 1450-1530 Cliffe Ave\, Courtenay\, BC V9N\, Canada
GEO:49.68625102398914;-124.99253111875612
END:VEVENT
BEGIN:VEVENT
UID:21061
DTSTAMP;TZID=America/Vancouver:20210623T205000
DTSTART;TZID=America/Vancouver:20210623T205000
DTEND;TZID=America/Vancouver:20210623T213000
SUMMARY:Sound 5 0 The Beached Wailers 2
DESCRIPTION:
STATUS:CONFIRMED
LAST-MODIFIED:20210618T164300
LOCATION:Standard Park - Court 2 - Furthest From the Road\, 1450-1530 Cliffe Ave\, Courtenay\, BC V9N\, Canada
GEO:49.68625102398914;-124.99253111875612
END:VEVENT
BEGIN:VEVENT
UID:20973
DTSTAMP;TZID=America/Vancouver:20210628T193000
DTSTART;TZID=America/Vancouver:20210628T193000
DTEND;TZID=America/Vancouver:20210628T201500
SUMMARY:Sound 5 vs Spikological Warfare
DESCRIPTION:
STATUS:CONFIRMED
LAST-MODIFIED:20210628T211600
LOCATION:Standard Park - Court 2 - Furthest From the Road\, 1450-1530 Cliffe Ave\, Courtenay\, BC V9N\, Canada
GEO:49.68625102398914;-124.99253111875612
END:VEVENT
BEGIN:VEVENT
UID:20975
DTSTAMP;TZID=America/Vancouver:20210628T201500
DTSTART;TZID=America/Vancouver:20210628T201500
DTEND;TZID=America/Vancouver:20210628T210000
SUMMARY:Sound 5 vs Sloppy Sets
DESCRIPTION:
STATUS:CONFIRMED
LAST-MODIFIED:20210628T211700
LOCATION:Standard Park - Court 2 - Furthest From the Road\, 1450-1530 Cliffe Ave\, Courtenay\, BC V9N\, Canada
GEO:49.68625102398914;-124.99253111875612
END:VEVENT
BEGIN:VEVENT
UID:21063
DTSTAMP;TZID=America/Vancouver:20210630T173000
DTSTART;TZID=America/Vancouver:20210630T173000
DTEND;TZID=America/Vancouver:20210630T181000
SUMMARY:Itsy Tipsy Spikers 2 Sound 5 0
DESCRIPTION:
STATUS:CONFIRMED
LAST-MODIFIED:20210701T003000
LOCATION:Standard Park - Court 2 - Furthest From the Road\, 1450-1530 Cliffe Ave\, Courtenay\, BC V9N\, Canada
GEO:49.68625102398914;-124.99253111875612
END:VEVENT
BEGIN:VEVENT
UID:21064
DTSTAMP;TZID=America/Vancouver:20210630T181000
DTSTART;TZID=America/Vancouver:20210630T181000
DTEND;TZID=America/Vancouver:20210630T185000
SUMMARY:Big Dig Energy 2 Sound 5 0
DESCRIPTION:
STATUS:CONFIRMED
LAST-MODIFIED:20210701T011000
LOCATION:Standard Park - Court 1 - Closest to the Road\, 1450-1530 Cliffe Ave\, Courtenay\, BC V9N\, Canada
GEO:49.686237141457475;-124.99255257642824
END:VEVENT
BEGIN:VEVENT
UID:20976
DTSTAMP;TZID=America/Vancouver:20210705T180000
DTSTART;TZID=America/Vancouver:20210705T180000
DTEND;TZID=America/Vancouver:20210705T184500
SUMMARY:Sound 5 0 Straight off the couch 2
DESCRIPTION:
STATUS:CONFIRMED
LAST-MODIFIED:20210706T010000
LOCATION:Standard Park - Court 1 - Closest to the Road\, 1450-1530 Cliffe Ave\, Courtenay\, BC V9N\, Canada
GEO:49.686237141457475;-124.99255257642824
END:VEVENT
BEGIN:VEVENT
UID:20978
DTSTAMP;TZID=America/Vancouver:20210705T184500
DTSTART;TZID=America/Vancouver:20210705T184500
DTEND;TZID=America/Vancouver:20210705T193000
SUMMARY:Sound 5 0 The enHeightened 2
DESCRIPTION:
STATUS:CONFIRMED
LAST-MODIFIED:20210706T014500
LOCATION:Standard Park - Court 1 - Closest to the Road\, 1450-1530 Cliffe Ave\, Courtenay\, BC V9N\, Canada
GEO:49.686237141457475;-124.99255257642824
END:VEVENT
BEGIN:VEVENT
UID:21079
DTSTAMP;TZID=America/Vancouver:20210707T185000
DTSTART;TZID=America/Vancouver:20210707T185000
DTEND;TZID=America/Vancouver:20210707T193000
SUMMARY:Sound 5 0 In Our Prime 2
DESCRIPTION:
STATUS:CONFIRMED
LAST-MODIFIED:20210708T015000
LOCATION:Standard Park - Court 2 - Furthest From the Road\, 1450-1530 Cliffe Ave\, Courtenay\, BC V9N\, Canada
GEO:49.68625102398914;-124.99253111875612
END:VEVENT
BEGIN:VEVENT
UID:21081
DTSTAMP;TZID=America/Vancouver:20210707T193000
DTSTART;TZID=America/Vancouver:20210707T193000
DTEND;TZID=America/Vancouver:20210707T201000
SUMMARY:Sound 5 0 Dirty Sets 2
DESCRIPTION:
STATUS:CONFIRMED
LAST-MODIFIED:20210618T164600
LOCATION:Standard Park - Court 2 - Furthest From the Road\, 1450-1530 Cliffe Ave\, Courtenay\, BC V9N\, Canada
GEO:49.68625102398914;-124.99253111875612
END:VEVENT
BEGIN:VEVENT
UID:20985
DTSTAMP;TZID=America/Vancouver:20210712T180000
DTSTART;TZID=America/Vancouver:20210712T180000
DTEND;TZID=America/Vancouver:20210712T193000
SUMMARY:Setters of Catan 3 Sound 5 0
DESCRIPTION:*Best-of-5 Game
STATUS:CONFIRMED
LAST-MODIFIED:20210713T010000
LOCATION:Standard Park - Court 2 - Furthest From the Road\, 1450-1530 Cliffe Ave\, Courtenay\, BC V9N\, Canada
GEO:49.68625102398914;-124.99253111875612
END:VEVENT
BEGIN:VEVENT
UID:22033
DTSTAMP;TZID=America/Vancouver:20210714T201000
DTSTART;TZID=America/Vancouver:20210714T201000
DTEND;TZID=America/Vancouver:20210714T211500
SUMMARY:Sweatin&#8217\; with the Oldies 3 Sound 5 1
DESCRIPTION:*Best-of-5 (Time Permitting)
STATUS:CONFIRMED
LAST-MODIFIED:20210715T194300
LOCATION:Standard Park - Court 2 - Furthest From the Road\, 1450-1530 Cliffe Ave\, Courtenay\, BC V9N\, Canada
GEO:49.68625102398914;-124.99253111875612
END:VEVENT
BEGIN:VEVENT
UID:20993
DTSTAMP;TZID=America/Vancouver:20210719T193000
DTSTART;TZID=America/Vancouver:20210719T193000
DTEND;TZID=America/Vancouver:20210719T201500
SUMMARY:High Balls 1 Sound 5 2
DESCRIPTION:
STATUS:CONFIRMED
LAST-MODIFIED:20210721T170400
LOCATION:Standard Park - Court 2 - Furthest From the Road\, 1450-1530 Cliffe Ave\, Courtenay\, BC V9N\, Canada
GEO:49.68625102398914;-124.99253111875612
END:VEVENT
BEGIN:VEVENT
UID:20994
DTSTAMP;TZID=America/Vancouver:20210719T201500
DTSTART;TZID=America/Vancouver:20210719T201500
DTEND;TZID=America/Vancouver:20210719T210000
SUMMARY:Always get er up 2 Sound 5 0
DESCRIPTION:
STATUS:CONFIRMED
LAST-MODIFIED:20210720T031500
LOCATION:Standard Park - Court 1 - Closest to the Road\, 1450-1530 Cliffe Ave\, Courtenay\, BC V9N\, Canada
GEO:49.686237141457475;-124.99255257642824
END:VEVENT
BEGIN:VEVENT
UID:22039
DTSTAMP;TZID=America/Vancouver:20210721T185000
DTSTART;TZID=America/Vancouver:20210721T185000
DTEND;TZID=America/Vancouver:20210721T193000
SUMMARY:Sound 5 0 Destructo Dinos 2
DESCRIPTION:
STATUS:CONFIRMED
LAST-MODIFIED:20210722T015000
LOCATION:Standard Park - Court 2 - Furthest From the Road\, 1450-1530 Cliffe Ave\, Courtenay\, BC V9N\, Canada
GEO:49.68625102398914;-124.99253111875612
END:VEVENT
BEGIN:VEVENT
UID:22041
DTSTAMP;TZID=America/Vancouver:20210721T193000
DTSTART;TZID=America/Vancouver:20210721T193000
DTEND;TZID=America/Vancouver:20210721T201000
SUMMARY:Sound 5 0 Animal kingdom 2
DESCRIPTION:
STATUS:CONFIRMED
LAST-MODIFIED:20210722T023000
LOCATION:Standard Park - Court 2 - Furthest From the Road\, 1450-1530 Cliffe Ave\, Courtenay\, BC V9N\, Canada
GEO:49.68625102398914;-124.99253111875612
END:VEVENT
BEGIN:VEVENT
UID:20997
DTSTAMP;TZID=America/Vancouver:20210726T180000
DTSTART;TZID=America/Vancouver:20210726T180000
DTEND;TZID=America/Vancouver:20210726T184500
SUMMARY:Sound 5 0 Spikological Warfare 2
DESCRIPTION:
STATUS:CONFIRMED
LAST-MODIFIED:20210727T010000
LOCATION:Standard Park - Court 2 - Furthest From the Road\, 1450-1530 Cliffe Ave\, Courtenay\, BC V9N\, Canada
GEO:49.68625102398914;-124.99253111875612
END:VEVENT
BEGIN:VEVENT
UID:20999
DTSTAMP;TZID=America/Vancouver:20210726T184500
DTSTART;TZID=America/Vancouver:20210726T184500
DTEND;TZID=America/Vancouver:20210726T193000
SUMMARY:Sound 5 0 Sloppy Sets 2
DESCRIPTION:
STATUS:CONFIRMED
LAST-MODIFIED:20210727T014500
LOCATION:Standard Park - Court 2 - Furthest From the Road\, 1450-1530 Cliffe Ave\, Courtenay\, BC V9N\, Canada
GEO:49.68625102398914;-124.99253111875612
END:VEVENT
BEGIN:VEVENT
UID:22044
DTSTAMP;TZID=America/Vancouver:20210728T173000
DTSTART;TZID=America/Vancouver:20210728T173000
DTEND;TZID=America/Vancouver:20210728T181000
SUMMARY:Peaky Blockers 2 Sound 5 0
DESCRIPTION:
STATUS:CONFIRMED
LAST-MODIFIED:20210729T003000
LOCATION:Standard Park - Court 1 - Closest to the Road\, 1450-1530 Cliffe Ave\, Courtenay\, BC V9N\, Canada
GEO:49.686237141457475;-124.99255257642824
END:VEVENT
BEGIN:VEVENT
UID:22047
DTSTAMP;TZID=America/Vancouver:20210728T181000
DTSTART;TZID=America/Vancouver:20210728T181000
DTEND;TZID=America/Vancouver:20210728T185000
SUMMARY:Quarantine Queens 2 Sound 5 0
DESCRIPTION:
STATUS:CONFIRMED
LAST-MODIFIED:20210729T011000
LOCATION:Standard Park - Court 2 - Furthest From the Road\, 1450-1530 Cliffe Ave\, Courtenay\, BC V9N\, Canada
GEO:49.68625102398914;-124.99253111875612
END:VEVENT
BEGIN:VEVENT
UID:22308
DTSTAMP;TZID=America/Vancouver:20210804T195000
DTSTART;TZID=America/Vancouver:20210804T195000
DTEND;TZID=America/Vancouver:20210804T210000
SUMMARY:In Our Prime 3 Sound 5 0
DESCRIPTION:SF#5: Seeds 9 vs. 12; Best-of-5 (time permitting)
STATUS:CONFIRMED
LAST-MODIFIED:20210805T025000
LOCATION:Standard Park - Court 1 - Closest to the Road\, 1450-1530 Cliffe Ave\, Courtenay\, BC V9N\, Canada
GEO:49.686237141457475;-124.99255257642824
END:VEVENT
BEGIN:VEVENT
UID:21008
DTSTAMP;TZID=America/Vancouver:20210809T190000
DTSTART;TZID=America/Vancouver:20210809T190000
DTEND;TZID=America/Vancouver:20210809T194500
SUMMARY:Sound 5 0 Straight off the couch 2
DESCRIPTION:*Group start times move up 30 minutes to 5:30 p.m. and 7:00 p.m.
STATUS:CONFIRMED
LAST-MODIFIED:20210621T234000
LOCATION:Standard Park - Court 1 - Closest to the Road\, 1450-1530 Cliffe Ave\, Courtenay\, BC V9N\, Canada
GEO:49.686237141457475;-124.99255257642824
END:VEVENT
BEGIN:VEVENT
UID:21010
DTSTAMP;TZID=America/Vancouver:20210809T194500
DTSTART;TZID=America/Vancouver:20210809T194500
DTEND;TZID=America/Vancouver:20210809T203000
SUMMARY:Sound 5 2 The enHeightened 1
DESCRIPTION:
STATUS:CONFIRMED
LAST-MODIFIED:20210621T234100
LOCATION:Standard Park - Court 1 - Closest to the Road\, 1450-1530 Cliffe Ave\, Courtenay\, BC V9N\, Canada
GEO:49.686237141457475;-124.99255257642824
END:VEVENT
BEGIN:VEVENT
UID:22356
DTSTAMP;TZID=America/Vancouver:20210811T173000
DTSTART;TZID=America/Vancouver:20210811T173000
DTEND;TZID=America/Vancouver:20210811T184000
SUMMARY:Peaky Blockers 2 Sound 5 0
DESCRIPTION:11th Place Game: Best of 5 (time permitting)
STATUS:CONFIRMED
LAST-MODIFIED:20210812T003000
LOCATION:Standard Park - Court 2 - Furthest From the Road\, 1450-1530 Cliffe Ave\, Courtenay\, BC V9N\, Canada
GEO:49.68625102398914;-124.99253111875612
END:VEVENT
BEGIN:VEVENT
UID:21419
DTSTAMP;TZID=America/Vancouver:20210816T190000
DTSTART;TZID=America/Vancouver:20210816T190000
DTEND;TZID=America/Vancouver:20210816T194500
SUMMARY:Sound 5 2 Spikological Warfare 0
DESCRIPTION:*Make-up games from June 28.
STATUS:CONFIRMED
LAST-MODIFIED:20210817T020000
LOCATION:Standard Park - Court 2 - Furthest From the Road\, 1450-1530 Cliffe Ave\, Courtenay\, BC V9N\, Canada
GEO:49.68625102398914;-124.99253111875612
END:VEVENT
BEGIN:VEVENT
UID:21421
DTSTAMP;TZID=America/Vancouver:20210816T194500
DTSTART;TZID=America/Vancouver:20210816T194500
DTEND;TZID=America/Vancouver:20210816T203000
SUMMARY:Sound 5 2 Sloppy Sets 0
DESCRIPTION:*Make-up games from June 28.
STATUS:CONFIRMED
LAST-MODIFIED:20210817T024500
LOCATION:Standard Park - Court 2 - Furthest From the Road\, 1450-1530 Cliffe Ave\, Courtenay\, BC V9N\, Canada
GEO:49.68625102398914;-124.99253111875612
END:VEVENT
BEGIN:VEVENT
UID:22533
DTSTAMP;TZID=America/Vancouver:20210823T173000
DTSTART;TZID=America/Vancouver:20210823T173000
DTEND;TZID=America/Vancouver:20210823T181500
SUMMARY:Straight off the couch 0 Sound 5 2
DESCRIPTION:SF#3: Seeds 5 vs. 8; Winner stays on Court 1 for 5th Place Game and Loser moves to Court 2 for 7th Place Game
STATUS:CONFIRMED
LAST-MODIFIED:20210824T154300
LOCATION:Standard Park - Court 1 - Closest to the Road\, 1450-1530 Cliffe Ave\, Courtenay\, BC V9N\, Canada
GEO:49.686237141457475;-124.99255257642824
END:VEVENT
BEGIN:VEVENT
UID:22535
DTSTAMP;TZID=America/Vancouver:20210823T181500
DTSTART;TZID=America/Vancouver:20210823T181500
DTEND;TZID=America/Vancouver:20210823T190000
SUMMARY:The enHeightened 2 Sound 5 0
DESCRIPTION:5th Place Game: Winners SF#3 vs. SF#4
STATUS:CONFIRMED
LAST-MODIFIED:20210824T154400
LOCATION:Standard Park - Court 1 - Closest to the Road\, 1450-1530 Cliffe Ave\, Courtenay\, BC V9N\, Canada
GEO:49.686237141457475;-124.99255257642824
END:VEVENT
END:VCALENDAR