BEGIN:VCALENDAR
VERSION:2.0
PRODID:-//SCVSSC//EN
CALSCALE:GREGORIAN
METHOD:PUBLISH
URL:https://comoxvalleysports.ca/calendar/protected-sets-calendar/?feed=cvssc-calendar-ical
X-FROM-URL:https://comoxvalleysports.ca/calendar/protected-sets-calendar/?feed=cvssc-calendar-ical
NAME:Protected Sets Calendar
X-WR-CALNAME:Protected Sets Calendar
DESCRIPTION:Protected Sets Calendar
X-WR-CALDESC:Protected Sets Calendar
REFRESH-INTERVAL;VALUE=DURATION:PT2M
X-PUBLISHED-TTL:PT2M
TZID:America/Vancouver
X-WR-TIMEZONE:America/Vancouver
BEGIN:VTIMEZONE
TZID:America/Vancouver
X-LIC-LOCATION:America/Vancouver
BEGIN:DAYLIGHT
TZOFFSETFROM:-0800
TZOFFSETTO:-0700
TZNAME:PDT
DTSTART:19700308T020000
RRULE:FREQ=YEARLY;BYMONTH=3;BYDAY=2SU
END:DAYLIGHT
BEGIN:STANDARD
TZOFFSETFROM:-0700
TZOFFSETTO:-0800
TZNAME:PST
DTSTART:19701101T020000
RRULE:FREQ=YEARLY;BYMONTH=11;BYDAY=1SU
END:STANDARD
END:VTIMEZONE
BEGIN:VEVENT
UID:50489
DTSTAMP;TZID=America/Vancouver:20250917T193000
DTSTART;TZID=America/Vancouver:20250917T193000
DTEND;TZID=America/Vancouver:20250917T201500
SUMMARY:Bringing Setsy Back 0 Protected Sets 2
DESCRIPTION:Please show up 10-15 mins early for early games to help set up, warm up and start on time and help clean up at the end. Have a great season!
STATUS:CONFIRMED
LAST-MODIFIED:20250918T023000
LOCATION:Ecole au Coeur de L’Ile - Court 2\, 566 Linshart Rd\, Comox\, BC V9M 2K8\, Canada
GEO:49.6839056;-124.9287382
END:VEVENT
BEGIN:VEVENT
UID:50490
DTSTAMP;TZID=America/Vancouver:20250917T201500
DTSTART;TZID=America/Vancouver:20250917T201500
DTEND;TZID=America/Vancouver:20250917T210000
SUMMARY:Jagged Little Kill 0 Protected Sets 2
DESCRIPTION:
STATUS:CONFIRMED
LAST-MODIFIED:20250918T031500
LOCATION:Ecole au Coeur de L’Ile - Court 1\, 566 Linshart Rd\, Comox\, BC V9M 2K8\, Canada
GEO:49.6839056;-124.9287382
END:VEVENT
BEGIN:VEVENT
UID:50515
DTSTAMP;TZID=America/Vancouver:20250924T202000
DTSTART;TZID=America/Vancouver:20250924T202000
DTEND;TZID=America/Vancouver:20250924T210000
SUMMARY:Pop-up Blockers 0 Protected Sets 2
DESCRIPTION:*Start time changed due to school event and captains notified. 
STATUS:CONFIRMED
LAST-MODIFIED:20250923T230200
LOCATION:Ecole au Coeur de L’Ile - Court 2\, 566 Linshart Rd\, Comox\, BC V9M 2K8\, Canada
GEO:49.6839056;-124.9287382
END:VEVENT
BEGIN:VEVENT
UID:50516
DTSTAMP;TZID=America/Vancouver:20250924T210000
DTSTART;TZID=America/Vancouver:20250924T210000
DTEND;TZID=America/Vancouver:20250924T214000
SUMMARY:Thrillbillies 1 Protected Sets 1
DESCRIPTION:
STATUS:CONFIRMED
LAST-MODIFIED:20250923T230500
LOCATION:Ecole au Coeur de L’Ile - Court 1\, 566 Linshart Rd\, Comox\, BC V9M 2K8\, Canada
GEO:49.6839056;-124.9287382
END:VEVENT
BEGIN:VEVENT
UID:50536
DTSTAMP;TZID=America/Vancouver:20251001T193000
DTSTART;TZID=America/Vancouver:20251001T193000
DTEND;TZID=America/Vancouver:20251001T201500
SUMMARY:Protected Sets 1 Fight Club 2
DESCRIPTION:
STATUS:CONFIRMED
LAST-MODIFIED:20250925T230100
LOCATION:Brooklyn Elementary - Court 1\, 1290 Guthrie Rd\, Comox\, BC V9M 4G2\, Canada
GEO:49.6868764;-124.90481720000002
END:VEVENT
BEGIN:VEVENT
UID:50538
DTSTAMP;TZID=America/Vancouver:20251001T201500
DTSTART;TZID=America/Vancouver:20251001T201500
DTEND;TZID=America/Vancouver:20251001T210000
SUMMARY:Protected Sets 1 The Six Pack 1
DESCRIPTION:
STATUS:CONFIRMED
LAST-MODIFIED:20250925T230200
LOCATION:Brooklyn Elementary - Court 1\, 1290 Guthrie Rd\, Comox\, BC V9M 4G2\, Canada
GEO:49.6868764;-124.90481720000002
END:VEVENT
BEGIN:VEVENT
UID:50903
DTSTAMP;TZID=America/Vancouver:20251008T235900
DTSTART;TZID=America/Vancouver:20251008T235900
DTEND;TZID=America/Vancouver:20251008T235900
SUMMARY:Protected Sets - BYE WEEK. NO GAME.
DESCRIPTION:No Scheduled Opponent this week. 
STATUS:CONFIRMED
LAST-MODIFIED:20251009T065900
GEO:49.6868764;-124.90481720000002
END:VEVENT
BEGIN:VEVENT
UID:50916
DTSTAMP;TZID=America/Vancouver:20251015T180000
DTSTART;TZID=America/Vancouver:20251015T180000
DTEND;TZID=America/Vancouver:20251015T193000
SUMMARY:RobaxaSet 3 Protected Sets 1
DESCRIPTION:*Best-of-5, time permitting
STATUS:CONFIRMED
LAST-MODIFIED:20251016T010000
LOCATION:Ecole au Coeur de L’Ile - Court 2\, 566 Linshart Rd\, Comox\, BC V9M 2K8\, Canada
GEO:49.6839056;-124.9287382
END:VEVENT
BEGIN:VEVENT
UID:50940
DTSTAMP;TZID=America/Vancouver:20251022T180000
DTSTART;TZID=America/Vancouver:20251022T180000
DTEND;TZID=America/Vancouver:20251022T184500
SUMMARY:Protected Sets 2 Old Spikes 0
DESCRIPTION:
STATUS:CONFIRMED
LAST-MODIFIED:20251023T010000
LOCATION:Ecole au Coeur de L’Ile - Court 2\, 566 Linshart Rd\, Comox\, BC V9M 2K8\, Canada
GEO:49.6839056;-124.9287382
END:VEVENT
BEGIN:VEVENT
UID:50942
DTSTAMP;TZID=America/Vancouver:20251022T184500
DTSTART;TZID=America/Vancouver:20251022T184500
DTEND;TZID=America/Vancouver:20251022T193000
SUMMARY:Protected Sets 0 Highballs 2
DESCRIPTION:
STATUS:CONFIRMED
LAST-MODIFIED:20251023T014500
LOCATION:Ecole au Coeur de L’Ile - Court 2\, 566 Linshart Rd\, Comox\, BC V9M 2K8\, Canada
GEO:49.6839056;-124.9287382
END:VEVENT
BEGIN:VEVENT
UID:50955
DTSTAMP;TZID=America/Vancouver:20251029T180000
DTSTART;TZID=America/Vancouver:20251029T180000
DTEND;TZID=America/Vancouver:20251029T185000
SUMMARY:Protected Sets 0 NiceBalls 2
DESCRIPTION:*50 minute time slots and time slots adjusted due to gym time extension. 
STATUS:CONFIRMED
LAST-MODIFIED:20251023T231200
LOCATION:19 Wing - Court 1\, 1575 Military Row\, Comox\, BC V9M 4H2\, Canada
GEO:49.71223332552268;-124.90958909759217
END:VEVENT
BEGIN:VEVENT
UID:50957
DTSTAMP;TZID=America/Vancouver:20251029T185000
DTSTART;TZID=America/Vancouver:20251029T185000
DTEND;TZID=America/Vancouver:20251029T194000
SUMMARY:Protected Sets 2 Strike Farce 0
DESCRIPTION:
STATUS:CONFIRMED
LAST-MODIFIED:20251023T231200
LOCATION:19 Wing - Court 1\, 1575 Military Row\, Comox\, BC V9M 4H2\, Canada
GEO:49.71223332552268;-124.90958909759217
END:VEVENT
BEGIN:VEVENT
UID:51258
DTSTAMP;TZID=America/Vancouver:20251105T194500
DTSTART;TZID=America/Vancouver:20251105T194500
DTEND;TZID=America/Vancouver:20251105T213000
SUMMARY:Protected Sets 3 Fight Club 0
DESCRIPTION:B+ Tier SF#3: Seeds 5v8; best-of-5
STATUS:CONFIRMED
LAST-MODIFIED:20251106T034500
LOCATION:19 Wing - Court 1\, 1575 Military Row\, Comox\, BC V9M 4H2\, Canada
GEO:49.71223332552268;-124.90958909759217
END:VEVENT
BEGIN:VEVENT
UID:51396
DTSTAMP;TZID=America/Vancouver:20251112T180000
DTSTART;TZID=America/Vancouver:20251112T180000
DTEND;TZID=America/Vancouver:20251112T194500
SUMMARY:Protected Sets 1 RobaxaSet 3
DESCRIPTION:B+ Tier 5th Place Game; best-of-5 (time permitting)
STATUS:CONFIRMED
LAST-MODIFIED:20251113T020000
LOCATION:19 Wing - Court 3\, 1575 Military Row\, Comox\, BC V9M 4H2\, Canada
GEO:49.71223332552268;-124.9096105552643
END:VEVENT
END:VCALENDAR