BEGIN:VCALENDAR
VERSION:2.0
PRODID:-//SCVSSC//EN
CALSCALE:GREGORIAN
METHOD:PUBLISH
URL:https://comoxvalleysports.ca/calendar/no-height-all-hype-calendar/?feed=cvssc-calendar-ical
X-FROM-URL:https://comoxvalleysports.ca/calendar/no-height-all-hype-calendar/?feed=cvssc-calendar-ical
NAME:No Height All Hype Calendar
X-WR-CALNAME:No Height All Hype Calendar
DESCRIPTION:No Height All Hype Calendar
X-WR-CALDESC:No Height All Hype Calendar
REFRESH-INTERVAL;VALUE=DURATION:PT2M
X-PUBLISHED-TTL:PT2M
TZID:America/Vancouver
X-WR-TIMEZONE:America/Vancouver
BEGIN:VTIMEZONE
TZID:America/Vancouver
X-LIC-LOCATION:America/Vancouver
BEGIN:DAYLIGHT
TZOFFSETFROM:-0800
TZOFFSETTO:-0700
TZNAME:PDT
DTSTART:19700308T020000
RRULE:FREQ=YEARLY;BYMONTH=3;BYDAY=2SU
END:DAYLIGHT
BEGIN:STANDARD
TZOFFSETFROM:-0700
TZOFFSETTO:-0800
TZNAME:PST
DTSTART:19701101T020000
RRULE:FREQ=YEARLY;BYMONTH=11;BYDAY=1SU
END:STANDARD
END:VTIMEZONE
BEGIN:VEVENT
UID:52409
DTSTAMP;TZID=America/Vancouver:20260121T193000
DTSTART;TZID=America/Vancouver:20260121T193000
DTEND;TZID=America/Vancouver:20260121T201500
SUMMARY:No Height All Hype 2 Smash to Pass 0
DESCRIPTION:
STATUS:CONFIRMED
LAST-MODIFIED:20260122T033000
LOCATION:19 Wing - Court 1\, 1575 Military Row\, Comox\, BC V9M 4H2\, Canada
GEO:49.71223332552268;-124.90958909759217
END:VEVENT
BEGIN:VEVENT
UID:52411
DTSTAMP;TZID=America/Vancouver:20260121T201500
DTSTART;TZID=America/Vancouver:20260121T201500
DTEND;TZID=America/Vancouver:20260121T210000
SUMMARY:No Height All Hype 0 Toni&#8217\;s Tigers 2.0 2
DESCRIPTION:
STATUS:CONFIRMED
LAST-MODIFIED:20260122T041500
LOCATION:19 Wing - Court 1\, 1575 Military Row\, Comox\, BC V9M 4H2\, Canada
GEO:49.71223332552268;-124.90958909759217
END:VEVENT
BEGIN:VEVENT
UID:52419
DTSTAMP;TZID=America/Vancouver:20260128T193000
DTSTART;TZID=America/Vancouver:20260128T193000
DTEND;TZID=America/Vancouver:20260128T201500
SUMMARY:Eastern European Daddies 0 No Height All Hype 2
DESCRIPTION:
STATUS:CONFIRMED
LAST-MODIFIED:20260129T033000
LOCATION:19 Wing - Court 1\, 1575 Military Row\, Comox\, BC V9M 4H2\, Canada
GEO:49.71223332552268;-124.90958909759217
END:VEVENT
BEGIN:VEVENT
UID:52422
DTSTAMP;TZID=America/Vancouver:20260128T201500
DTSTART;TZID=America/Vancouver:20260128T201500
DTEND;TZID=America/Vancouver:20260128T210000
SUMMARY:I’d hit that 1 No Height All Hype 1
DESCRIPTION:
STATUS:CONFIRMED
LAST-MODIFIED:20260129T041500
LOCATION:19 Wing - Court 2\, 1575 Military Row\, Comox\, BC V9M 4H2\, Canada
GEO:49.71222638796791;-124.90959982642823
END:VEVENT
BEGIN:VEVENT
UID:52429
DTSTAMP;TZID=America/Vancouver:20260204T193000
DTSTART;TZID=America/Vancouver:20260204T193000
DTEND;TZID=America/Vancouver:20260204T201500
SUMMARY:Demolition Raccoons 1 No Height All Hype 1
DESCRIPTION:
STATUS:CONFIRMED
LAST-MODIFIED:20260205T033000
LOCATION:19 Wing - Court 1\, 1575 Military Row\, Comox\, BC V9M 4H2\, Canada
GEO:49.71223332552268;-124.90958909759217
END:VEVENT
BEGIN:VEVENT
UID:52432
DTSTAMP;TZID=America/Vancouver:20260204T201500
DTSTART;TZID=America/Vancouver:20260204T201500
DTEND;TZID=America/Vancouver:20260204T210000
SUMMARY:New Kids On The Block 0 No Height All Hype 2
DESCRIPTION:
STATUS:CONFIRMED
LAST-MODIFIED:20260205T041500
LOCATION:19 Wing - Court 2\, 1575 Military Row\, Comox\, BC V9M 4H2\, Canada
GEO:49.71222638796791;-124.90959982642823
END:VEVENT
BEGIN:VEVENT
UID:52438
DTSTAMP;TZID=America/Vancouver:20260211T180000
DTSTART;TZID=America/Vancouver:20260211T180000
DTEND;TZID=America/Vancouver:20260211T193000
SUMMARY:No Height All Hype 2 Destructo Dinos 2
DESCRIPTION:Best-of-5, time permitting
STATUS:CONFIRMED
LAST-MODIFIED:20260212T020000
LOCATION:19 Wing - Court 3\, 1575 Military Row\, Comox\, BC V9M 4H2\, Canada
GEO:49.71223332552268;-124.9096105552643
END:VEVENT
BEGIN:VEVENT
UID:52444
DTSTAMP;TZID=America/Vancouver:20260218T180000
DTSTART;TZID=America/Vancouver:20260218T180000
DTEND;TZID=America/Vancouver:20260218T184500
SUMMARY:No Height All Hype 0 Toni&#8217\;s Tigers 2.0 2
DESCRIPTION:
STATUS:CONFIRMED
LAST-MODIFIED:20260219T020000
LOCATION:19 Wing - Court 1\, 1575 Military Row\, Comox\, BC V9M 4H2\, Canada
GEO:49.71223332552268;-124.90958909759217
END:VEVENT
BEGIN:VEVENT
UID:52446
DTSTAMP;TZID=America/Vancouver:20260218T184500
DTSTART;TZID=America/Vancouver:20260218T184500
DTEND;TZID=America/Vancouver:20260218T193000
SUMMARY:No Height All Hype 2 Smash to Pass 0
DESCRIPTION:
STATUS:CONFIRMED
LAST-MODIFIED:20260219T024500
LOCATION:19 Wing - Court 1\, 1575 Military Row\, Comox\, BC V9M 4H2\, Canada
GEO:49.71223332552268;-124.90958909759217
END:VEVENT
BEGIN:VEVENT
UID:52454
DTSTAMP;TZID=America/Vancouver:20260225T180000
DTSTART;TZID=America/Vancouver:20260225T180000
DTEND;TZID=America/Vancouver:20260225T184500
SUMMARY:No Height All Hype 1 Eastern European Daddies 1
DESCRIPTION:
STATUS:CONFIRMED
LAST-MODIFIED:20260226T020000
LOCATION:19 Wing - Court 1\, 1575 Military Row\, Comox\, BC V9M 4H2\, Canada
GEO:49.71223332552268;-124.90958909759217
END:VEVENT
BEGIN:VEVENT
UID:52456
DTSTAMP;TZID=America/Vancouver:20260225T184500
DTSTART;TZID=America/Vancouver:20260225T184500
DTEND;TZID=America/Vancouver:20260225T193000
SUMMARY:No Height All Hype 1 I’d hit that 1
DESCRIPTION:
STATUS:CONFIRMED
LAST-MODIFIED:20260226T024500
LOCATION:19 Wing - Court 1\, 1575 Military Row\, Comox\, BC V9M 4H2\, Canada
GEO:49.71223332552268;-124.90958909759217
END:VEVENT
BEGIN:VEVENT
UID:53297
DTSTAMP;TZID=America/Vancouver:20260304T235900
DTSTART;TZID=America/Vancouver:20260304T235900
DTEND;TZID=America/Vancouver:20260304T235900
SUMMARY:No Height All Hype - BYE WEEK. NO GAME.
DESCRIPTION:*no scheduled game this week. 
STATUS:CONFIRMED
LAST-MODIFIED:20260305T075900
GEO:49.71223332552268;-124.90958909759217
END:VEVENT
BEGIN:VEVENT
UID:53300
DTSTAMP;TZID=America/Vancouver:20260311T194500
DTSTART;TZID=America/Vancouver:20260311T194500
DTEND;TZID=America/Vancouver:20260311T213000
SUMMARY:No Height All Hype 0 Toni&#8217\;s Tigers 2.0 3
DESCRIPTION:A Tier SF#2: Seeds 2 vs. 3; Best-of-5 (time permitting)
STATUS:CONFIRMED
LAST-MODIFIED:20260312T024500
LOCATION:19 Wing - Court 2\, 1575 Military Row\, Comox\, BC V9M 4H2\, Canada
GEO:49.71222638796791;-124.90959982642823
END:VEVENT
BEGIN:VEVENT
UID:53595
DTSTAMP;TZID=America/Vancouver:20260318T180000
DTSTART;TZID=America/Vancouver:20260318T180000
DTEND;TZID=America/Vancouver:20260318T194500
SUMMARY:Demolition Raccoons 3 No Height All Hype 1
DESCRIPTION:*A Tier 3rd Place Game; best-of-5 (time permitting)
STATUS:CONFIRMED
LAST-MODIFIED:20260319T010000
LOCATION:19 Wing - Court 3\, 1575 Military Row\, Comox\, BC V9M 4H2\, Canada
GEO:49.71223332552268;-124.9096105552643
END:VEVENT
BEGIN:VEVENT
UID:54227
DTSTAMP;TZID=America/Vancouver:20260408T183000
DTSTART;TZID=America/Vancouver:20260408T183000
DTEND;TZID=America/Vancouver:20260408T191500
SUMMARY:I’d hit that 1 No Height All Hype 1
DESCRIPTION:
STATUS:CONFIRMED
LAST-MODIFIED:20260413T192000
LOCATION:19 Wing - Court 2\, 1575 Military Row\, Comox\, BC V9M 4H2\, Canada
GEO:49.71222638796791;-124.90959982642823
END:VEVENT
BEGIN:VEVENT
UID:54228
DTSTAMP;TZID=America/Vancouver:20260408T191500
DTSTART;TZID=America/Vancouver:20260408T191500
DTEND;TZID=America/Vancouver:20260408T200000
SUMMARY:Fuelled By Hops 1 No Height All Hype 1
DESCRIPTION:
STATUS:CONFIRMED
LAST-MODIFIED:20260409T021500
LOCATION:19 Wing - Court 1\, 1575 Military Row\, Comox\, BC V9M 4H2\, Canada
GEO:49.71223332552268;-124.90958909759217
END:VEVENT
BEGIN:VEVENT
UID:54425
DTSTAMP;TZID=America/Vancouver:20260415T200000
DTSTART;TZID=America/Vancouver:20260415T200000
DTEND;TZID=America/Vancouver:20260415T204500
SUMMARY:No Height All Hype 2 Smash to Pass 0
DESCRIPTION:
STATUS:CONFIRMED
LAST-MODIFIED:20260416T030000
LOCATION:19 Wing - Court 2\, 1575 Military Row\, Comox\, BC V9M 4H2\, Canada
GEO:49.71222638796791;-124.90959982642823
END:VEVENT
BEGIN:VEVENT
UID:54427
DTSTAMP;TZID=America/Vancouver:20260415T204500
DTSTART;TZID=America/Vancouver:20260415T204500
DTEND;TZID=America/Vancouver:20260415T213000
SUMMARY:No Height All Hype 1 Who’s Dans Sub This Week 2
DESCRIPTION:
STATUS:CONFIRMED
LAST-MODIFIED:20260416T034500
LOCATION:19 Wing - Court 2\, 1575 Military Row\, Comox\, BC V9M 4H2\, Canada
GEO:49.71222638796791;-124.90959982642823
END:VEVENT
BEGIN:VEVENT
UID:54433
DTSTAMP;TZID=America/Vancouver:20260422T183000
DTSTART;TZID=America/Vancouver:20260422T183000
DTEND;TZID=America/Vancouver:20260422T191500
SUMMARY:No Height All Hype vs Sharkbait ooh ha ha!
DESCRIPTION:
STATUS:CONFIRMED
LAST-MODIFIED:20260423T013000
LOCATION:19 Wing - Court 2\, 1575 Military Row\, Comox\, BC V9M 4H2\, Canada
GEO:49.71222638796791;-124.90959982642823
END:VEVENT
BEGIN:VEVENT
UID:54435
DTSTAMP;TZID=America/Vancouver:20260422T191500
DTSTART;TZID=America/Vancouver:20260422T191500
DTEND;TZID=America/Vancouver:20260422T200000
SUMMARY:No Height All Hype vs Ray of Sunshine
DESCRIPTION:
STATUS:CONFIRMED
LAST-MODIFIED:20260423T021500
LOCATION:19 Wing - Court 2\, 1575 Military Row\, Comox\, BC V9M 4H2\, Canada
GEO:49.71222638796791;-124.90959982642823
END:VEVENT
BEGIN:VEVENT
UID:54464
DTSTAMP;TZID=America/Vancouver:20260429T183000
DTSTART;TZID=America/Vancouver:20260429T183000
DTEND;TZID=America/Vancouver:20260429T200000
SUMMARY:Net Gains\, Back Pains vs No Height All Hype
DESCRIPTION:*Best-of-5, time permitting
STATUS:CONFIRMED
LAST-MODIFIED:20260416T213600
LOCATION:19 Wing - Court 3\, 1575 Military Row\, Comox\, BC V9M 4H2\, Canada
GEO:49.71223332552268;-124.9096105552643
END:VEVENT
BEGIN:VEVENT
UID:54473
DTSTAMP;TZID=America/Vancouver:20260506T200000
DTSTART;TZID=America/Vancouver:20260506T200000
DTEND;TZID=America/Vancouver:20260506T204500
SUMMARY:I’d hit that vs No Height All Hype
DESCRIPTION:
STATUS:CONFIRMED
LAST-MODIFIED:20260507T030000
LOCATION:19 Wing - Court 2\, 1575 Military Row\, Comox\, BC V9M 4H2\, Canada
GEO:49.71222638796791;-124.90959982642823
END:VEVENT
BEGIN:VEVENT
UID:54474
DTSTAMP;TZID=America/Vancouver:20260506T204500
DTSTART;TZID=America/Vancouver:20260506T204500
DTEND;TZID=America/Vancouver:20260506T213000
SUMMARY:Fuelled By Hops vs No Height All Hype
DESCRIPTION:
STATUS:CONFIRMED
LAST-MODIFIED:20260507T034500
LOCATION:19 Wing - Court 1\, 1575 Military Row\, Comox\, BC V9M 4H2\, Canada
GEO:49.71223332552268;-124.90958909759217
END:VEVENT
BEGIN:VEVENT
UID:54485
DTSTAMP;TZID=America/Vancouver:20260513T200000
DTSTART;TZID=America/Vancouver:20260513T200000
DTEND;TZID=America/Vancouver:20260513T204500
SUMMARY:No Height All Hype vs Sharkbait ooh ha ha!
DESCRIPTION:
STATUS:CONFIRMED
LAST-MODIFIED:20260514T030000
LOCATION:19 Wing - Court 2\, 1575 Military Row\, Comox\, BC V9M 4H2\, Canada
GEO:49.71222638796791;-124.90959982642823
END:VEVENT
BEGIN:VEVENT
UID:54487
DTSTAMP;TZID=America/Vancouver:20260513T204500
DTSTART;TZID=America/Vancouver:20260513T204500
DTEND;TZID=America/Vancouver:20260513T213000
SUMMARY:No Height All Hype vs Ray of Sunshine
DESCRIPTION:
STATUS:CONFIRMED
LAST-MODIFIED:20260514T034500
LOCATION:19 Wing - Court 2\, 1575 Military Row\, Comox\, BC V9M 4H2\, Canada
GEO:49.71222638796791;-124.90959982642823
END:VEVENT
END:VCALENDAR