BEGIN:VCALENDAR
VERSION:2.0
PRODID:-//SCVSSC//EN
CALSCALE:GREGORIAN
METHOD:PUBLISH
URL:https://comoxvalleysports.ca/calendar/new-kids-on-the-block-calendar/?feed=cvssc-calendar-ical
X-FROM-URL:https://comoxvalleysports.ca/calendar/new-kids-on-the-block-calendar/?feed=cvssc-calendar-ical
NAME:New Kids On The Block Calendar
X-WR-CALNAME:New Kids On The Block Calendar
DESCRIPTION:New Kids On The Block Calendar
X-WR-CALDESC:New Kids On The Block Calendar
REFRESH-INTERVAL;VALUE=DURATION:PT2M
X-PUBLISHED-TTL:PT2M
TZID:America/Vancouver
X-WR-TIMEZONE:America/Vancouver
BEGIN:VTIMEZONE
TZID:America/Vancouver
X-LIC-LOCATION:America/Vancouver
BEGIN:DAYLIGHT
TZOFFSETFROM:-0800
TZOFFSETTO:-0700
TZNAME:PDT
DTSTART:19700308T020000
RRULE:FREQ=YEARLY;BYMONTH=3;BYDAY=2SU
END:DAYLIGHT
BEGIN:STANDARD
TZOFFSETFROM:-0700
TZOFFSETTO:-0800
TZNAME:PST
DTSTART:19701101T020000
RRULE:FREQ=YEARLY;BYMONTH=11;BYDAY=1SU
END:STANDARD
END:VTIMEZONE
BEGIN:VEVENT
UID:34264
DTSTAMP;TZID=America/Vancouver:20230411T180000
DTSTART;TZID=America/Vancouver:20230411T180000
DTEND;TZID=America/Vancouver:20230411T184500
SUMMARY:Full Disclaimer: Armpits may smell 2 Big Dig Energy 0
DESCRIPTION:
STATUS:CONFIRMED
LAST-MODIFIED:20230412T010000
LOCATION:Ecole au Coeur de L’Ile - Court 1\, 566 Linshart Rd\, Comox\, BC V9M 2K8\, Canada
GEO:49.6839056;-124.9287382
END:VEVENT
BEGIN:VEVENT
UID:34267
DTSTAMP;TZID=America/Vancouver:20230411T184500
DTSTART;TZID=America/Vancouver:20230411T184500
DTEND;TZID=America/Vancouver:20230411T193000
SUMMARY:In Our Prime 1 Big Dig Energy 2
DESCRIPTION:
STATUS:CONFIRMED
LAST-MODIFIED:20230412T014500
LOCATION:Ecole au Coeur de L’Ile - Court 2\, 566 Linshart Rd\, Comox\, BC V9M 2K8\, Canada
GEO:49.6839056;-124.9287382
END:VEVENT
BEGIN:VEVENT
UID:34288
DTSTAMP;TZID=America/Vancouver:20230418T193000
DTSTART;TZID=America/Vancouver:20230418T193000
DTEND;TZID=America/Vancouver:20230418T201500
SUMMARY:Can Ya Dig It 0 Big Dig Energy 2
DESCRIPTION:
STATUS:CONFIRMED
LAST-MODIFIED:20230419T023000
LOCATION:Brooklyn Elementary - Court 1\, 1290 Guthrie Rd\, Comox\, BC V9M 4G2\, Canada
GEO:49.6868764;-124.90481720000002
END:VEVENT
BEGIN:VEVENT
UID:34291
DTSTAMP;TZID=America/Vancouver:20230418T201500
DTSTART;TZID=America/Vancouver:20230418T201500
DTEND;TZID=America/Vancouver:20230418T210000
SUMMARY:Vertically Challenged 2 Big Dig Energy 1
DESCRIPTION:
STATUS:CONFIRMED
LAST-MODIFIED:20230419T031500
LOCATION:Brooklyn Elementary - Court 2\, 1290 Guthrie Rd\, Comox\, BC V9M 4G2\, Canada
GEO:49.6868764;-124.90481720000002
END:VEVENT
BEGIN:VEVENT
UID:34300
DTSTAMP;TZID=America/Vancouver:20230425T180000
DTSTART;TZID=America/Vancouver:20230425T180000
DTEND;TZID=America/Vancouver:20230425T193000
SUMMARY:Big Dig Energy 3 Mandibular Nerve Block 1
DESCRIPTION:*Best-of-5
STATUS:CONFIRMED
LAST-MODIFIED:20230426T010000
LOCATION:Brooklyn Elementary - Court 1\, 1290 Guthrie Rd\, Comox\, BC V9M 4G2\, Canada
GEO:49.6868764;-124.90481720000002
END:VEVENT
BEGIN:VEVENT
UID:34605
DTSTAMP;TZID=America/Vancouver:20230502T193000
DTSTART;TZID=America/Vancouver:20230502T193000
DTEND;TZID=America/Vancouver:20230502T201500
SUMMARY:Big Dig Energy 0 Setting Ducks 2
DESCRIPTION:
STATUS:CONFIRMED
LAST-MODIFIED:20230503T023000
LOCATION:Ecole au Coeur de L’Ile - Court 2\, 566 Linshart Rd\, Comox\, BC V9M 2K8\, Canada
GEO:49.6839056;-124.9287382
END:VEVENT
BEGIN:VEVENT
UID:34607
DTSTAMP;TZID=America/Vancouver:20230502T201500
DTSTART;TZID=America/Vancouver:20230502T201500
DTEND;TZID=America/Vancouver:20230502T210000
SUMMARY:Big Dig Energy 2 Floorplay 1
DESCRIPTION:
STATUS:CONFIRMED
LAST-MODIFIED:20230503T031500
LOCATION:Ecole au Coeur de L’Ile - Court 2\, 566 Linshart Rd\, Comox\, BC V9M 2K8\, Canada
GEO:49.6839056;-124.9287382
END:VEVENT
BEGIN:VEVENT
UID:34619
DTSTAMP;TZID=America/Vancouver:20230509T193000
DTSTART;TZID=America/Vancouver:20230509T193000
DTEND;TZID=America/Vancouver:20230509T201500
SUMMARY:Serv-ivors 0 Big Dig Energy 2
DESCRIPTION:
STATUS:CONFIRMED
LAST-MODIFIED:20230510T023000
LOCATION:Ecole au Coeur de L’Ile - Court 2\, 566 Linshart Rd\, Comox\, BC V9M 2K8\, Canada
GEO:49.6839056;-124.9287382
END:VEVENT
BEGIN:VEVENT
UID:34620
DTSTAMP;TZID=America/Vancouver:20230509T201500
DTSTART;TZID=America/Vancouver:20230509T201500
DTEND;TZID=America/Vancouver:20230509T210000
SUMMARY:Rotationally Challenged 1 Big Dig Energy 2
DESCRIPTION:
STATUS:CONFIRMED
LAST-MODIFIED:20230510T031500
LOCATION:Ecole au Coeur de L’Ile - Court 1\, 566 Linshart Rd\, Comox\, BC V9M 2K8\, Canada
GEO:49.6839056;-124.9287382
END:VEVENT
BEGIN:VEVENT
UID:35054
DTSTAMP;TZID=America/Vancouver:20230516T180000
DTSTART;TZID=America/Vancouver:20230516T180000
DTEND;TZID=America/Vancouver:20230516T193000
SUMMARY:Vertically Challenged 2 Big Dig Energy 3
DESCRIPTION:*Best-of-5
STATUS:CONFIRMED
LAST-MODIFIED:20230517T010000
LOCATION:Brooklyn Elementary - Court 2\, 1290 Guthrie Rd\, Comox\, BC V9M 4G2\, Canada
GEO:49.6868764;-124.90481720000002
END:VEVENT
BEGIN:VEVENT
UID:35294
DTSTAMP;TZID=America/Vancouver:20230523T193000
DTSTART;TZID=America/Vancouver:20230523T193000
DTEND;TZID=America/Vancouver:20230523T210000
SUMMARY:Big Dig Energy 0 Full Disclaimer: Armpits may smell 3
DESCRIPTION:B Tier SF#2: Seeds 2 vs. 3; Best-of-5
STATUS:CONFIRMED
LAST-MODIFIED:20230524T023000
LOCATION:Ecole au Coeur de L’Ile - Court 2\, 566 Linshart Rd\, Comox\, BC V9M 2K8\, Canada
GEO:49.6839056;-124.9287382
END:VEVENT
BEGIN:VEVENT
UID:35382
DTSTAMP;TZID=America/Vancouver:20230530T180000
DTSTART;TZID=America/Vancouver:20230530T180000
DTEND;TZID=America/Vancouver:20230530T193000
SUMMARY:Vertically Challenged 3 Big Dig Energy 0
DESCRIPTION:B Tier 3rd Place
STATUS:CONFIRMED
LAST-MODIFIED:20230531T010000
LOCATION:Ecole au Coeur de L’Ile - Court 2\, 566 Linshart Rd\, Comox\, BC V9M 2K8\, Canada
GEO:49.6839056;-124.9287382
END:VEVENT
BEGIN:VEVENT
UID:37668
DTSTAMP;TZID=America/Vancouver:20230919T180000
DTSTART;TZID=America/Vancouver:20230919T180000
DTEND;TZID=America/Vancouver:20230919T193000
SUMMARY:Full Disclaimer: Armpits may smell 3 Big Dig Energy 1
DESCRIPTION:*Best-of-5; Please show up 15 minutes early to help set up and warm up so that games can start close to on time.
STATUS:CONFIRMED
LAST-MODIFIED:20230920T010000
LOCATION:19 Wing - Court 3\, 1575 Military Row\, Comox\, BC V9M 4H2\, Canada
GEO:49.71223332552268;-124.9096105552643
END:VEVENT
BEGIN:VEVENT
UID:37701
DTSTAMP;TZID=America/Vancouver:20230926T235900
DTSTART;TZID=America/Vancouver:20230926T235900
DTEND;TZID=America/Vancouver:20230926T235900
SUMMARY:New Kids On The Block - BYE WEEK. NO GAME.
DESCRIPTION:*No scheduled game this week. Future schedule awaiting SD71 booking approval.
STATUS:CONFIRMED
LAST-MODIFIED:20230927T065900
GEO:49.71223332552268;-124.9096105552643
END:VEVENT
BEGIN:VEVENT
UID:37853
DTSTAMP;TZID=America/Vancouver:20231003T180000
DTSTART;TZID=America/Vancouver:20231003T180000
DTEND;TZID=America/Vancouver:20231003T184500
SUMMARY:In Our Prime 1 Big Dig Energy 2
DESCRIPTION:*Please show up 15 minutes early to help set up and warm up so that games can start close to on time;  If front doors are locked, proceed around right side of school and knock on back gym door for entry.

STATUS:CONFIRMED
LAST-MODIFIED:20231004T010000
LOCATION:Ecole au Coeur de L’Ile - Court 2\, 566 Linshart Rd\, Comox\, BC V9M 2K8\, Canada
GEO:49.6839056;-124.9287382
END:VEVENT
BEGIN:VEVENT
UID:37854
DTSTAMP;TZID=America/Vancouver:20231003T184500
DTSTART;TZID=America/Vancouver:20231003T184500
DTEND;TZID=America/Vancouver:20231003T193000
SUMMARY:Chewblocka 0 Big Dig Energy 2
DESCRIPTION:
STATUS:CONFIRMED
LAST-MODIFIED:20231004T014500
LOCATION:Ecole au Coeur de L’Ile - Court 1\, 566 Linshart Rd\, Comox\, BC V9M 2K8\, Canada
GEO:49.6839056;-124.9287382
END:VEVENT
BEGIN:VEVENT
UID:37879
DTSTAMP;TZID=America/Vancouver:20231010T193000
DTSTART;TZID=America/Vancouver:20231010T193000
DTEND;TZID=America/Vancouver:20231010T201500
SUMMARY:Put Togethers 1 Big Dig Energy 2
DESCRIPTION: If front doors are locked, proceed around right side of school and knock on back gym door for entry.
STATUS:CONFIRMED
LAST-MODIFIED:20231011T023000
LOCATION:Ecole au Coeur de L’Ile - Court 2\, 566 Linshart Rd\, Comox\, BC V9M 2K8\, Canada
GEO:49.6839056;-124.9287382
END:VEVENT
BEGIN:VEVENT
UID:37880
DTSTAMP;TZID=America/Vancouver:20231010T201500
DTSTART;TZID=America/Vancouver:20231010T201500
DTEND;TZID=America/Vancouver:20231010T210000
SUMMARY:Hits &amp\; Giggles 1 Big Dig Energy 2
DESCRIPTION:
STATUS:CONFIRMED
LAST-MODIFIED:20231011T031500
LOCATION:Ecole au Coeur de L’Ile - Court 1\, 566 Linshart Rd\, Comox\, BC V9M 2K8\, Canada
GEO:49.6839056;-124.9287382
END:VEVENT
BEGIN:VEVENT
UID:37913
DTSTAMP;TZID=America/Vancouver:20231017T235900
DTSTART;TZID=America/Vancouver:20231017T235900
DTEND;TZID=America/Vancouver:20231017T235900
SUMMARY:New Kids On The Block - BYE WEEK. NO GAME.
DESCRIPTION:*No Scheduled Game This Week.
STATUS:CONFIRMED
LAST-MODIFIED:20231018T065900
GEO:49.6839056;-124.9287382
END:VEVENT
BEGIN:VEVENT
UID:37919
DTSTAMP;TZID=America/Vancouver:20231024T193000
DTSTART;TZID=America/Vancouver:20231024T193000
DTEND;TZID=America/Vancouver:20231024T201500
SUMMARY:Big Dig Energy 2 Team Media(ocre) 0
DESCRIPTION: If front doors are locked, proceed around right side of school and knock on back gym door for entry.
STATUS:CONFIRMED
LAST-MODIFIED:20231025T023000
LOCATION:Ecole au Coeur de L’Ile - Court 2\, 566 Linshart Rd\, Comox\, BC V9M 2K8\, Canada
GEO:49.6839056;-124.9287382
END:VEVENT
BEGIN:VEVENT
UID:37921
DTSTAMP;TZID=America/Vancouver:20231024T201500
DTSTART;TZID=America/Vancouver:20231024T201500
DTEND;TZID=America/Vancouver:20231024T210000
SUMMARY:Big Dig Energy 2 Aces Wild 0
DESCRIPTION:
STATUS:CONFIRMED
LAST-MODIFIED:20231025T031500
LOCATION:Ecole au Coeur de L’Ile - Court 2\, 566 Linshart Rd\, Comox\, BC V9M 2K8\, Canada
GEO:49.6839056;-124.9287382
END:VEVENT
BEGIN:VEVENT
UID:37939
DTSTAMP;TZID=America/Vancouver:20231107T193000
DTSTART;TZID=America/Vancouver:20231107T193000
DTEND;TZID=America/Vancouver:20231107T201500
SUMMARY:Serv-ivors 0 Big Dig Energy 2
DESCRIPTION: If front doors are locked, proceed around right side of school and knock on back gym door for entry.
STATUS:CONFIRMED
LAST-MODIFIED:20231108T033000
LOCATION:Ecole au Coeur de L’Ile - Court 2\, 566 Linshart Rd\, Comox\, BC V9M 2K8\, Canada
GEO:49.6839056;-124.9287382
END:VEVENT
BEGIN:VEVENT
UID:37940
DTSTAMP;TZID=America/Vancouver:20231107T201500
DTSTART;TZID=America/Vancouver:20231107T201500
DTEND;TZID=America/Vancouver:20231107T210000
SUMMARY:Hairy Butts 2 Big Dig Energy 0
DESCRIPTION:
STATUS:CONFIRMED
LAST-MODIFIED:20231108T041500
LOCATION:Ecole au Coeur de L’Ile - Court 1\, 566 Linshart Rd\, Comox\, BC V9M 2K8\, Canada
GEO:49.6839056;-124.9287382
END:VEVENT
BEGIN:VEVENT
UID:37954
DTSTAMP;TZID=America/Vancouver:20231114T180000
DTSTART;TZID=America/Vancouver:20231114T180000
DTEND;TZID=America/Vancouver:20231114T184500
SUMMARY:Big Dig Energy 0 Empire Spikes Back 2
DESCRIPTION:*Please show up 15 minutes early to help set up and warm up so that games can start close to on time;  If front doors are locked, proceed around right side of school and knock on back gym door for entry.

STATUS:CONFIRMED
LAST-MODIFIED:20231115T020000
LOCATION:Ecole au Coeur de L’Ile - Court 2\, 566 Linshart Rd\, Comox\, BC V9M 2K8\, Canada
GEO:49.6839056;-124.9287382
END:VEVENT
BEGIN:VEVENT
UID:37956
DTSTAMP;TZID=America/Vancouver:20231114T184500
DTSTART;TZID=America/Vancouver:20231114T184500
DTEND;TZID=America/Vancouver:20231114T193000
SUMMARY:Big Dig Energy 2 Block Party 0
DESCRIPTION:
STATUS:CONFIRMED
LAST-MODIFIED:20231115T024500
LOCATION:Ecole au Coeur de L’Ile - Court 2\, 566 Linshart Rd\, Comox\, BC V9M 2K8\, Canada
GEO:49.6839056;-124.9287382
END:VEVENT
BEGIN:VEVENT
UID:37984
DTSTAMP;TZID=America/Vancouver:20231121T180000
DTSTART;TZID=America/Vancouver:20231121T180000
DTEND;TZID=America/Vancouver:20231121T184500
SUMMARY:Rotationally Challenged 0 Big Dig Energy 2
DESCRIPTION:*Please show up 15 minutes early to help set up and warm up so that games can start close to on time.

STATUS:CONFIRMED
LAST-MODIFIED:20231122T020000
LOCATION:Queneesh Elementary - Court 2\, 2345 Mission Rd\, Courtenay\, BC V9N 9H1\, Canada
GEO:49.7133517;-124.9737178
END:VEVENT
BEGIN:VEVENT
UID:37985
DTSTAMP;TZID=America/Vancouver:20231121T184500
DTSTART;TZID=America/Vancouver:20231121T184500
DTEND;TZID=America/Vancouver:20231121T193000
SUMMARY:Jagged Little Kill 0 Big Dig Energy 2
DESCRIPTION:
STATUS:CONFIRMED
LAST-MODIFIED:20231122T024500
LOCATION:Queneesh Elementary - Court 1\, 2345 Mission Rd\, Courtenay\, BC V9N 9H1\, Canada
GEO:49.7133517;-124.9737178
END:VEVENT
BEGIN:VEVENT
UID:38383
DTSTAMP;TZID=America/Vancouver:20231128T180000
DTSTART;TZID=America/Vancouver:20231128T180000
DTEND;TZID=America/Vancouver:20231128T184500
SUMMARY:Big Dig Energy 0 Serv-ivors 2
DESCRIPTION:SF#4: Seeds 6 vs. 7 (Winner plays for 5th place on Court 1; Loser plays for 7th place on Court 2)
STATUS:CONFIRMED
LAST-MODIFIED:20231129T020000
LOCATION:Queneesh Elementary - Court 2\, 2345 Mission Rd\, Courtenay\, BC V9N 9H1\, Canada
GEO:49.7133517;-124.9737178
END:VEVENT
BEGIN:VEVENT
UID:38385
DTSTAMP;TZID=America/Vancouver:20231128T184500
DTSTART;TZID=America/Vancouver:20231128T184500
DTEND;TZID=America/Vancouver:20231128T193000
SUMMARY:Big Dig Energy 2 Rotationally Challenged 1
DESCRIPTION:7th Place Game: Losers SF#3 vs. SF#4
STATUS:CONFIRMED
LAST-MODIFIED:20231129T213000
LOCATION:Queneesh Elementary - Court 2\, 2345 Mission Rd\, Courtenay\, BC V9N 9H1\, Canada
GEO:49.7133517;-124.9737178
END:VEVENT
BEGIN:VEVENT
UID:39025
DTSTAMP;TZID=America/Vancouver:20240109T180000
DTSTART;TZID=America/Vancouver:20240109T180000
DTEND;TZID=America/Vancouver:20240109T184500
SUMMARY:Big Dig Energy 1 Spike Up Your Life 2
DESCRIPTION:*Please show up 10-15 minutes early for first slot to help set up, warm up and maximize playing time.
STATUS:CONFIRMED
LAST-MODIFIED:20240110T020000
LOCATION:Ecole au Coeur de L’Ile - Court 2\, 566 Linshart Rd\, Comox\, BC V9M 2K8\, Canada
GEO:49.6839056;-124.9287382
END:VEVENT
BEGIN:VEVENT
UID:39027
DTSTAMP;TZID=America/Vancouver:20240109T184500
DTSTART;TZID=America/Vancouver:20240109T184500
DTEND;TZID=America/Vancouver:20240109T193000
SUMMARY:Big Dig Energy 0 Hits &amp\; Giggles 2
DESCRIPTION:
STATUS:CONFIRMED
LAST-MODIFIED:20240110T024500
LOCATION:Ecole au Coeur de L’Ile - Court 2\, 566 Linshart Rd\, Comox\, BC V9M 2K8\, Canada
GEO:49.6839056;-124.9287382
END:VEVENT
BEGIN:VEVENT
UID:39051
DTSTAMP;TZID=America/Vancouver:20240116T193000
DTSTART;TZID=America/Vancouver:20240116T193000
DTEND;TZID=America/Vancouver:20240116T201500
SUMMARY:there is no rule preventing a dog from playing volleyball 2 Big Dig Energy 0
DESCRIPTION:
STATUS:CONFIRMED
LAST-MODIFIED:20240117T033000
LOCATION:Ecole au Coeur de L’Ile - Court 2\, 566 Linshart Rd\, Comox\, BC V9M 2K8\, Canada
GEO:49.6839056;-124.9287382
END:VEVENT
BEGIN:VEVENT
UID:39052
DTSTAMP;TZID=America/Vancouver:20240116T201500
DTSTART;TZID=America/Vancouver:20240116T201500
DTEND;TZID=America/Vancouver:20240116T210000
SUMMARY:Serv-ivors 1 Big Dig Energy 2
DESCRIPTION:*Please help put away equipment and leave a clean gym in the later slot.
STATUS:CONFIRMED
LAST-MODIFIED:20240117T041500
LOCATION:Ecole au Coeur de L’Ile - Court 1\, 566 Linshart Rd\, Comox\, BC V9M 2K8\, Canada
GEO:49.6839056;-124.9287382
END:VEVENT
BEGIN:VEVENT
UID:39061
DTSTAMP;TZID=America/Vancouver:20240123T181500
DTSTART;TZID=America/Vancouver:20240123T181500
DTEND;TZID=America/Vancouver:20240123T190000
SUMMARY:Put Togethers 2 Big Dig Energy 0
DESCRIPTION:*Please show up 10-15 minutes early for first slot to help set up, warm up and maximize playing time.
STATUS:CONFIRMED
LAST-MODIFIED:20240124T021500
LOCATION:Queneesh Elementary - Court 2\, 2345 Mission Rd\, Courtenay\, BC V9N 9H1\, Canada
GEO:49.7133517;-124.9737178
END:VEVENT
BEGIN:VEVENT
UID:39062
DTSTAMP;TZID=America/Vancouver:20240123T190000
DTSTART;TZID=America/Vancouver:20240123T190000
DTEND;TZID=America/Vancouver:20240123T194500
SUMMARY:Rotationally Challenged 0 Big Dig Energy 2
DESCRIPTION:
STATUS:CONFIRMED
LAST-MODIFIED:20240124T030000
LOCATION:Queneesh Elementary - Court 1\, 2345 Mission Rd\, Courtenay\, BC V9N 9H1\, Canada
GEO:49.7133517;-124.9737178
END:VEVENT
BEGIN:VEVENT
UID:39252
DTSTAMP;TZID=America/Vancouver:20240130T181500
DTSTART;TZID=America/Vancouver:20240130T181500
DTEND;TZID=America/Vancouver:20240130T190000
SUMMARY:Big Dig Energy 2 Kiss My Ace 0
DESCRIPTION:*Please show up 10-15 minutes early for first slot to help set up, warm up and maximize playing time.
STATUS:CONFIRMED
LAST-MODIFIED:20240131T021500
LOCATION:Queneesh Elementary - Court 2\, 2345 Mission Rd\, Courtenay\, BC V9N 9H1\, Canada
GEO:49.7133517;-124.9737178
END:VEVENT
BEGIN:VEVENT
UID:39254
DTSTAMP;TZID=America/Vancouver:20240130T190000
DTSTART;TZID=America/Vancouver:20240130T190000
DTEND;TZID=America/Vancouver:20240130T194500
SUMMARY:Big Dig Energy 2 Block Party 0
DESCRIPTION:
STATUS:CONFIRMED
LAST-MODIFIED:20240131T030000
LOCATION:Queneesh Elementary - Court 2\, 2345 Mission Rd\, Courtenay\, BC V9N 9H1\, Canada
GEO:49.7133517;-124.9737178
END:VEVENT
BEGIN:VEVENT
UID:39294
DTSTAMP;TZID=America/Vancouver:20240206T193000
DTSTART;TZID=America/Vancouver:20240206T193000
DTEND;TZID=America/Vancouver:20240206T210000
SUMMARY:Full Disclaimer: Armpits may smell 2 Big Dig Energy 2
DESCRIPTION:*Best-of-5
STATUS:CONFIRMED
LAST-MODIFIED:20240207T033000
LOCATION:Brooklyn Elementary - Court 2\, 1290 Guthrie Rd\, Comox\, BC V9M 4G2\, Canada
GEO:49.6868764;-124.90481720000002
END:VEVENT
BEGIN:VEVENT
UID:39376
DTSTAMP;TZID=America/Vancouver:20240213T180000
DTSTART;TZID=America/Vancouver:20240213T180000
DTEND;TZID=America/Vancouver:20240213T193000
SUMMARY:there is no rule preventing a dog from playing volleyball 3 Big Dig Energy 0
DESCRIPTION:*Best-of-5, final game before playoffs
STATUS:CONFIRMED
LAST-MODIFIED:20240214T020000
LOCATION:Ecole au Coeur de L’Ile - Court 2\, 566 Linshart Rd\, Comox\, BC V9M 2K8\, Canada
GEO:49.6839056;-124.9287382
END:VEVENT
BEGIN:VEVENT
UID:39442
DTSTAMP;TZID=America/Vancouver:20240220T194500
DTSTART;TZID=America/Vancouver:20240220T194500
DTEND;TZID=America/Vancouver:20240220T211500
SUMMARY:Spike Up Your Life 1 Big Dig Energy 3
DESCRIPTION:B+ Tier SF#4: Seeds 6 vs. 7; Best-of-5 (time permitting)
STATUS:CONFIRMED
LAST-MODIFIED:20240221T034500
LOCATION:Queneesh Elementary - Court 2\, 2345 Mission Rd\, Courtenay\, BC V9N 9H1\, Canada
GEO:49.7133517;-124.9737178
END:VEVENT
BEGIN:VEVENT
UID:39613
DTSTAMP;TZID=America/Vancouver:20240227T193000
DTSTART;TZID=America/Vancouver:20240227T193000
DTEND;TZID=America/Vancouver:20240227T210000
SUMMARY:Kiss My Ace 1 Big Dig Energy 3
DESCRIPTION:B+ Tier 5th Place Game; Best-of-5 (time permitting)
STATUS:CONFIRMED
LAST-MODIFIED:20240228T033000
LOCATION:Brooklyn Elementary - Court 2\, 1290 Guthrie Rd\, Comox\, BC V9M 4G2\, Canada
GEO:49.6868764;-124.90481720000002
END:VEVENT
BEGIN:VEVENT
UID:45391
DTSTAMP;TZID=America/Vancouver:20250107T180000
DTSTART;TZID=America/Vancouver:20250107T180000
DTEND;TZID=America/Vancouver:20250107T184500
SUMMARY:Big Dig Energy 2 Electro-lites 1
DESCRIPTION:*Season starts! Please show up 10-15 mins early for the early slot to help set up and warm up and help put away when in the later slot. Have a great season!
STATUS:CONFIRMED
LAST-MODIFIED:20250108T020000
LOCATION:Ecole au Coeur de L’Ile - Court 2\, 566 Linshart Rd\, Comox\, BC V9M 2K8\, Canada
GEO:49.6839056;-124.9287382
END:VEVENT
BEGIN:VEVENT
UID:45393
DTSTAMP;TZID=America/Vancouver:20250107T184500
DTSTART;TZID=America/Vancouver:20250107T184500
DTEND;TZID=America/Vancouver:20250107T193000
SUMMARY:Big Dig Energy 2 Casual Sets 0
DESCRIPTION:
STATUS:CONFIRMED
LAST-MODIFIED:20250108T024500
LOCATION:Ecole au Coeur de L’Ile - Court 2\, 566 Linshart Rd\, Comox\, BC V9M 2K8\, Canada
GEO:49.6839056;-124.9287382
END:VEVENT
BEGIN:VEVENT
UID:45423
DTSTAMP;TZID=America/Vancouver:20250114T193000
DTSTART;TZID=America/Vancouver:20250114T193000
DTEND;TZID=America/Vancouver:20250114T201500
SUMMARY:there is no rule preventing a dog from playing volleyball 1 Big Dig Energy 2
DESCRIPTION:
STATUS:CONFIRMED
LAST-MODIFIED:20250115T033000
LOCATION:Ecole au Coeur de L’Ile - Court 2\, 566 Linshart Rd\, Comox\, BC V9M 2K8\, Canada
GEO:49.6839056;-124.9287382
END:VEVENT
BEGIN:VEVENT
UID:45424
DTSTAMP;TZID=America/Vancouver:20250114T201500
DTSTART;TZID=America/Vancouver:20250114T201500
DTEND;TZID=America/Vancouver:20250114T210000
SUMMARY:That&#8217\;s what she set 1 Big Dig Energy 2
DESCRIPTION:
STATUS:CONFIRMED
LAST-MODIFIED:20250115T041500
LOCATION:Ecole au Coeur de L’Ile - Court 1\, 566 Linshart Rd\, Comox\, BC V9M 2K8\, Canada
GEO:49.6839056;-124.9287382
END:VEVENT
BEGIN:VEVENT
UID:45455
DTSTAMP;TZID=America/Vancouver:20250121T180000
DTSTART;TZID=America/Vancouver:20250121T180000
DTEND;TZID=America/Vancouver:20250121T184500
SUMMARY:First Come\, First Serve 1 Big Dig Energy 2
DESCRIPTION:
STATUS:CONFIRMED
LAST-MODIFIED:20250122T020000
LOCATION:Brooklyn Elementary - Court 2\, 1290 Guthrie Rd\, Comox\, BC V9M 4G2\, Canada
GEO:49.6868764;-124.90481720000002
END:VEVENT
BEGIN:VEVENT
UID:45456
DTSTAMP;TZID=America/Vancouver:20250121T184500
DTSTART;TZID=America/Vancouver:20250121T184500
DTEND;TZID=America/Vancouver:20250121T193000
SUMMARY:Hits &amp\; Giggles 0 Big Dig Energy 2
DESCRIPTION:
STATUS:CONFIRMED
LAST-MODIFIED:20250122T024500
LOCATION:Brooklyn Elementary - Court 1\, 1290 Guthrie Rd\, Comox\, BC V9M 4G2\, Canada
GEO:49.6868764;-124.90481720000002
END:VEVENT
BEGIN:VEVENT
UID:45483
DTSTAMP;TZID=America/Vancouver:20250128T193000
DTSTART;TZID=America/Vancouver:20250128T193000
DTEND;TZID=America/Vancouver:20250128T201500
SUMMARY:Big Dig Energy 2 Rotationally Challenged 0
DESCRIPTION:
STATUS:CONFIRMED
LAST-MODIFIED:20250129T033000
LOCATION:Brooklyn Elementary - Court 2\, 1290 Guthrie Rd\, Comox\, BC V9M 4G2\, Canada
GEO:49.6868764;-124.90481720000002
END:VEVENT
BEGIN:VEVENT
UID:45485
DTSTAMP;TZID=America/Vancouver:20250128T201500
DTSTART;TZID=America/Vancouver:20250128T201500
DTEND;TZID=America/Vancouver:20250128T210000
SUMMARY:Big Dig Energy 1 Put Togethers 1
DESCRIPTION:
STATUS:CONFIRMED
LAST-MODIFIED:20250129T041500
LOCATION:Brooklyn Elementary - Court 2\, 1290 Guthrie Rd\, Comox\, BC V9M 4G2\, Canada
GEO:49.6868764;-124.90481720000002
END:VEVENT
BEGIN:VEVENT
UID:45516
DTSTAMP;TZID=America/Vancouver:20250211T180000
DTSTART;TZID=America/Vancouver:20250211T180000
DTEND;TZID=America/Vancouver:20250211T193000
SUMMARY:Amazing Ace 3 Big Dig Energy 0
DESCRIPTION:*Best-of-5
STATUS:CONFIRMED
LAST-MODIFIED:20250212T020000
LOCATION:Queneesh Elementary - Court 1\, 2345 Mission Rd\, Courtenay\, BC V9N 9H1\, Canada
GEO:49.7133517;-124.9737178
END:VEVENT
BEGIN:VEVENT
UID:45545
DTSTAMP;TZID=America/Vancouver:20250218T235900
DTSTART;TZID=America/Vancouver:20250218T235900
DTEND;TZID=America/Vancouver:20250218T235900
SUMMARY:Big Dig Energy - BYE WEEK. NO GAME.
DESCRIPTION:*No game this week; SD71 Gyms closed for Pro-D Day.
STATUS:CONFIRMED
LAST-MODIFIED:20250219T075900
GEO:49.7133517;-124.9737178
END:VEVENT
BEGIN:VEVENT
UID:45497
DTSTAMP;TZID=America/Vancouver:20250225T180000
DTSTART;TZID=America/Vancouver:20250225T180000
DTEND;TZID=America/Vancouver:20250225T184500
SUMMARY:Setting Ducks 0 Big Dig Energy 2
DESCRIPTION:*Game rescheduled from Feb. 4 to Feb. 25 due to snow closures of schools.
STATUS:CONFIRMED
LAST-MODIFIED:20250204T234700
LOCATION:Ecole au Coeur de L’Ile - Court 2\, 566 Linshart Rd\, Comox\, BC V9M 2K8\, Canada
GEO:49.6839056;-124.9287382
END:VEVENT
BEGIN:VEVENT
UID:45498
DTSTAMP;TZID=America/Vancouver:20250225T184500
DTSTART;TZID=America/Vancouver:20250225T184500
DTEND;TZID=America/Vancouver:20250225T193000
SUMMARY:Serv-ivors 2 Big Dig Energy 1
DESCRIPTION:*Game rescheduled from Feb. 4 to Feb. 25 due to snow closures of schools.
STATUS:CONFIRMED
LAST-MODIFIED:20250204T234700
LOCATION:Ecole au Coeur de L’Ile - Court 1\, 566 Linshart Rd\, Comox\, BC V9M 2K8\, Canada
GEO:49.6839056;-124.9287382
END:VEVENT
BEGIN:VEVENT
UID:46195
DTSTAMP;TZID=America/Vancouver:20250304T180000
DTSTART;TZID=America/Vancouver:20250304T180000
DTEND;TZID=America/Vancouver:20250304T193000
SUMMARY:Amazing Ace 3 Big Dig Energy 2
DESCRIPTION:B+ Tier SF#2: Seeds 2 vs. 3; Best of 5 (time permitting)
STATUS:CONFIRMED
LAST-MODIFIED:20250305T020000
LOCATION:Ecole au Coeur de L’Ile - Court 2\, 566 Linshart Rd\, Comox\, BC V9M 2K8\, Canada
GEO:49.6839056;-124.9287382
END:VEVENT
BEGIN:VEVENT
UID:46314
DTSTAMP;TZID=America/Vancouver:20250311T193000
DTSTART;TZID=America/Vancouver:20250311T193000
DTEND;TZID=America/Vancouver:20250311T211500
SUMMARY:Big Dig Energy 0 That&#8217\;s what she set 3
DESCRIPTION:B+ Tier 3rd Place Game; Best-of-5 (time permitting)
STATUS:CONFIRMED
LAST-MODIFIED:20250312T023000
LOCATION:Ecole au Coeur de L’Ile - Court 2\, 566 Linshart Rd\, Comox\, BC V9M 2K8\, Canada
GEO:49.6839056;-124.9287382
END:VEVENT
END:VCALENDAR