BEGIN:VCALENDAR
VERSION:2.0
PRODID:-//SCVSSC//EN
CALSCALE:GREGORIAN
METHOD:PUBLISH
URL:https://comoxvalleysports.ca/calendar/net-zero-calendar/?feed=cvssc-calendar-ical
X-FROM-URL:https://comoxvalleysports.ca/calendar/net-zero-calendar/?feed=cvssc-calendar-ical
NAME:Net Zero Calendar
X-WR-CALNAME:Net Zero Calendar
DESCRIPTION:Net Zero Calendar
X-WR-CALDESC:Net Zero Calendar
REFRESH-INTERVAL;VALUE=DURATION:PT2M
X-PUBLISHED-TTL:PT2M
TZID:America/Vancouver
X-WR-TIMEZONE:America/Vancouver
BEGIN:VTIMEZONE
TZID:America/Vancouver
X-LIC-LOCATION:America/Vancouver
BEGIN:DAYLIGHT
TZOFFSETFROM:-0800
TZOFFSETTO:-0700
TZNAME:PDT
DTSTART:19700308T020000
RRULE:FREQ=YEARLY;BYMONTH=3;BYDAY=2SU
END:DAYLIGHT
BEGIN:STANDARD
TZOFFSETFROM:-0700
TZOFFSETTO:-0800
TZNAME:PST
DTSTART:19701101T020000
RRULE:FREQ=YEARLY;BYMONTH=11;BYDAY=1SU
END:STANDARD
END:VTIMEZONE
BEGIN:VEVENT
UID:54238
DTSTAMP;TZID=America/Vancouver:20260408T235900
DTSTART;TZID=America/Vancouver:20260408T235900
DTEND;TZID=America/Vancouver:20260408T235900
SUMMARY:Net Zero - BYE WEEK. NO GAME.
DESCRIPTION:*No scheduled game this week. Start season on April 15. 
STATUS:CONFIRMED
LAST-MODIFIED:20260409T065900
END:VEVENT
BEGIN:VEVENT
UID:54503
DTSTAMP;TZID=America/Vancouver:20260415T201000
DTSTART;TZID=America/Vancouver:20260415T201000
DTEND;TZID=America/Vancouver:20260415T205000
SUMMARY:Practice Safe Sets 2 Net Zero 1
DESCRIPTION:
STATUS:CONFIRMED
LAST-MODIFIED:20260416T031000
LOCATION:Ecole au Coeur de L’Ile - Court 1\, 566 Linshart Rd\, Comox\, BC V9M 2K8\, Canada
GEO:49.6839056;-124.9287382
END:VEVENT
BEGIN:VEVENT
UID:54506
DTSTAMP;TZID=America/Vancouver:20260415T205000
DTSTART;TZID=America/Vancouver:20260415T205000
DTEND;TZID=America/Vancouver:20260415T213000
SUMMARY:Setsational 0 Net Zero 2
DESCRIPTION:
STATUS:CONFIRMED
LAST-MODIFIED:20260416T035000
LOCATION:Ecole au Coeur de L’Ile - Court 2\, 566 Linshart Rd\, Comox\, BC V9M 2K8\, Canada
GEO:49.6839056;-124.9287382
END:VEVENT
BEGIN:VEVENT
UID:54562
DTSTAMP;TZID=America/Vancouver:20260422T180000
DTSTART;TZID=America/Vancouver:20260422T180000
DTEND;TZID=America/Vancouver:20260422T184500
SUMMARY:Hopikens vs Net Zero
DESCRIPTION:
STATUS:CONFIRMED
LAST-MODIFIED:20260423T010000
LOCATION:Cumberland Jr - Court 2\, 2674 Windemere Ave\, Cumberland\, BC V0R\, Canada
GEO:49.62112036211578;-125.03315414550781
END:VEVENT
BEGIN:VEVENT
UID:54563
DTSTAMP;TZID=America/Vancouver:20260422T184500
DTSTART;TZID=America/Vancouver:20260422T184500
DTEND;TZID=America/Vancouver:20260422T193000
SUMMARY:Beta Blockers vs Net Zero
DESCRIPTION:
STATUS:CONFIRMED
LAST-MODIFIED:20260423T014500
LOCATION:Cumberland Jr - Court 1\, 2674 Windemere Ave\, Cumberland\, BC V0R\, Canada
GEO:49.62114293423199;-125.03311143224335
END:VEVENT
BEGIN:VEVENT
UID:54568
DTSTAMP;TZID=America/Vancouver:20260429T180000
DTSTART;TZID=America/Vancouver:20260429T180000
DTEND;TZID=America/Vancouver:20260429T193000
SUMMARY:Net Zero vs Risky Sets
DESCRIPTION:*Best-of-5, time permitting
STATUS:CONFIRMED
LAST-MODIFIED:20260430T010000
LOCATION:Cumberland Jr - Court 2\, 2674 Windemere Ave\, Cumberland\, BC V0R\, Canada
GEO:49.62112036211578;-125.03315414550781
END:VEVENT
BEGIN:VEVENT
UID:54527
DTSTAMP;TZID=America/Vancouver:20260506T201000
DTSTART;TZID=America/Vancouver:20260506T201000
DTEND;TZID=America/Vancouver:20260506T205000
SUMMARY:Net Zero vs Shenanigans
DESCRIPTION:
STATUS:CONFIRMED
LAST-MODIFIED:20260507T031000
LOCATION:Ecole au Coeur de L’Ile - Court 1\, 566 Linshart Rd\, Comox\, BC V9M 2K8\, Canada
GEO:49.6839056;-124.9287382
END:VEVENT
BEGIN:VEVENT
UID:54529
DTSTAMP;TZID=America/Vancouver:20260506T205000
DTSTART;TZID=America/Vancouver:20260506T205000
DTEND;TZID=America/Vancouver:20260506T213000
SUMMARY:Net Zero vs Strike Farce
DESCRIPTION:
STATUS:CONFIRMED
LAST-MODIFIED:20260507T035000
LOCATION:Ecole au Coeur de L’Ile - Court 1\, 566 Linshart Rd\, Comox\, BC V9M 2K8\, Canada
GEO:49.6839056;-124.9287382
END:VEVENT
BEGIN:VEVENT
UID:54536
DTSTAMP;TZID=America/Vancouver:20260513T185000
DTSTART;TZID=America/Vancouver:20260513T185000
DTEND;TZID=America/Vancouver:20260513T193000
SUMMARY:Pizza Factory vs Net Zero
DESCRIPTION:
STATUS:CONFIRMED
LAST-MODIFIED:20260514T015000
LOCATION:Ecole au Coeur de L’Ile - Court 2\, 566 Linshart Rd\, Comox\, BC V9M 2K8\, Canada
GEO:49.6839056;-124.9287382
END:VEVENT
BEGIN:VEVENT
UID:54537
DTSTAMP;TZID=America/Vancouver:20260513T193000
DTSTART;TZID=America/Vancouver:20260513T193000
DTEND;TZID=America/Vancouver:20260513T201000
SUMMARY:Pandemonium vs Net Zero
DESCRIPTION:
STATUS:CONFIRMED
LAST-MODIFIED:20260514T023000
LOCATION:Ecole au Coeur de L’Ile - Court 1\, 566 Linshart Rd\, Comox\, BC V9M 2K8\, Canada
GEO:49.6839056;-124.9287382
END:VEVENT
BEGIN:VEVENT
UID:54593
DTSTAMP;TZID=America/Vancouver:20260520T193000
DTSTART;TZID=America/Vancouver:20260520T193000
DTEND;TZID=America/Vancouver:20260520T201500
SUMMARY:Block-Party vs Net Zero
DESCRIPTION:
STATUS:CONFIRMED
LAST-MODIFIED:20260521T023000
LOCATION:Cumberland Jr - Court 1\, 2674 Windemere Ave\, Cumberland\, BC V0R\, Canada
GEO:49.62114293423199;-125.03311143224335
END:VEVENT
BEGIN:VEVENT
UID:54596
DTSTAMP;TZID=America/Vancouver:20260520T201500
DTSTART;TZID=America/Vancouver:20260520T201500
DTEND;TZID=America/Vancouver:20260520T210000
SUMMARY:C.H.A.O.S. vs Net Zero
DESCRIPTION:
STATUS:CONFIRMED
LAST-MODIFIED:20260521T031500
LOCATION:Cumberland Jr - Court 2\, 2674 Windemere Ave\, Cumberland\, BC V0R\, Canada
GEO:49.62112036211578;-125.03315414550781
END:VEVENT
END:VCALENDAR