BEGIN:VCALENDAR
VERSION:2.0
PRODID:-//SCVSSC//EN
CALSCALE:GREGORIAN
METHOD:PUBLISH
URL:https://comoxvalleysports.ca/calendar/net-positive-calendar/?feed=cvssc-calendar-ical
X-FROM-URL:https://comoxvalleysports.ca/calendar/net-positive-calendar/?feed=cvssc-calendar-ical
NAME:Net Positive Calendar
X-WR-CALNAME:Net Positive Calendar
DESCRIPTION:Net Positive Calendar
X-WR-CALDESC:Net Positive Calendar
REFRESH-INTERVAL;VALUE=DURATION:PT2M
X-PUBLISHED-TTL:PT2M
TZID:America/Vancouver
X-WR-TIMEZONE:America/Vancouver
BEGIN:VTIMEZONE
TZID:America/Vancouver
X-LIC-LOCATION:America/Vancouver
BEGIN:DAYLIGHT
TZOFFSETFROM:-0800
TZOFFSETTO:-0700
TZNAME:PDT
DTSTART:19700308T020000
RRULE:FREQ=YEARLY;BYMONTH=3;BYDAY=2SU
END:DAYLIGHT
BEGIN:STANDARD
TZOFFSETFROM:-0700
TZOFFSETTO:-0800
TZNAME:PST
DTSTART:19701101T020000
RRULE:FREQ=YEARLY;BYMONTH=11;BYDAY=1SU
END:STANDARD
END:VTIMEZONE
BEGIN:VEVENT
UID:37525
DTSTAMP;TZID=America/Vancouver:20230922T200000
DTSTART;TZID=America/Vancouver:20230922T200000
DTEND;TZID=America/Vancouver:20230922T210000
SUMMARY:Big Shots 51 Net Positive 48
DESCRIPTION:*Please show up 10-15 minutes early to games to warm up and be ready to start close to game time. Bring extra balls for warmup if needed.
STATUS:CONFIRMED
LAST-MODIFIED:20230923T030000
LOCATION:19 Wing Gym - Gym Entrance Side\, 1575 Military Row\, Comox\, BC V9M 4H2\, Canada
GEO:49.71217159999999;-124.90964311163941
END:VEVENT
BEGIN:VEVENT
UID:37528
DTSTAMP;TZID=America/Vancouver:20230929T190000
DTSTART;TZID=America/Vancouver:20230929T190000
DTEND;TZID=America/Vancouver:20230929T200000
SUMMARY:19 Wing Totems 75 Net Positive 46
DESCRIPTION:*Please show up 10-15 minutes early to games to warm up and be ready to start close to game time. Bring extra balls for warmup if needed.
STATUS:CONFIRMED
LAST-MODIFIED:20230930T020000
LOCATION:19 Wing Gym - Storage Side\, 1575 Military Row\, Comox\, BC V9M 4H2\, Canada
GEO:49.7121716;-124.90975040000001
END:VEVENT
BEGIN:VEVENT
UID:37534
DTSTAMP;TZID=America/Vancouver:20231013T200000
DTSTART;TZID=America/Vancouver:20231013T200000
DTEND;TZID=America/Vancouver:20231013T210000
SUMMARY:Geeks in Sneaks 72 Net Positive 76
DESCRIPTION:
STATUS:CONFIRMED
LAST-MODIFIED:20231014T030000
LOCATION:19 Wing Gym - Storage Side\, 1575 Military Row\, Comox\, BC V9M 4H2\, Canada
GEO:49.7121716;-124.90975040000001
END:VEVENT
BEGIN:VEVENT
UID:37537
DTSTAMP;TZID=America/Vancouver:20231020T200000
DTSTART;TZID=America/Vancouver:20231020T200000
DTEND;TZID=America/Vancouver:20231020T210000
SUMMARY:Net Positive 50 Bob Ross in the Paint 54
DESCRIPTION:
STATUS:CONFIRMED
LAST-MODIFIED:20231021T030000
LOCATION:19 Wing Gym - Gym Entrance Side\, 1575 Military Row\, Comox\, BC V9M 4H2\, Canada
GEO:49.71217159999999;-124.90964311163941
END:VEVENT
BEGIN:VEVENT
UID:37539
DTSTAMP;TZID=America/Vancouver:20231027T184500
DTSTART;TZID=America/Vancouver:20231027T184500
DTEND;TZID=America/Vancouver:20231027T194500
SUMMARY:Net Positive 70 BLITZ 64
DESCRIPTION:*Start times each move up 15 minutes for rest of season (6:45 and 7:45).
STATUS:CONFIRMED
LAST-MODIFIED:20231019T191700
LOCATION:19 Wing Gym - Gym Entrance Side\, 1575 Military Row\, Comox\, BC V9M 4H2\, Canada
GEO:49.71217159999999;-124.90964311163941
END:VEVENT
BEGIN:VEVENT
UID:37545
DTSTAMP;TZID=America/Vancouver:20231103T194500
DTSTART;TZID=America/Vancouver:20231103T194500
DTEND;TZID=America/Vancouver:20231103T204500
SUMMARY:Keep Fit Have Fun 80 Net Positive 68
DESCRIPTION:
STATUS:CONFIRMED
LAST-MODIFIED:20231019T191900
LOCATION:19 Wing Gym - Gym Entrance Side\, 1575 Military Row\, Comox\, BC V9M 4H2\, Canada
GEO:49.71217159999999;-124.90964311163941
END:VEVENT
BEGIN:VEVENT
UID:38157
DTSTAMP;TZID=America/Vancouver:20231110T184500
DTSTART;TZID=America/Vancouver:20231110T184500
DTEND;TZID=America/Vancouver:20231110T194000
SUMMARY:BLITZ 81 Net Positive 74
DESCRIPTION:SF#4: Seeds 6 vs. 7
STATUS:CONFIRMED
LAST-MODIFIED:20231111T024500
LOCATION:19 Wing Gym - Storage Side\, 1575 Military Row\, Comox\, BC V9M 4H2\, Canada
GEO:49.7121716;-124.90975040000001
END:VEVENT
BEGIN:VEVENT
UID:38190
DTSTAMP;TZID=America/Vancouver:20231117T194500
DTSTART;TZID=America/Vancouver:20231117T194500
DTEND;TZID=America/Vancouver:20231117T204000
SUMMARY:Geeks in Sneaks 46 Net Positive 70
DESCRIPTION:7th Place Game
STATUS:CONFIRMED
LAST-MODIFIED:20231118T034500
LOCATION:19 Wing Gym - Gym Entrance Side\, 1575 Military Row\, Comox\, BC V9M 4H2\, Canada
GEO:49.71217159999999;-124.90964311163941
END:VEVENT
END:VCALENDAR