BEGIN:VCALENDAR
VERSION:2.0
PRODID:-//SCVSSC//EN
CALSCALE:GREGORIAN
METHOD:PUBLISH
URL:https://comoxvalleysports.ca/calendar/net-flicks-calendar-2/?feed=cvssc-calendar-ical
X-FROM-URL:https://comoxvalleysports.ca/calendar/net-flicks-calendar-2/?feed=cvssc-calendar-ical
NAME:Net Flicks Calendar
X-WR-CALNAME:Net Flicks Calendar
DESCRIPTION:Net Flicks Calendar
X-WR-CALDESC:Net Flicks Calendar
REFRESH-INTERVAL;VALUE=DURATION:PT2M
X-PUBLISHED-TTL:PT2M
TZID:America/Vancouver
X-WR-TIMEZONE:America/Vancouver
BEGIN:VTIMEZONE
TZID:America/Vancouver
X-LIC-LOCATION:America/Vancouver
BEGIN:DAYLIGHT
TZOFFSETFROM:-0800
TZOFFSETTO:-0700
TZNAME:PDT
DTSTART:19700308T020000
RRULE:FREQ=YEARLY;BYMONTH=3;BYDAY=2SU
END:DAYLIGHT
BEGIN:STANDARD
TZOFFSETFROM:-0700
TZOFFSETTO:-0800
TZNAME:PST
DTSTART:19701101T020000
RRULE:FREQ=YEARLY;BYMONTH=11;BYDAY=1SU
END:STANDARD
END:VTIMEZONE
BEGIN:VEVENT
UID:45660
DTSTAMP;TZID=America/Vancouver:20250108T180000
DTSTART;TZID=America/Vancouver:20250108T180000
DTEND;TZID=America/Vancouver:20250108T184500
SUMMARY:Ball Busters 2 Net Flicks 1
DESCRIPTION:*Season starts! Please show up 10-15 mins early in first slot to help set up and warm up, and help put away when in late slot. Have a great season!
STATUS:CONFIRMED
LAST-MODIFIED:20250109T020000
LOCATION:Queneesh Elementary - Court 1\, 2345 Mission Rd\, Courtenay\, BC V9N 9H1\, Canada
GEO:49.7133517;-124.9737178
END:VEVENT
BEGIN:VEVENT
UID:45663
DTSTAMP;TZID=America/Vancouver:20250108T184500
DTSTART;TZID=America/Vancouver:20250108T184500
DTEND;TZID=America/Vancouver:20250108T193000
SUMMARY:Beta Blockers 2 Net Flicks 0
DESCRIPTION:
STATUS:CONFIRMED
LAST-MODIFIED:20250109T024500
LOCATION:Queneesh Elementary - Court 2\, 2345 Mission Rd\, Courtenay\, BC V9N 9H1\, Canada
GEO:49.7133517;-124.9737178
END:VEVENT
BEGIN:VEVENT
UID:45668
DTSTAMP;TZID=America/Vancouver:20250115T180000
DTSTART;TZID=America/Vancouver:20250115T180000
DTEND;TZID=America/Vancouver:20250115T184500
SUMMARY:Jagged Little Kill 1 Net Flicks 2
DESCRIPTION:
STATUS:CONFIRMED
LAST-MODIFIED:20250116T020000
LOCATION:Ecole au Coeur de L’Ile - Court 1\, 566 Linshart Rd\, Comox\, BC V9M 2K8\, Canada
GEO:49.6839056;-124.9287382
END:VEVENT
BEGIN:VEVENT
UID:45671
DTSTAMP;TZID=America/Vancouver:20250115T184500
DTSTART;TZID=America/Vancouver:20250115T184500
DTEND;TZID=America/Vancouver:20250115T193000
SUMMARY:Spike It Like It&#8217\;s Hot 0 Net Flicks 2
DESCRIPTION:
STATUS:CONFIRMED
LAST-MODIFIED:20250116T024500
LOCATION:Ecole au Coeur de L’Ile - Court 2\, 566 Linshart Rd\, Comox\, BC V9M 2K8\, Canada
GEO:49.6839056;-124.9287382
END:VEVENT
BEGIN:VEVENT
UID:45688
DTSTAMP;TZID=America/Vancouver:20250122T193000
DTSTART;TZID=America/Vancouver:20250122T193000
DTEND;TZID=America/Vancouver:20250122T210000
SUMMARY:Block-Party 1 Net Flicks 3
DESCRIPTION:*Best-of-5
STATUS:CONFIRMED
LAST-MODIFIED:20250123T033000
LOCATION:Ecole au Coeur de L’Ile - Court 1\, 566 Linshart Rd\, Comox\, BC V9M 2K8\, Canada
GEO:49.6839056;-124.9287382
END:VEVENT
BEGIN:VEVENT
UID:45705
DTSTAMP;TZID=America/Vancouver:20250129T180000
DTSTART;TZID=America/Vancouver:20250129T180000
DTEND;TZID=America/Vancouver:20250129T184500
SUMMARY:Pop-up Blockers 2 Net Flicks 0
DESCRIPTION:
STATUS:CONFIRMED
LAST-MODIFIED:20250130T020000
LOCATION:Queneesh Elementary - Court 2\, 2345 Mission Rd\, Courtenay\, BC V9N 9H1\, Canada
GEO:49.7133517;-124.9737178
END:VEVENT
BEGIN:VEVENT
UID:45706
DTSTAMP;TZID=America/Vancouver:20250129T184500
DTSTART;TZID=America/Vancouver:20250129T184500
DTEND;TZID=America/Vancouver:20250129T193000
SUMMARY:Pizza Factory 0 Net Flicks 2
DESCRIPTION:
STATUS:CONFIRMED
LAST-MODIFIED:20250130T024500
LOCATION:Queneesh Elementary - Court 1\, 2345 Mission Rd\, Courtenay\, BC V9N 9H1\, Canada
GEO:49.7133517;-124.9737178
END:VEVENT
BEGIN:VEVENT
UID:45724
DTSTAMP;TZID=America/Vancouver:20250205T193000
DTSTART;TZID=America/Vancouver:20250205T193000
DTEND;TZID=America/Vancouver:20250205T201500
SUMMARY:Net Flicks 0 Ball Busters 2
DESCRIPTION:
STATUS:CONFIRMED
LAST-MODIFIED:20250206T033000
LOCATION:Queneesh Elementary - Court 1\, 2345 Mission Rd\, Courtenay\, BC V9N 9H1\, Canada
GEO:49.7133517;-124.9737178
END:VEVENT
BEGIN:VEVENT
UID:45726
DTSTAMP;TZID=America/Vancouver:20250205T201500
DTSTART;TZID=America/Vancouver:20250205T201500
DTEND;TZID=America/Vancouver:20250205T210000
SUMMARY:Net Flicks 2 Beta Blockers 0
DESCRIPTION:
STATUS:CONFIRMED
LAST-MODIFIED:20250206T041500
LOCATION:Queneesh Elementary - Court 1\, 2345 Mission Rd\, Courtenay\, BC V9N 9H1\, Canada
GEO:49.7133517;-124.9737178
END:VEVENT
BEGIN:VEVENT
UID:45732
DTSTAMP;TZID=America/Vancouver:20250212T193000
DTSTART;TZID=America/Vancouver:20250212T193000
DTEND;TZID=America/Vancouver:20250212T201500
SUMMARY:Net Flicks 2 Jagged Little Kill 1
DESCRIPTION:
STATUS:CONFIRMED
LAST-MODIFIED:20250213T033000
LOCATION:Ecole au Coeur de L’Ile - Court 1\, 566 Linshart Rd\, Comox\, BC V9M 2K8\, Canada
GEO:49.6839056;-124.9287382
END:VEVENT
BEGIN:VEVENT
UID:45734
DTSTAMP;TZID=America/Vancouver:20250212T201500
DTSTART;TZID=America/Vancouver:20250212T201500
DTEND;TZID=America/Vancouver:20250212T210000
SUMMARY:Net Flicks 1 Spike It Like It&#8217\;s Hot 2
DESCRIPTION:
STATUS:CONFIRMED
LAST-MODIFIED:20250213T041500
LOCATION:Ecole au Coeur de L’Ile - Court 1\, 566 Linshart Rd\, Comox\, BC V9M 2K8\, Canada
GEO:49.6839056;-124.9287382
END:VEVENT
BEGIN:VEVENT
UID:45999
DTSTAMP;TZID=America/Vancouver:20250219T180000
DTSTART;TZID=America/Vancouver:20250219T180000
DTEND;TZID=America/Vancouver:20250219T193000
SUMMARY:Net Flicks 3 Pizza Factory 0
DESCRIPTION:B Tier SF#3: Seeds 5 vs. 8; Best-of-5, time permitting
STATUS:CONFIRMED
LAST-MODIFIED:20250220T020000
LOCATION:Ecole au Coeur de L’Ile - Court 2\, 566 Linshart Rd\, Comox\, BC V9M 2K8\, Canada
GEO:49.6839056;-124.9287382
END:VEVENT
BEGIN:VEVENT
UID:46101
DTSTAMP;TZID=America/Vancouver:20250226T193000
DTSTART;TZID=America/Vancouver:20250226T193000
DTEND;TZID=America/Vancouver:20250226T210000
SUMMARY:Net Flicks 3 Spike It Like It&#8217\;s Hot 0
DESCRIPTION:B Tier 5th Place Game, best-of-5 (time permitting)
STATUS:CONFIRMED
LAST-MODIFIED:20250227T033000
LOCATION:Ecole au Coeur de L’Ile - Court 1\, 566 Linshart Rd\, Comox\, BC V9M 2K8\, Canada
GEO:49.6839056;-124.9287382
END:VEVENT
END:VCALENDAR