BEGIN:VCALENDAR
VERSION:2.0
PRODID:-//SCVSSC//EN
CALSCALE:GREGORIAN
METHOD:PUBLISH
URL:https://comoxvalleysports.ca/calendar/multiple-scoregasms-calendar-4/?feed=cvssc-calendar-ical
X-FROM-URL:https://comoxvalleysports.ca/calendar/multiple-scoregasms-calendar-4/?feed=cvssc-calendar-ical
NAME:Multiple Scoregasms Calendar
X-WR-CALNAME:Multiple Scoregasms Calendar
DESCRIPTION:Multiple Scoregasms Calendar
X-WR-CALDESC:Multiple Scoregasms Calendar
REFRESH-INTERVAL;VALUE=DURATION:PT2M
X-PUBLISHED-TTL:PT2M
TZID:America/Vancouver
X-WR-TIMEZONE:America/Vancouver
BEGIN:VTIMEZONE
TZID:America/Vancouver
X-LIC-LOCATION:America/Vancouver
BEGIN:DAYLIGHT
TZOFFSETFROM:-0800
TZOFFSETTO:-0700
TZNAME:PDT
DTSTART:19700308T020000
RRULE:FREQ=YEARLY;BYMONTH=3;BYDAY=2SU
END:DAYLIGHT
BEGIN:STANDARD
TZOFFSETFROM:-0700
TZOFFSETTO:-0800
TZNAME:PST
DTSTART:19701101T020000
RRULE:FREQ=YEARLY;BYMONTH=11;BYDAY=1SU
END:STANDARD
END:VTIMEZONE
BEGIN:VEVENT
UID:42144
DTSTAMP;TZID=America/Vancouver:20240618T190000
DTSTART;TZID=America/Vancouver:20240618T190000
DTEND;TZID=America/Vancouver:20240618T203000
SUMMARY:Tight Ends 39 Multiple scoregasms 22
DESCRIPTION:
STATUS:CONFIRMED
LAST-MODIFIED:20240619T020000
LOCATION:Highland Field #1: Closest to pickleball courts\, 775 Torrence Rd\, Comox\, BC V9M 0A5\, Canada
GEO:49.7086512;-124.9098752
END:VEVENT
BEGIN:VEVENT
UID:42149
DTSTAMP;TZID=America/Vancouver:20240625T190000
DTSTART;TZID=America/Vancouver:20240625T190000
DTEND;TZID=America/Vancouver:20240625T203000
SUMMARY:Multiple scoregasms 34 Blood\, Sweat &amp\; Beers 24
DESCRIPTION:
STATUS:CONFIRMED
LAST-MODIFIED:20240626T020000
LOCATION:Highland Field #2: Second from pickleball courts\, 775 Torrence Rd\, Comox\, BC V9M 0A5\, Canada
GEO:;
END:VEVENT
BEGIN:VEVENT
UID:42154
DTSTAMP;TZID=America/Vancouver:20240702T235900
DTSTART;TZID=America/Vancouver:20240702T235900
DTEND;TZID=America/Vancouver:20240702T235900
SUMMARY:Multiple Scoregasms - BYE WEEK. NO GAME.
DESCRIPTION:*No scheduled game. Field #3 likely open for practice or pick-up game if teams on bye want one. 
STATUS:CONFIRMED
LAST-MODIFIED:20240703T065900
LOCATION:Highland Field #3: Furthest from pickleball courts\, 
GEO:0;0
END:VEVENT
BEGIN:VEVENT
UID:42156
DTSTAMP;TZID=America/Vancouver:20240709T190000
DTSTART;TZID=America/Vancouver:20240709T190000
DTEND;TZID=America/Vancouver:20240709T203000
SUMMARY:Kiss My Pass 24 Multiple scoregasms 52
DESCRIPTION:
STATUS:CONFIRMED
LAST-MODIFIED:20240710T020000
LOCATION:Highland Field #2: Second from pickleball courts\, 775 Torrence Rd\, Comox\, BC V9M 0A5\, Canada
GEO:;
END:VEVENT
BEGIN:VEVENT
UID:42159
DTSTAMP;TZID=America/Vancouver:20240716T190000
DTSTART;TZID=America/Vancouver:20240716T190000
DTEND;TZID=America/Vancouver:20240716T203000
SUMMARY:Golden Eagles 22 Multiple scoregasms 18
DESCRIPTION:
STATUS:CONFIRMED
LAST-MODIFIED:20240717T020000
LOCATION:Highland Field #2: Second from pickleball courts\, 775 Torrence Rd\, Comox\, BC V9M 0A5\, Canada
GEO:;
END:VEVENT
BEGIN:VEVENT
UID:42161
DTSTAMP;TZID=America/Vancouver:20240723T190000
DTSTART;TZID=America/Vancouver:20240723T190000
DTEND;TZID=America/Vancouver:20240723T203000
SUMMARY:Multiple scoregasms 56 No Punt Intended 40
DESCRIPTION:
STATUS:CONFIRMED
LAST-MODIFIED:20240724T020000
LOCATION:Highland Field #1: Closest to pickleball courts\, 775 Torrence Rd\, Comox\, BC V9M 0A5\, Canada
GEO:49.7086512;-124.9098752
END:VEVENT
BEGIN:VEVENT
UID:42652
DTSTAMP;TZID=America/Vancouver:20240730T190000
DTSTART;TZID=America/Vancouver:20240730T190000
DTEND;TZID=America/Vancouver:20240730T203000
SUMMARY:Multiple scoregasms 27 Blood\, Sweat &amp\; Beers 41
DESCRIPTION:QF#3: Seeds 3 vs. 4
STATUS:CONFIRMED
LAST-MODIFIED:20240731T020000
LOCATION:Highland Field #2: Second from pickleball courts\, 775 Torrence Rd\, Comox\, BC V9M 0A5\, Canada
GEO:;
END:VEVENT
BEGIN:VEVENT
UID:42717
DTSTAMP;TZID=America/Vancouver:20240806T190000
DTSTART;TZID=America/Vancouver:20240806T190000
DTEND;TZID=America/Vancouver:20240806T203000
SUMMARY:Golden Eagles 34 Multiple scoregasms 18
DESCRIPTION:SF#1: High Seed Winner vs. High Seed Loser
STATUS:CONFIRMED
LAST-MODIFIED:20240807T020000
LOCATION:Highland Field #2: Second from pickleball courts\, 775 Torrence Rd\, Comox\, BC V9M 0A5\, Canada
GEO:;
END:VEVENT
BEGIN:VEVENT
UID:42949
DTSTAMP;TZID=America/Vancouver:20240813T190000
DTSTART;TZID=America/Vancouver:20240813T190000
DTEND;TZID=America/Vancouver:20240813T203000
SUMMARY:Multiple scoregasms 40 No Punt Intended 12
DESCRIPTION:5th Place Game
STATUS:CONFIRMED
LAST-MODIFIED:20240808T011100
LOCATION:Highland Field #3: Furthest from pickleball courts\, 
GEO:0;0
END:VEVENT
BEGIN:VEVENT
UID:47012
DTSTAMP;TZID=America/Vancouver:20250408T190000
DTSTART;TZID=America/Vancouver:20250408T190000
DTEND;TZID=America/Vancouver:20250408T203000
SUMMARY:Multiple scoregasms 34 No Punt Intended 20
DESCRIPTION:*All games start at 7:00 this season. Daylight may be an issue in early going, so please be warmed up and ready to start for 7. 
STATUS:CONFIRMED
LAST-MODIFIED:20250409T020000
LOCATION:Highland Field #4: Furthest from pickleball courts\, 775 Torrence Rd\, Comox\, BC V9M 0A5\, Canada
GEO:;
END:VEVENT
BEGIN:VEVENT
UID:47016
DTSTAMP;TZID=America/Vancouver:20250415T190000
DTSTART;TZID=America/Vancouver:20250415T190000
DTEND;TZID=America/Vancouver:20250415T203000
SUMMARY:Multiple scoregasms 48 Powerbottoms 38
DESCRIPTION:
STATUS:CONFIRMED
LAST-MODIFIED:20250416T171200
LOCATION:Highland Field #4: Furthest from pickleball courts\, 775 Torrence Rd\, Comox\, BC V9M 0A5\, Canada
GEO:;
END:VEVENT
BEGIN:VEVENT
UID:47019
DTSTAMP;TZID=America/Vancouver:20250422T190000
DTSTART;TZID=America/Vancouver:20250422T190000
DTEND;TZID=America/Vancouver:20250422T203000
SUMMARY:Multiple scoregasms 42 Deep Cuts 13
DESCRIPTION:
STATUS:CONFIRMED
LAST-MODIFIED:20250423T020000
LOCATION:Highland Field #3: Furthest from pickleball courts\, 
GEO:0;0
END:VEVENT
BEGIN:VEVENT
UID:47022
DTSTAMP;TZID=America/Vancouver:20250429T190000
DTSTART;TZID=America/Vancouver:20250429T190000
DTEND;TZID=America/Vancouver:20250429T203000
SUMMARY:Multiple scoregasms 32 Blood\, Sweat &amp\; Beers 38
DESCRIPTION:
STATUS:CONFIRMED
LAST-MODIFIED:20250430T020000
LOCATION:Highland Field #2: Second from pickleball courts\, 775 Torrence Rd\, Comox\, BC V9M 0A5\, Canada
GEO:;
END:VEVENT
BEGIN:VEVENT
UID:47026
DTSTAMP;TZID=America/Vancouver:20250506T190000
DTSTART;TZID=America/Vancouver:20250506T190000
DTEND;TZID=America/Vancouver:20250506T203000
SUMMARY:Multiple scoregasms 28 Golden Eagles 29
DESCRIPTION:
STATUS:CONFIRMED
LAST-MODIFIED:20250507T020000
LOCATION:Highland Field #2: Second from pickleball courts\, 775 Torrence Rd\, Comox\, BC V9M 0A5\, Canada
GEO:;
END:VEVENT
BEGIN:VEVENT
UID:47029
DTSTAMP;TZID=America/Vancouver:20250513T190000
DTSTART;TZID=America/Vancouver:20250513T190000
DTEND;TZID=America/Vancouver:20250513T203000
SUMMARY:Pass Whoopin&#8217\; 14 Multiple scoregasms 42
DESCRIPTION:
STATUS:CONFIRMED
LAST-MODIFIED:20250505T165700
LOCATION:Highland Field #4: Furthest from pickleball courts\, 775 Torrence Rd\, Comox\, BC V9M 0A5\, Canada
GEO:;
END:VEVENT
BEGIN:VEVENT
UID:47903
DTSTAMP;TZID=America/Vancouver:20250520T191500
DTSTART;TZID=America/Vancouver:20250520T191500
DTEND;TZID=America/Vancouver:20250520T204500
SUMMARY:Blood\, Sweat &amp\; Beers 25 Multiple scoregasms 27
DESCRIPTION:SF#2: Seeds 2 vs. 3
STATUS:CONFIRMED
LAST-MODIFIED:20250521T021500
LOCATION:Highland Field #1: Closest to pickleball courts\, 775 Torrence Rd\, Comox\, BC V9M 0A5\, Canada
GEO:49.7086512;-124.9098752
END:VEVENT
BEGIN:VEVENT
UID:47994
DTSTAMP;TZID=America/Vancouver:20250527T191500
DTSTART;TZID=America/Vancouver:20250527T191500
DTEND;TZID=America/Vancouver:20250527T204500
SUMMARY:Golden Eagles 12 Multiple scoregasms 31
DESCRIPTION:*1st Place Game
STATUS:CONFIRMED
LAST-MODIFIED:20250528T021500
LOCATION:Highland Field #2: Second from pickleball courts\, 775 Torrence Rd\, Comox\, BC V9M 0A5\, Canada
GEO:;
END:VEVENT
BEGIN:VEVENT
UID:48824
DTSTAMP;TZID=America/Vancouver:20250617T190000
DTSTART;TZID=America/Vancouver:20250617T190000
DTEND;TZID=America/Vancouver:20250617T203000
SUMMARY:Blood\, Sweat &amp\; Beers 20 Multiple scoregasms 32
DESCRIPTION:*Season starts! Please arrive 10ish minutes early to your first game to warm up and be ready to start close to on time. 
STATUS:CONFIRMED
LAST-MODIFIED:20250618T020000
LOCATION:Highland Field #1: Closest to pickleball courts\, 775 Torrence Rd\, Comox\, BC V9M 0A5\, Canada
GEO:49.7086512;-124.9098752
END:VEVENT
BEGIN:VEVENT
UID:48829
DTSTAMP;TZID=America/Vancouver:20250624T190000
DTSTART;TZID=America/Vancouver:20250624T190000
DTEND;TZID=America/Vancouver:20250624T203000
SUMMARY:No Punt Intended 12 Multiple scoregasms 40
DESCRIPTION:
STATUS:CONFIRMED
LAST-MODIFIED:20250625T020000
LOCATION:Highland Field #3: Furthest from pickleball courts\, 
GEO:0;0
END:VEVENT
BEGIN:VEVENT
UID:48832
DTSTAMP;TZID=America/Vancouver:20250708T190000
DTSTART;TZID=America/Vancouver:20250708T190000
DTEND;TZID=America/Vancouver:20250708T203000
SUMMARY:Deep Cuts 6 Multiple scoregasms 34
DESCRIPTION:
STATUS:CONFIRMED
LAST-MODIFIED:20250709T020000
LOCATION:Highland Field #3: Furthest from pickleball courts\, 
GEO:0;0
END:VEVENT
BEGIN:VEVENT
UID:48835
DTSTAMP;TZID=America/Vancouver:20250715T190000
DTSTART;TZID=America/Vancouver:20250715T190000
DTEND;TZID=America/Vancouver:20250715T203000
SUMMARY:Golden Eagles 40 Multiple scoregasms 30
DESCRIPTION:
STATUS:CONFIRMED
LAST-MODIFIED:20250716T020000
LOCATION:Highland Field #3: Furthest from pickleball courts\, 
GEO:0;0
END:VEVENT
BEGIN:VEVENT
UID:48837
DTSTAMP;TZID=America/Vancouver:20250722T190000
DTSTART;TZID=America/Vancouver:20250722T190000
DTEND;TZID=America/Vancouver:20250722T203000
SUMMARY:Sacksually Active 31 Multiple scoregasms 40
DESCRIPTION:
STATUS:CONFIRMED
LAST-MODIFIED:20250723T020000
LOCATION:Highland Field #2: Second from pickleball courts\, 775 Torrence Rd\, Comox\, BC V9M 0A5\, Canada
GEO:;
END:VEVENT
BEGIN:VEVENT
UID:49273
DTSTAMP;TZID=America/Vancouver:20250729T190000
DTSTART;TZID=America/Vancouver:20250729T190000
DTEND;TZID=America/Vancouver:20250729T203000
SUMMARY:Multiple scoregasms 34 No Punt Intended 14
DESCRIPTION:QF#1: Seeds 1 vs. 6
STATUS:CONFIRMED
LAST-MODIFIED:20250730T020000
LOCATION:Highland Field #3: Furthest from pickleball courts\, 
GEO:0;0
END:VEVENT
BEGIN:VEVENT
UID:49332
DTSTAMP;TZID=America/Vancouver:20250805T190000
DTSTART;TZID=America/Vancouver:20250805T190000
DTEND;TZID=America/Vancouver:20250805T203000
SUMMARY:Multiple scoregasms 48 Deep Cuts 26
DESCRIPTION:SF#1: Winner QF#1 vs. Top Seed QF Loser
STATUS:CONFIRMED
LAST-MODIFIED:20250806T020000
LOCATION:Highland Field #3: Furthest from pickleball courts\, 
GEO:0;0
END:VEVENT
BEGIN:VEVENT
UID:49560
DTSTAMP;TZID=America/Vancouver:20250812T190000
DTSTART;TZID=America/Vancouver:20250812T190000
DTEND;TZID=America/Vancouver:20250812T203000
SUMMARY:Multiple scoregasms 20 Blood\, Sweat &amp\; Beers 19
DESCRIPTION:1st Place Game
STATUS:CONFIRMED
LAST-MODIFIED:20250813T020000
LOCATION:Highland Field #1: Closest to pickleball courts\, 775 Torrence Rd\, Comox\, BC V9M 0A5\, Canada
GEO:49.7086512;-124.9098752
END:VEVENT
END:VCALENDAR