BEGIN:VCALENDAR
VERSION:2.0
PRODID:-//SCVSSC//EN
CALSCALE:GREGORIAN
METHOD:PUBLISH
URL:https://comoxvalleysports.ca/calendar/motley-crew-fc-calendar-2/?feed=cvssc-calendar-ical
X-FROM-URL:https://comoxvalleysports.ca/calendar/motley-crew-fc-calendar-2/?feed=cvssc-calendar-ical
NAME:Motley Crew FC Calendar
X-WR-CALNAME:Motley Crew FC Calendar
DESCRIPTION:Motley Crew FC Calendar
X-WR-CALDESC:Motley Crew FC Calendar
REFRESH-INTERVAL;VALUE=DURATION:PT2M
X-PUBLISHED-TTL:PT2M
TZID:America/Vancouver
X-WR-TIMEZONE:America/Vancouver
BEGIN:VTIMEZONE
TZID:America/Vancouver
X-LIC-LOCATION:America/Vancouver
BEGIN:DAYLIGHT
TZOFFSETFROM:-0800
TZOFFSETTO:-0700
TZNAME:PDT
DTSTART:19700308T020000
RRULE:FREQ=YEARLY;BYMONTH=3;BYDAY=2SU
END:DAYLIGHT
BEGIN:STANDARD
TZOFFSETFROM:-0700
TZOFFSETTO:-0800
TZNAME:PST
DTSTART:19701101T020000
RRULE:FREQ=YEARLY;BYMONTH=11;BYDAY=1SU
END:STANDARD
END:VTIMEZONE
BEGIN:VEVENT
UID:6954
DTSTAMP;TZID=America/Vancouver:20180419T191500
DTSTART;TZID=America/Vancouver:20180419T191500
DTEND;TZID=America/Vancouver:20180419T203000
SUMMARY:Motley Crew FC 1 Just One 4
DESCRIPTION:
STATUS:CONFIRMED
LAST-MODIFIED:20180416T221400
LOCATION:Queneesh - Field 3: Right Field\, 2345 Mission Rd\, Courtenay\, BC V9N 9H1\, Canada
GEO:;
END:VEVENT
BEGIN:VEVENT
UID:6961
DTSTAMP;TZID=America/Vancouver:20180426T180000
DTSTART;TZID=America/Vancouver:20180426T180000
DTEND;TZID=America/Vancouver:20180426T191500
SUMMARY:Motley Crew FC 3 North Island College 7
DESCRIPTION:
STATUS:CONFIRMED
LAST-MODIFIED:20180511T165800
LOCATION:Queneesh - Field 2: Middle Field\, 2345 Mission Rd\, Courtenay\, BC V9N 9H1\, Canada
GEO:;
END:VEVENT
BEGIN:VEVENT
UID:6983
DTSTAMP;TZID=America/Vancouver:20180503T191500
DTSTART;TZID=America/Vancouver:20180503T191500
DTEND;TZID=America/Vancouver:20180503T203000
SUMMARY:Motley Crew FC 1 Squad Goals 2
DESCRIPTION:
STATUS:CONFIRMED
LAST-MODIFIED:20180417T003300
LOCATION:Queneesh - Field 2: Middle Field\, 2345 Mission Rd\, Courtenay\, BC V9N 9H1\, Canada
GEO:;
END:VEVENT
BEGIN:VEVENT
UID:7169
DTSTAMP;TZID=America/Vancouver:20180510T183000
DTSTART;TZID=America/Vancouver:20180510T183000
DTEND;TZID=America/Vancouver:20180510T194500
SUMMARY:Kiss My Pass 1 Motley Crew FC 3
DESCRIPTION:
STATUS:CONFIRMED
LAST-MODIFIED:20180508T170500
LOCATION:Queneesh - Field 3: Right Field\, 2345 Mission Rd\, Courtenay\, BC V9N 9H1\, Canada
GEO:;
END:VEVENT
BEGIN:VEVENT
UID:7238
DTSTAMP;TZID=America/Vancouver:20180517T194500
DTSTART;TZID=America/Vancouver:20180517T194500
DTEND;TZID=America/Vancouver:20180517T210000
SUMMARY:Mesh Manglers 0 Motley Crew FC 7
DESCRIPTION:
STATUS:CONFIRMED
LAST-MODIFIED:20180511T171100
LOCATION:Queneesh - Field 1: Left field\, 2345 Mission Rd\, Courtenay\, BC V9N 9H1\, Canada
GEO:49.69393028209098;-124.99450891534423
END:VEVENT
BEGIN:VEVENT
UID:7262
DTSTAMP;TZID=America/Vancouver:20180524T194500
DTSTART;TZID=America/Vancouver:20180524T194500
DTEND;TZID=America/Vancouver:20180524T210000
SUMMARY:The Untouchaballs 2 Motley Crew FC 2
DESCRIPTION:
STATUS:CONFIRMED
LAST-MODIFIED:20180511T171300
LOCATION:G.P. Vanier - Field 1: Rugby field, closer to school access road\, P252+WG Courtenay\, BC\, Canada
GEO:49.709771;-124.998649
END:VEVENT
BEGIN:VEVENT
UID:7253
DTSTAMP;TZID=America/Vancouver:20180531T235900
DTSTART;TZID=America/Vancouver:20180531T235900
DTEND;TZID=America/Vancouver:20180531T235900
SUMMARY:Motley Crew FC - BYE WEEK. NO GAME.
DESCRIPTION:
STATUS:CONFIRMED
LAST-MODIFIED:20180510T002900
GEO:49.709771;-124.998649
END:VEVENT
BEGIN:VEVENT
UID:7560
DTSTAMP;TZID=America/Vancouver:20180607T183000
DTSTART;TZID=America/Vancouver:20180607T183000
DTEND;TZID=America/Vancouver:20180607T194500
SUMMARY:White Whale Football Club 3 Motley Crew FC 2
DESCRIPTION:C Tier SF#2: Seeds 2 vs. 3
STATUS:CONFIRMED
LAST-MODIFIED:20180601T203800
LOCATION:Queneesh - Field 2: Middle Field\, 2345 Mission Rd\, Courtenay\, BC V9N 9H1\, Canada
GEO:;
END:VEVENT
BEGIN:VEVENT
UID:7645
DTSTAMP;TZID=America/Vancouver:20180614T183000
DTSTART;TZID=America/Vancouver:20180614T183000
DTEND;TZID=America/Vancouver:20180614T194500
SUMMARY:Motley Crew FC 3 The Untouchaballs 2
DESCRIPTION:C Tier 3rd Place
STATUS:CONFIRMED
LAST-MODIFIED:20180608T200600
LOCATION:G.P. Vanier - Field 1: Rugby field, closer to school access road\, P252+WG Courtenay\, BC\, Canada
GEO:49.709771;-124.998649
END:VEVENT
BEGIN:VEVENT
UID:8263
DTSTAMP;TZID=America/Vancouver:20180628T235900
DTSTART;TZID=America/Vancouver:20180628T235900
DTEND;TZID=America/Vancouver:20180628T235900
SUMMARY:Motley Crew FC - BYE WEEK. NO GAME.
DESCRIPTION:
STATUS:CONFIRMED
LAST-MODIFIED:20180625T205700
GEO:49.709771;-124.998649
END:VEVENT
BEGIN:VEVENT
UID:8283
DTSTAMP;TZID=America/Vancouver:20180705T194500
DTSTART;TZID=America/Vancouver:20180705T194500
DTEND;TZID=America/Vancouver:20180705T210000
SUMMARY:Motley Crew FC 4 Squad Goals 3
DESCRIPTION:
STATUS:CONFIRMED
LAST-MODIFIED:20180625T211300
LOCATION:Queneesh - Field 2: Middle Field\, 2345 Mission Rd\, Courtenay\, BC V9N 9H1\, Canada
GEO:;
END:VEVENT
BEGIN:VEVENT
UID:8287
DTSTAMP;TZID=America/Vancouver:20180712T183000
DTSTART;TZID=America/Vancouver:20180712T183000
DTEND;TZID=America/Vancouver:20180712T194500
SUMMARY:Motley Crew FC 8 Mesh Manglers 3
DESCRIPTION:
STATUS:CONFIRMED
LAST-MODIFIED:20180625T211600
LOCATION:G.P. Vanier - Field 3: Right field, 2nd closest Headquarters Rd.\, 4830 Headquarters Rd\, Courtenay\, BC V9J 1P2\, Canada
GEO:49.70965529999999;-124.9983923
END:VEVENT
BEGIN:VEVENT
UID:8539
DTSTAMP;TZID=America/Vancouver:20180719T194500
DTSTART;TZID=America/Vancouver:20180719T194500
DTEND;TZID=America/Vancouver:20180719T210000
SUMMARY:Kiss My Pass 5 Motley Crew FC 3
DESCRIPTION:
STATUS:CONFIRMED
LAST-MODIFIED:20180716T213300
LOCATION:Queneesh - Field 2: Middle Field\, 2345 Mission Rd\, Courtenay\, BC V9N 9H1\, Canada
GEO:;
END:VEVENT
BEGIN:VEVENT
UID:8544
DTSTAMP;TZID=America/Vancouver:20180726T183000
DTSTART;TZID=America/Vancouver:20180726T183000
DTEND;TZID=America/Vancouver:20180726T194500
SUMMARY:White Whale Football Club 2 Motley Crew FC 0
DESCRIPTION:
STATUS:CONFIRMED
LAST-MODIFIED:20180716T214800
LOCATION:Queneesh - Field 1: Left field\, 2345 Mission Rd\, Courtenay\, BC V9N 9H1\, Canada
GEO:49.69393028209098;-124.99450891534423
END:VEVENT
BEGIN:VEVENT
UID:8559
DTSTAMP;TZID=America/Vancouver:20180802T180000
DTSTART;TZID=America/Vancouver:20180802T180000
DTEND;TZID=America/Vancouver:20180802T191500
SUMMARY:Motley Crew FC 2 Toepunters 3
DESCRIPTION:
STATUS:CONFIRMED
LAST-MODIFIED:20180716T220900
LOCATION:Queneesh - Field 3: Right Field\, 2345 Mission Rd\, Courtenay\, BC V9N 9H1\, Canada
GEO:;
END:VEVENT
BEGIN:VEVENT
UID:8669
DTSTAMP;TZID=America/Vancouver:20180809T191500
DTSTART;TZID=America/Vancouver:20180809T191500
DTEND;TZID=America/Vancouver:20180809T203000
SUMMARY:Kiss My Pass 5 Motley Crew FC 1
DESCRIPTION:C Tier QF#2: Seeds 2 vs. 7
STATUS:CONFIRMED
LAST-MODIFIED:20180806T211600
LOCATION:G.P. Vanier - Field 3: Right field, 2nd closest Headquarters Rd.\, 4830 Headquarters Rd\, Courtenay\, BC V9J 1P2\, Canada
GEO:49.70965529999999;-124.9983923
END:VEVENT
BEGIN:VEVENT
UID:8719
DTSTAMP;TZID=America/Vancouver:20180816T180000
DTSTART;TZID=America/Vancouver:20180816T180000
DTEND;TZID=America/Vancouver:20180816T191500
SUMMARY:Grass Stains 1 Motley Crew FC 3
DESCRIPTION:C Tier SF#5
STATUS:CONFIRMED
LAST-MODIFIED:20180813T224700
LOCATION:Queneesh - Field 2: Middle Field\, 2345 Mission Rd\, Courtenay\, BC V9N 9H1\, Canada
GEO:;
END:VEVENT
BEGIN:VEVENT
UID:8821
DTSTAMP;TZID=America/Vancouver:20180823T180000
DTSTART;TZID=America/Vancouver:20180823T180000
DTEND;TZID=America/Vancouver:20180823T191500
SUMMARY:Motley Crew FC 0 Toepunters 7
DESCRIPTION:C Tier 7th Place Game
STATUS:CONFIRMED
LAST-MODIFIED:20180820T214200
LOCATION:Highland Soccer Field #4: Ball Diamond Side, bordering entry path\, Highland Park\, 1519 Highridge Dr\, Comox\, BC V9M 4H7\, Canada
GEO:49.68953992269148;-124.91109171429446
END:VEVENT
END:VCALENDAR