BEGIN:VCALENDAR
VERSION:2.0
PRODID:-//SCVSSC//EN
CALSCALE:GREGORIAN
METHOD:PUBLISH
URL:https://comoxvalleysports.ca/calendar/maneater-calendar/?feed=cvssc-calendar-ical
X-FROM-URL:https://comoxvalleysports.ca/calendar/maneater-calendar/?feed=cvssc-calendar-ical
NAME:Maneater Calendar
X-WR-CALNAME:Maneater Calendar
DESCRIPTION:Maneater Calendar
X-WR-CALDESC:Maneater Calendar
REFRESH-INTERVAL;VALUE=DURATION:PT2M
X-PUBLISHED-TTL:PT2M
TZID:America/Vancouver
X-WR-TIMEZONE:America/Vancouver
BEGIN:VTIMEZONE
TZID:America/Vancouver
X-LIC-LOCATION:America/Vancouver
BEGIN:DAYLIGHT
TZOFFSETFROM:-0800
TZOFFSETTO:-0700
TZNAME:PDT
DTSTART:19700308T020000
RRULE:FREQ=YEARLY;BYMONTH=3;BYDAY=2SU
END:DAYLIGHT
BEGIN:STANDARD
TZOFFSETFROM:-0700
TZOFFSETTO:-0800
TZNAME:PST
DTSTART:19701101T020000
RRULE:FREQ=YEARLY;BYMONTH=11;BYDAY=1SU
END:STANDARD
END:VTIMEZONE
BEGIN:VEVENT
UID:50219
DTSTAMP;TZID=America/Vancouver:20250908T180000
DTSTART;TZID=America/Vancouver:20250908T180000
DTEND;TZID=America/Vancouver:20250908T193000
SUMMARY:Maneater 12 Smells Like Team Spirit 15
DESCRIPTION:*Season starts! Please try to be at the fields before 6 p.m. for captains to address their teams before the games.
STATUS:CONFIRMED
LAST-MODIFIED:20250909T010000
LOCATION:Highland Field #1: Closest to pickleball courts\, 775 Torrence Rd\, Comox\, BC V9M 0A5\, Canada
GEO:49.7086512;-124.9098752
END:VEVENT
BEGIN:VEVENT
UID:50221
DTSTAMP;TZID=America/Vancouver:20250915T180000
DTSTART;TZID=America/Vancouver:20250915T180000
DTEND;TZID=America/Vancouver:20250915T193000
SUMMARY:Maneater 14 Tree 14
DESCRIPTION:
STATUS:CONFIRMED
LAST-MODIFIED:20250916T010000
LOCATION:Highland Field #1: Closest to pickleball courts\, 775 Torrence Rd\, Comox\, BC V9M 0A5\, Canada
GEO:49.7086512;-124.9098752
END:VEVENT
BEGIN:VEVENT
UID:50223
DTSTAMP;TZID=America/Vancouver:20250922T190000
DTSTART;TZID=America/Vancouver:20250922T190000
DTEND;TZID=America/Vancouver:20250922T203000
SUMMARY:The Grassholes 15 Maneater 9
DESCRIPTION:*Games move to Lewis Park under the light at 7. (Will update if this changes.)
STATUS:CONFIRMED
LAST-MODIFIED:20250923T020000
LOCATION:Lewis Park - Field 1 (Closest to Tennis Courts)\, 55 5th St\, Courtenay\, BC V9N 3N7\, Canada
GEO:49.693847;-124.99446599999999
END:VEVENT
BEGIN:VEVENT
UID:50737
DTSTAMP;TZID=America/Vancouver:20250929T190000
DTSTART;TZID=America/Vancouver:20250929T190000
DTEND;TZID=America/Vancouver:20250929T203000
SUMMARY:Smells Like Team Spirit 15 Maneater 9
DESCRIPTION:SF#1: Seeds 1 vs. 4
STATUS:CONFIRMED
LAST-MODIFIED:20250930T020000
LOCATION:Lewis Park - Field 1 (Closest to Tennis Courts)\, 55 5th St\, Courtenay\, BC V9N 3N7\, Canada
GEO:49.693847;-124.99446599999999
END:VEVENT
BEGIN:VEVENT
UID:50869
DTSTAMP;TZID=America/Vancouver:20251006T190000
DTSTART;TZID=America/Vancouver:20251006T190000
DTEND;TZID=America/Vancouver:20251006T203000
SUMMARY:Tree 15 Maneater 9
DESCRIPTION:*3rd Place Game
STATUS:CONFIRMED
LAST-MODIFIED:20251007T020000
LOCATION:Lewis Park - Field 2 (Furthest from Tennis Courts)\, 55 5th St\, Courtenay\, BC V9N 3N7\, Canada
GEO:49.69393028209098;-124.99450891534423
END:VEVENT
END:VCALENDAR