BEGIN:VCALENDAR
VERSION:2.0
PRODID:-//SCVSSC//EN
CALSCALE:GREGORIAN
METHOD:PUBLISH
URL:https://comoxvalleysports.ca/calendar/lastminuters-calendar/?feed=cvssc-calendar-ical
X-FROM-URL:https://comoxvalleysports.ca/calendar/lastminuters-calendar/?feed=cvssc-calendar-ical
NAME:Lastminuters Calendar
X-WR-CALNAME:Lastminuters Calendar
DESCRIPTION:Lastminuters Calendar
X-WR-CALDESC:Lastminuters Calendar
REFRESH-INTERVAL;VALUE=DURATION:PT2M
X-PUBLISHED-TTL:PT2M
TZID:America/Vancouver
X-WR-TIMEZONE:America/Vancouver
BEGIN:VTIMEZONE
TZID:America/Vancouver
X-LIC-LOCATION:America/Vancouver
BEGIN:DAYLIGHT
TZOFFSETFROM:-0800
TZOFFSETTO:-0700
TZNAME:PDT
DTSTART:19700308T020000
RRULE:FREQ=YEARLY;BYMONTH=3;BYDAY=2SU
END:DAYLIGHT
BEGIN:STANDARD
TZOFFSETFROM:-0700
TZOFFSETTO:-0800
TZNAME:PST
DTSTART:19701101T020000
RRULE:FREQ=YEARLY;BYMONTH=11;BYDAY=1SU
END:STANDARD
END:VTIMEZONE
BEGIN:VEVENT
UID:15834
DTSTAMP;TZID=America/Vancouver:20200122T200000
DTSTART;TZID=America/Vancouver:20200122T200000
DTEND;TZID=America/Vancouver:20200122T213000
SUMMARY:Lastminuters 1 Old Ass Cripples 3
DESCRIPTION:Best-of-5 
*Game re-scheduled from Jan. 15 due to snow cancellation. 
STATUS:CONFIRMED
LAST-MODIFIED:20200115T220800
LOCATION:Brooklyn Elementary - Court 1\, 1290 Guthrie Rd\, Comox\, BC V9M 4G2\, Canada
GEO:49.6868764;-124.90481720000002
END:VEVENT
BEGIN:VEVENT
UID:15924
DTSTAMP;TZID=America/Vancouver:20200129T183000
DTSTART;TZID=America/Vancouver:20200129T183000
DTEND;TZID=America/Vancouver:20200129T191500
SUMMARY:Animal kingdom 2 Lastminuters 1
DESCRIPTION:
STATUS:CONFIRMED
LAST-MODIFIED:20200130T023000
LOCATION:Ecole au Coeur de L’Ile - Court 1\, 566 Linshart Rd\, Comox\, BC V9M 2K8\, Canada
GEO:49.6839056;-124.9287382
END:VEVENT
BEGIN:VEVENT
UID:15927
DTSTAMP;TZID=America/Vancouver:20200129T191500
DTSTART;TZID=America/Vancouver:20200129T191500
DTEND;TZID=America/Vancouver:20200129T200000
SUMMARY:Net Flex 1 Lastminuters 1
DESCRIPTION:
STATUS:CONFIRMED
LAST-MODIFIED:20200131T191800
LOCATION:Ecole au Coeur de L’Ile - Court 2\, 566 Linshart Rd\, Comox\, BC V9M 2K8\, Canada
GEO:49.6839056;-124.9287382
END:VEVENT
BEGIN:VEVENT
UID:15950
DTSTAMP;TZID=America/Vancouver:20200205T201500
DTSTART;TZID=America/Vancouver:20200205T201500
DTEND;TZID=America/Vancouver:20200205T210000
SUMMARY:Lastminuters 0 Net Ninjas 2
DESCRIPTION:
STATUS:CONFIRMED
LAST-MODIFIED:20200206T041500
LOCATION:19 Wing - Court 1\, 1575 Military Row\, Comox\, BC V9M 4H2\, Canada
GEO:49.71223332552268;-124.90958909759217
END:VEVENT
BEGIN:VEVENT
UID:15953
DTSTAMP;TZID=America/Vancouver:20200205T210000
DTSTART;TZID=America/Vancouver:20200205T210000
DTEND;TZID=America/Vancouver:20200205T214500
SUMMARY:Lastminuters 0 Paddles 2
DESCRIPTION:
STATUS:CONFIRMED
LAST-MODIFIED:20200206T050000
LOCATION:19 Wing - Court 1\, 1575 Military Row\, Comox\, BC V9M 4H2\, Canada
GEO:49.71223332552268;-124.90958909759217
END:VEVENT
BEGIN:VEVENT
UID:15969
DTSTAMP;TZID=America/Vancouver:20200212T201500
DTSTART;TZID=America/Vancouver:20200212T201500
DTEND;TZID=America/Vancouver:20200212T210000
SUMMARY:The Muggles 2 Lastminuters 0
DESCRIPTION:
STATUS:CONFIRMED
LAST-MODIFIED:20200213T041500
LOCATION:19 Wing - Court 1\, 1575 Military Row\, Comox\, BC V9M 4H2\, Canada
GEO:49.71223332552268;-124.90958909759217
END:VEVENT
BEGIN:VEVENT
UID:15972
DTSTAMP;TZID=America/Vancouver:20200212T210000
DTSTART;TZID=America/Vancouver:20200212T210000
DTEND;TZID=America/Vancouver:20200212T214500
SUMMARY:How I Set Your Mother 2 Lastminuters 0
DESCRIPTION:
STATUS:CONFIRMED
LAST-MODIFIED:20200213T050000
LOCATION:19 Wing - Court 2\, 1575 Military Row\, Comox\, BC V9M 4H2\, Canada
GEO:49.71222638796791;-124.90959982642823
END:VEVENT
BEGIN:VEVENT
UID:16156
DTSTAMP;TZID=America/Vancouver:20200219T201500
DTSTART;TZID=America/Vancouver:20200219T201500
DTEND;TZID=America/Vancouver:20200219T210000
SUMMARY:Lastminuters 0 Paddles 2
DESCRIPTION:
STATUS:CONFIRMED
LAST-MODIFIED:20200220T041500
LOCATION:19 Wing - Court 2\, 1575 Military Row\, Comox\, BC V9M 4H2\, Canada
GEO:49.71222638796791;-124.90959982642823
END:VEVENT
BEGIN:VEVENT
UID:16158
DTSTAMP;TZID=America/Vancouver:20200219T210000
DTSTART;TZID=America/Vancouver:20200219T210000
DTEND;TZID=America/Vancouver:20200219T214500
SUMMARY:Lastminuters 0 Animal kingdom 2
DESCRIPTION:
STATUS:CONFIRMED
LAST-MODIFIED:20200220T050000
LOCATION:19 Wing - Court 2\, 1575 Military Row\, Comox\, BC V9M 4H2\, Canada
GEO:49.71222638796791;-124.90959982642823
END:VEVENT
BEGIN:VEVENT
UID:16164
DTSTAMP;TZID=America/Vancouver:20200226T201500
DTSTART;TZID=America/Vancouver:20200226T201500
DTEND;TZID=America/Vancouver:20200226T210000
SUMMARY:Lastminuters 0 Net Flex 2
DESCRIPTION:
STATUS:CONFIRMED
LAST-MODIFIED:20200227T041500
LOCATION:19 Wing - Court 2\, 1575 Military Row\, Comox\, BC V9M 4H2\, Canada
GEO:49.71222638796791;-124.90959982642823
END:VEVENT
BEGIN:VEVENT
UID:16166
DTSTAMP;TZID=America/Vancouver:20200226T210000
DTSTART;TZID=America/Vancouver:20200226T210000
DTEND;TZID=America/Vancouver:20200226T214500
SUMMARY:Lastminuters 0 How I Set Your Mother 2
DESCRIPTION:
STATUS:CONFIRMED
LAST-MODIFIED:20200227T050000
LOCATION:19 Wing - Court 2\, 1575 Military Row\, Comox\, BC V9M 4H2\, Canada
GEO:49.71222638796791;-124.90959982642823
END:VEVENT
BEGIN:VEVENT
UID:16235
DTSTAMP;TZID=America/Vancouver:20200304T183000
DTSTART;TZID=America/Vancouver:20200304T183000
DTEND;TZID=America/Vancouver:20200304T200000
SUMMARY:Animal kingdom 3 Lastminuters 0
DESCRIPTION:A Tier SF#3: Seeds 5 vs. 8
STATUS:CONFIRMED
LAST-MODIFIED:20200305T023000
LOCATION:Brooklyn Elementary - Court 1\, 1290 Guthrie Rd\, Comox\, BC V9M 4G2\, Canada
GEO:49.6868764;-124.90481720000002
END:VEVENT
BEGIN:VEVENT
UID:16347
DTSTAMP;TZID=America/Vancouver:20200311T200000
DTSTART;TZID=America/Vancouver:20200311T200000
DTEND;TZID=America/Vancouver:20200311T213000
SUMMARY:Old Ass Cripples 0 Lastminuters 0
DESCRIPTION:A Tier 7th Place: Losers SF#3 vs. SF#4
STATUS:CONFIRMED
LAST-MODIFIED:20200312T030000
LOCATION:Ecole au Coeur de L’Ile - Court 2\, 566 Linshart Rd\, Comox\, BC V9M 2K8\, Canada
GEO:49.6839056;-124.9287382
END:VEVENT
END:VCALENDAR