BEGIN:VCALENDAR
VERSION:2.0
PRODID:-//SCVSSC//EN
CALSCALE:GREGORIAN
METHOD:PUBLISH
URL:https://comoxvalleysports.ca/calendar/killer-threes-calendar/?feed=cvssc-calendar-ical
X-FROM-URL:https://comoxvalleysports.ca/calendar/killer-threes-calendar/?feed=cvssc-calendar-ical
NAME:Killer Threes Calendar
X-WR-CALNAME:Killer Threes Calendar
DESCRIPTION:Killer Threes Calendar
X-WR-CALDESC:Killer Threes Calendar
REFRESH-INTERVAL;VALUE=DURATION:PT2M
X-PUBLISHED-TTL:PT2M
TZID:America/Vancouver
X-WR-TIMEZONE:America/Vancouver
BEGIN:VTIMEZONE
TZID:America/Vancouver
X-LIC-LOCATION:America/Vancouver
BEGIN:DAYLIGHT
TZOFFSETFROM:-0800
TZOFFSETTO:-0700
TZNAME:PDT
DTSTART:19700308T020000
RRULE:FREQ=YEARLY;BYMONTH=3;BYDAY=2SU
END:DAYLIGHT
BEGIN:STANDARD
TZOFFSETFROM:-0700
TZOFFSETTO:-0800
TZNAME:PST
DTSTART:19701101T020000
RRULE:FREQ=YEARLY;BYMONTH=11;BYDAY=1SU
END:STANDARD
END:VTIMEZONE
BEGIN:VEVENT
UID:45269
DTSTAMP;TZID=America/Vancouver:20250110T184500
DTSTART;TZID=America/Vancouver:20250110T184500
DTEND;TZID=America/Vancouver:20250110T194500
SUMMARY:Killer Threes 44 Pippen Ain&#8217\;t Easy 74
DESCRIPTION:*Season starts. Please arrive 10-15 minutes early to help set up and warm up. 
STATUS:CONFIRMED
LAST-MODIFIED:20250127T192000
LOCATION:19 Wing Gym - Gym Entrance Side\, 1575 Military Row\, Comox\, BC V9M 4H2\, Canada
GEO:49.71217159999999;-124.90964311163941
END:VEVENT
BEGIN:VEVENT
UID:45275
DTSTAMP;TZID=America/Vancouver:20250117T194500
DTSTART;TZID=America/Vancouver:20250117T194500
DTEND;TZID=America/Vancouver:20250117T204500
SUMMARY:Killer Threes 20 puntledge punters 50
DESCRIPTION:
STATUS:CONFIRMED
LAST-MODIFIED:20250118T034500
LOCATION:19 Wing Gym - Gym Entrance Side\, 1575 Military Row\, Comox\, BC V9M 4H2\, Canada
GEO:49.71217159999999;-124.90964311163941
END:VEVENT
BEGIN:VEVENT
UID:45278
DTSTAMP;TZID=America/Vancouver:20250124T184500
DTSTART;TZID=America/Vancouver:20250124T184500
DTEND;TZID=America/Vancouver:20250124T194500
SUMMARY:Killer Threes 36 Bob Ross in the Paint 66
DESCRIPTION:
STATUS:CONFIRMED
LAST-MODIFIED:20250125T024500
LOCATION:19 Wing Gym - Storage Side\, 1575 Military Row\, Comox\, BC V9M 4H2\, Canada
GEO:49.7121716;-124.90975040000001
END:VEVENT
BEGIN:VEVENT
UID:45284
DTSTAMP;TZID=America/Vancouver:20250131T194500
DTSTART;TZID=America/Vancouver:20250131T194500
DTEND;TZID=America/Vancouver:20250131T204500
SUMMARY:Killer Threes 62 Big Shots 76
DESCRIPTION:
STATUS:CONFIRMED
LAST-MODIFIED:20250201T034500
LOCATION:19 Wing Gym - Storage Side\, 1575 Military Row\, Comox\, BC V9M 4H2\, Canada
GEO:49.7121716;-124.90975040000001
END:VEVENT
BEGIN:VEVENT
UID:45285
DTSTAMP;TZID=America/Vancouver:20250207T184500
DTSTART;TZID=America/Vancouver:20250207T184500
DTEND;TZID=America/Vancouver:20250207T194500
SUMMARY:Killer Threes 70 Geeks in Sneaks 52
DESCRIPTION:
STATUS:CONFIRMED
LAST-MODIFIED:20250107T191200
LOCATION:19 Wing Gym - Gym Entrance Side\, 1575 Military Row\, Comox\, BC V9M 4H2\, Canada
GEO:49.71217159999999;-124.90964311163941
END:VEVENT
BEGIN:VEVENT
UID:45291
DTSTAMP;TZID=America/Vancouver:20250221T194500
DTSTART;TZID=America/Vancouver:20250221T194500
DTEND;TZID=America/Vancouver:20250221T204500
SUMMARY:Buckets and Beers 88 Killer Threes 58
DESCRIPTION:
STATUS:CONFIRMED
LAST-MODIFIED:20250222T034500
LOCATION:19 Wing Gym - Gym Entrance Side\, 1575 Military Row\, Comox\, BC V9M 4H2\, Canada
GEO:49.71217159999999;-124.90964311163941
END:VEVENT
BEGIN:VEVENT
UID:46141
DTSTAMP;TZID=America/Vancouver:20250228T194500
DTSTART;TZID=America/Vancouver:20250228T194500
DTEND;TZID=America/Vancouver:20250228T204000
SUMMARY:Geeks in Sneaks 64 Killer Threes 57
DESCRIPTION:SF#3: Seeds 5 vs. 8
STATUS:CONFIRMED
LAST-MODIFIED:20250301T034500
LOCATION:19 Wing Gym - Gym Entrance Side\, 1575 Military Row\, Comox\, BC V9M 4H2\, Canada
GEO:49.71217159999999;-124.90964311163941
END:VEVENT
BEGIN:VEVENT
UID:46280
DTSTAMP;TZID=America/Vancouver:20250307T184500
DTSTART;TZID=America/Vancouver:20250307T184500
DTEND;TZID=America/Vancouver:20250307T194000
SUMMARY:Pippen Ain&#8217\;t Easy 64 Killer Threes 66
DESCRIPTION:7th Place Game
STATUS:CONFIRMED
LAST-MODIFIED:20250308T024500
LOCATION:19 Wing Gym - Gym Entrance Side\, 1575 Military Row\, Comox\, BC V9M 4H2\, Canada
GEO:49.71217159999999;-124.90964311163941
END:VEVENT
END:VCALENDAR