BEGIN:VCALENDAR
VERSION:2.0
PRODID:-//SCVSSC//EN
CALSCALE:GREGORIAN
METHOD:PUBLISH
URL:https://comoxvalleysports.ca/calendar/just-one-calendar-2/?feed=cvssc-calendar-ical
X-FROM-URL:https://comoxvalleysports.ca/calendar/just-one-calendar-2/?feed=cvssc-calendar-ical
NAME:Just One Calendar
X-WR-CALNAME:Just One Calendar
DESCRIPTION:Just One Calendar
X-WR-CALDESC:Just One Calendar
REFRESH-INTERVAL;VALUE=DURATION:PT2M
X-PUBLISHED-TTL:PT2M
TZID:America/Vancouver
X-WR-TIMEZONE:America/Vancouver
BEGIN:VTIMEZONE
TZID:America/Vancouver
X-LIC-LOCATION:America/Vancouver
BEGIN:DAYLIGHT
TZOFFSETFROM:-0800
TZOFFSETTO:-0700
TZNAME:PDT
DTSTART:19700308T020000
RRULE:FREQ=YEARLY;BYMONTH=3;BYDAY=2SU
END:DAYLIGHT
BEGIN:STANDARD
TZOFFSETFROM:-0700
TZOFFSETTO:-0800
TZNAME:PST
DTSTART:19701101T020000
RRULE:FREQ=YEARLY;BYMONTH=11;BYDAY=1SU
END:STANDARD
END:VTIMEZONE
BEGIN:VEVENT
UID:14677
DTSTAMP;TZID=America/Vancouver:20190923T200000
DTSTART;TZID=America/Vancouver:20190923T200000
DTEND;TZID=America/Vancouver:20190923T210000
SUMMARY:Just One 1 Ballsagna 11
DESCRIPTION:*New teams/players are requested to show up 30 mins early to watch part of the earlier game in action. It helps to have reviewed the rules before that first game.
STATUS:CONFIRMED
LAST-MODIFIED:20190924T030000
LOCATION:Cumberland Jr - Court 2\, 2674 Windemere Ave\, Cumberland\, BC V0R\, Canada
GEO:49.62112036211578;-125.03315414550781
END:VEVENT
BEGIN:VEVENT
UID:14679
DTSTAMP;TZID=America/Vancouver:20190930T180000
DTSTART;TZID=America/Vancouver:20190930T180000
DTEND;TZID=America/Vancouver:20190930T190000
SUMMARY:Just One 8 The Human Targets 9
DESCRIPTION:
STATUS:CONFIRMED
LAST-MODIFIED:20191001T010000
LOCATION:Cumberland Jr - Court 2\, 2674 Windemere Ave\, Cumberland\, BC V0R\, Canada
GEO:49.62112036211578;-125.03315414550781
END:VEVENT
BEGIN:VEVENT
UID:14686
DTSTAMP;TZID=America/Vancouver:20191007T190000
DTSTART;TZID=America/Vancouver:20191007T190000
DTEND;TZID=America/Vancouver:20191007T200000
SUMMARY:Golden Eagles 7 Just One 6
DESCRIPTION:
STATUS:CONFIRMED
LAST-MODIFIED:20191008T020000
LOCATION:Cumberland Jr - Court 1\, 2674 Windemere Ave\, Cumberland\, BC V0R\, Canada
GEO:49.62114293423199;-125.03311143224335
END:VEVENT
BEGIN:VEVENT
UID:14992
DTSTAMP;TZID=America/Vancouver:20191021T200000
DTSTART;TZID=America/Vancouver:20191021T200000
DTEND;TZID=America/Vancouver:20191021T210000
SUMMARY:Just One 6 Unicorns 7
DESCRIPTION:
STATUS:CONFIRMED
LAST-MODIFIED:20191022T030000
LOCATION:Cumberland Jr - Court 1\, 2674 Windemere Ave\, Cumberland\, BC V0R\, Canada
GEO:49.62114293423199;-125.03311143224335
END:VEVENT
BEGIN:VEVENT
UID:14994
DTSTAMP;TZID=America/Vancouver:20191028T180000
DTSTART;TZID=America/Vancouver:20191028T180000
DTEND;TZID=America/Vancouver:20191028T190000
SUMMARY:DodgeFathers 7 Just One 8
DESCRIPTION:
STATUS:CONFIRMED
LAST-MODIFIED:20191029T010000
LOCATION:Cumberland Jr - Court 1\, 2674 Windemere Ave\, Cumberland\, BC V0R\, Canada
GEO:49.62114293423199;-125.03311143224335
END:VEVENT
BEGIN:VEVENT
UID:15003
DTSTAMP;TZID=America/Vancouver:20191104T190000
DTSTART;TZID=America/Vancouver:20191104T190000
DTEND;TZID=America/Vancouver:20191104T200000
SUMMARY:Just One 3 The Human Targets 13
DESCRIPTION:
STATUS:CONFIRMED
LAST-MODIFIED:20191105T030000
LOCATION:Cumberland Jr - Court 2\, 2674 Windemere Ave\, Cumberland\, BC V0R\, Canada
GEO:49.62112036211578;-125.03315414550781
END:VEVENT
BEGIN:VEVENT
UID:15192
DTSTAMP;TZID=America/Vancouver:20191118T180000
DTSTART;TZID=America/Vancouver:20191118T180000
DTEND;TZID=America/Vancouver:20191118T190000
SUMMARY:Unicorns 8 Just One 9
DESCRIPTION:SF#6: Seeds 10 vs. 11
STATUS:CONFIRMED
LAST-MODIFIED:20191119T020000
LOCATION:Cumberland Jr - Court 2\, 2674 Windemere Ave\, Cumberland\, BC V0R\, Canada
GEO:49.62112036211578;-125.03315414550781
END:VEVENT
BEGIN:VEVENT
UID:15274
DTSTAMP;TZID=America/Vancouver:20191125T180000
DTSTART;TZID=America/Vancouver:20191125T180000
DTEND;TZID=America/Vancouver:20191125T190000
SUMMARY:Team Excellence 7 Just One 10
DESCRIPTION:9th Place: Winners SF#5 vs. SF#6
STATUS:CONFIRMED
LAST-MODIFIED:20191126T020000
LOCATION:Cumberland Jr - Court 2\, 2674 Windemere Ave\, Cumberland\, BC V0R\, Canada
GEO:49.62112036211578;-125.03315414550781
END:VEVENT
BEGIN:VEVENT
UID:15712
DTSTAMP;TZID=America/Vancouver:20200122T183000
DTSTART;TZID=America/Vancouver:20200122T183000
DTEND;TZID=America/Vancouver:20200122T193000
SUMMARY:Just One 0 Purple Cobras 10
DESCRIPTION:
STATUS:CONFIRMED
LAST-MODIFIED:20200123T023000
LOCATION:Cumberland Jr - Court 1\, 2674 Windemere Ave\, Cumberland\, BC V0R\, Canada
GEO:49.62114293423199;-125.03311143224335
END:VEVENT
BEGIN:VEVENT
UID:15716
DTSTAMP;TZID=America/Vancouver:20200129T183000
DTSTART;TZID=America/Vancouver:20200129T183000
DTEND;TZID=America/Vancouver:20200129T193000
SUMMARY:Just One 4 DodgeFathers 15
DESCRIPTION:
STATUS:CONFIRMED
LAST-MODIFIED:20200130T023000
LOCATION:Cumberland Jr - Court 2\, 2674 Windemere Ave\, Cumberland\, BC V0R\, Canada
GEO:49.62112036211578;-125.03315414550781
END:VEVENT
BEGIN:VEVENT
UID:15711
DTSTAMP;TZID=America/Vancouver:20200205T200000
DTSTART;TZID=America/Vancouver:20200205T200000
DTEND;TZID=America/Vancouver:20200205T210000
SUMMARY:Just One 9 Filthy Tacos 6
DESCRIPTION:*Game re-scheduled from Jan. 15 due to snow cancellation. 
STATUS:CONFIRMED
LAST-MODIFIED:20200204T182300
LOCATION:Cumberland Jr - Court 1\, 2674 Windemere Ave\, Cumberland\, BC V0R\, Canada
GEO:49.62114293423199;-125.03311143224335
END:VEVENT
BEGIN:VEVENT
UID:15910
DTSTAMP;TZID=America/Vancouver:20200212T183000
DTSTART;TZID=America/Vancouver:20200212T183000
DTEND;TZID=America/Vancouver:20200212T193000
SUMMARY:Just One 4 Piggy back Attack 11
DESCRIPTION:
STATUS:CONFIRMED
LAST-MODIFIED:20200213T164000
LOCATION:Cumberland Jr - Court 1\, 2674 Windemere Ave\, Cumberland\, BC V0R\, Canada
GEO:49.62114293423199;-125.03311143224335
END:VEVENT
BEGIN:VEVENT
UID:15915
DTSTAMP;TZID=America/Vancouver:20200219T193000
DTSTART;TZID=America/Vancouver:20200219T193000
DTEND;TZID=America/Vancouver:20200219T203000
SUMMARY:Just One 1 The Human Targets 11
DESCRIPTION:
STATUS:CONFIRMED
LAST-MODIFIED:20200220T033000
LOCATION:Cumberland Jr - Court 1\, 2674 Windemere Ave\, Cumberland\, BC V0R\, Canada
GEO:49.62114293423199;-125.03311143224335
END:VEVENT
BEGIN:VEVENT
UID:16191
DTSTAMP;TZID=America/Vancouver:20200226T193000
DTSTART;TZID=America/Vancouver:20200226T193000
DTEND;TZID=America/Vancouver:20200226T203000
SUMMARY:Purple Cobras 10 Just One 2
DESCRIPTION:QF#2: Seeds 2 vs. 5
STATUS:CONFIRMED
LAST-MODIFIED:20200227T033000
LOCATION:Cumberland Jr - Court 1\, 2674 Windemere Ave\, Cumberland\, BC V0R\, Canada
GEO:49.62114293423199;-125.03311143224335
END:VEVENT
BEGIN:VEVENT
UID:16246
DTSTAMP;TZID=America/Vancouver:20200304T183000
DTSTART;TZID=America/Vancouver:20200304T183000
DTEND;TZID=America/Vancouver:20200304T193000
SUMMARY:Filthy Tacos 9 Just One 10
DESCRIPTION:SF#3: Low Seed QF Losers
STATUS:CONFIRMED
LAST-MODIFIED:20200305T023000
LOCATION:Cumberland Jr - Court 2\, 2674 Windemere Ave\, Cumberland\, BC V0R\, Canada
GEO:49.62112036211578;-125.03315414550781
END:VEVENT
BEGIN:VEVENT
UID:16317
DTSTAMP;TZID=America/Vancouver:20200311T183000
DTSTART;TZID=America/Vancouver:20200311T183000
DTEND;TZID=America/Vancouver:20200311T193000
SUMMARY:The Human Targets 9 Just One 6
DESCRIPTION:3rd Place Game: Winner SF#3 vs. Loser SF#2
STATUS:CONFIRMED
LAST-MODIFIED:20200312T032700
LOCATION:Cumberland Jr - Court 2\, 2674 Windemere Ave\, Cumberland\, BC V0R\, Canada
GEO:49.62112036211578;-125.03315414550781
END:VEVENT
BEGIN:VEVENT
UID:19684
DTSTAMP;TZID=America/Vancouver:20201126T194000
DTSTART;TZID=America/Vancouver:20201126T194000
DTEND;TZID=America/Vancouver:20201126T204000
SUMMARY:Just One 5 five alive 6
DESCRIPTION:*Ensure all players have signed online waiver and read Return To Play Guidelines. **Teams may enter the gym at 7:35 p.m.
STATUS:CONFIRMED
LAST-MODIFIED:20201118T221900
LOCATION:19 Wing Gym - Gym Entrance Side\, 1575 Military Row\, Comox\, BC V9M 4H2\, Canada
GEO:49.71217159999999;-124.90964311163941
END:VEVENT
BEGIN:VEVENT
UID:32420
DTSTAMP;TZID=America/Vancouver:20230112T235900
DTSTART;TZID=America/Vancouver:20230112T235900
DTEND;TZID=America/Vancouver:20230112T235900
SUMMARY:Just One - BYE WEEK. NO GAME.
DESCRIPTION:*No scheduled game this week. 
STATUS:CONFIRMED
LAST-MODIFIED:20230113T075900
GEO:49.71217159999999;-124.90964311163941
END:VEVENT
BEGIN:VEVENT
UID:32421
DTSTAMP;TZID=America/Vancouver:20230119T180000
DTSTART;TZID=America/Vancouver:20230119T180000
DTEND;TZID=America/Vancouver:20230119T190000
SUMMARY:Mud Butts 6 Just One 5
DESCRIPTION:*Early teams please show up 10-15 minutes early to help set up, warm up and get ready to play. 
STATUS:CONFIRMED
LAST-MODIFIED:20230120T020000
LOCATION:19 Wing Gym - Gym Entrance Side\, 1575 Military Row\, Comox\, BC V9M 4H2\, Canada
GEO:49.71217159999999;-124.90964311163941
END:VEVENT
BEGIN:VEVENT
UID:32434
DTSTAMP;TZID=America/Vancouver:20230126T190000
DTSTART;TZID=America/Vancouver:20230126T190000
DTEND;TZID=America/Vancouver:20230126T200000
SUMMARY:Just One 2 Let&#8217\;s get Messi 5
DESCRIPTION:
STATUS:CONFIRMED
LAST-MODIFIED:20230127T030000
LOCATION:19 Wing Gym - Storage Side\, 1575 Military Row\, Comox\, BC V9M 4H2\, Canada
GEO:49.7121716;-124.90975040000001
END:VEVENT
BEGIN:VEVENT
UID:32445
DTSTAMP;TZID=America/Vancouver:20230202T200000
DTSTART;TZID=America/Vancouver:20230202T200000
DTEND;TZID=America/Vancouver:20230202T210000
SUMMARY:Toepunters 3 Just One 9
DESCRIPTION:
STATUS:CONFIRMED
LAST-MODIFIED:20230203T040000
LOCATION:19 Wing Gym - Gym Entrance Side\, 1575 Military Row\, Comox\, BC V9M 4H2\, Canada
GEO:49.71217159999999;-124.90964311163941
END:VEVENT
BEGIN:VEVENT
UID:32760
DTSTAMP;TZID=America/Vancouver:20230209T235900
DTSTART;TZID=America/Vancouver:20230209T235900
DTEND;TZID=America/Vancouver:20230209T235900
SUMMARY:Just One - BYE WEEK. NO GAME.
DESCRIPTION:*No Scheduled game this week.
STATUS:CONFIRMED
LAST-MODIFIED:20230210T075900
GEO:49.71217159999999;-124.90964311163941
END:VEVENT
BEGIN:VEVENT
UID:32761
DTSTAMP;TZID=America/Vancouver:20230216T180000
DTSTART;TZID=America/Vancouver:20230216T180000
DTEND;TZID=America/Vancouver:20230216T190000
SUMMARY:Beta Blockers FC 5 Just One 10
DESCRIPTION:
STATUS:CONFIRMED
LAST-MODIFIED:20230217T020000
LOCATION:19 Wing Gym - Gym Entrance Side\, 1575 Military Row\, Comox\, BC V9M 4H2\, Canada
GEO:49.71217159999999;-124.90964311163941
END:VEVENT
BEGIN:VEVENT
UID:32774
DTSTAMP;TZID=America/Vancouver:20230223T190000
DTSTART;TZID=America/Vancouver:20230223T190000
DTEND;TZID=America/Vancouver:20230223T200000
SUMMARY:Henry Salmon Real Estate Green Machine 7 Just One 6
DESCRIPTION:
STATUS:CONFIRMED
LAST-MODIFIED:20230224T030000
LOCATION:19 Wing Gym - Storage Side\, 1575 Military Row\, Comox\, BC V9M 4H2\, Canada
GEO:49.7121716;-124.90975040000001
END:VEVENT
BEGIN:VEVENT
UID:32785
DTSTAMP;TZID=America/Vancouver:20230309T200000
DTSTART;TZID=America/Vancouver:20230309T200000
DTEND;TZID=America/Vancouver:20230309T210000
SUMMARY:Just One 9 Injured Reserve 2
DESCRIPTION:
STATUS:CONFIRMED
LAST-MODIFIED:20230310T040000
LOCATION:19 Wing Gym - Gym Entrance Side\, 1575 Military Row\, Comox\, BC V9M 4H2\, Canada
GEO:49.71217159999999;-124.90964311163941
END:VEVENT
BEGIN:VEVENT
UID:33607
DTSTAMP;TZID=America/Vancouver:20230316T180000
DTSTART;TZID=America/Vancouver:20230316T180000
DTEND;TZID=America/Vancouver:20230316T185500
SUMMARY:Just One 10 Beta Blockers FC 3
DESCRIPTION:B Tier SF#3: Seeds 5 vs. 8
STATUS:CONFIRMED
LAST-MODIFIED:20230317T010000
LOCATION:19 Wing Gym - Gym Entrance Side\, 1575 Military Row\, Comox\, BC V9M 4H2\, Canada
GEO:49.71217159999999;-124.90964311163941
END:VEVENT
BEGIN:VEVENT
UID:33621
DTSTAMP;TZID=America/Vancouver:20230323T235900
DTSTART;TZID=America/Vancouver:20230323T235900
DTEND;TZID=America/Vancouver:20230323T235900
SUMMARY:Just One - BYE WEEK. NO GAME.
DESCRIPTION:*No scheduled game this week. 
STATUS:CONFIRMED
LAST-MODIFIED:20230324T065900
GEO:49.71217159999999;-124.90964311163941
END:VEVENT
BEGIN:VEVENT
UID:33888
DTSTAMP;TZID=America/Vancouver:20230330T180000
DTSTART;TZID=America/Vancouver:20230330T180000
DTEND;TZID=America/Vancouver:20230330T185500
SUMMARY:Just One 11 Toepunters 5
DESCRIPTION:B Tier 5th Place Game
STATUS:CONFIRMED
LAST-MODIFIED:20230331T010000
LOCATION:19 Wing Gym - Storage Side\, 1575 Military Row\, Comox\, BC V9M 4H2\, Canada
GEO:49.7121716;-124.90975040000001
END:VEVENT
END:VCALENDAR