BEGIN:VCALENDAR
VERSION:2.0
PRODID:-//SCVSSC//EN
CALSCALE:GREGORIAN
METHOD:PUBLISH
URL:https://comoxvalleysports.ca/calendar/id-hit-that-calendar-10/?feed=cvssc-calendar-ical
X-FROM-URL:https://comoxvalleysports.ca/calendar/id-hit-that-calendar-10/?feed=cvssc-calendar-ical
NAME:I&#8217;d Hit That Calendar
X-WR-CALNAME:I&#8217;d Hit That Calendar
DESCRIPTION:I&#8217;d Hit That Calendar
X-WR-CALDESC:I&#8217;d Hit That Calendar
REFRESH-INTERVAL;VALUE=DURATION:PT2M
X-PUBLISHED-TTL:PT2M
TZID:America/Vancouver
X-WR-TIMEZONE:America/Vancouver
BEGIN:VTIMEZONE
TZID:America/Vancouver
X-LIC-LOCATION:America/Vancouver
BEGIN:DAYLIGHT
TZOFFSETFROM:-0800
TZOFFSETTO:-0700
TZNAME:PDT
DTSTART:19700308T020000
RRULE:FREQ=YEARLY;BYMONTH=3;BYDAY=2SU
END:DAYLIGHT
BEGIN:STANDARD
TZOFFSETFROM:-0700
TZOFFSETTO:-0800
TZNAME:PST
DTSTART:19701101T020000
RRULE:FREQ=YEARLY;BYMONTH=11;BYDAY=1SU
END:STANDARD
END:VTIMEZONE
BEGIN:VEVENT
UID:40633
DTSTAMP;TZID=America/Vancouver:20240409T193000
DTSTART;TZID=America/Vancouver:20240409T193000
DTEND;TZID=America/Vancouver:20240409T201500
SUMMARY:Rotationally Challenged 2 I&#8217\;d Hit That 0
DESCRIPTION:
STATUS:CONFIRMED
LAST-MODIFIED:20240410T023000
LOCATION:Ecole au Coeur de L’Ile - Court 2\, 566 Linshart Rd\, Comox\, BC V9M 2K8\, Canada
GEO:49.6839056;-124.9287382
END:VEVENT
BEGIN:VEVENT
UID:40634
DTSTAMP;TZID=America/Vancouver:20240409T201500
DTSTART;TZID=America/Vancouver:20240409T201500
DTEND;TZID=America/Vancouver:20240409T210000
SUMMARY:Jagged Little Kill 1 I&#8217\;d Hit That 2
DESCRIPTION:*Please help clean up and put away gear at end of night in late slots. 
STATUS:CONFIRMED
LAST-MODIFIED:20240410T031500
LOCATION:Ecole au Coeur de L’Ile - Court 1\, 566 Linshart Rd\, Comox\, BC V9M 2K8\, Canada
GEO:49.6839056;-124.9287382
END:VEVENT
BEGIN:VEVENT
UID:40637
DTSTAMP;TZID=America/Vancouver:20240416T180000
DTSTART;TZID=America/Vancouver:20240416T180000
DTEND;TZID=America/Vancouver:20240416T184500
SUMMARY:Put Togethers 2 I&#8217\;d Hit That 0
DESCRIPTION:*Please arrive 10-15 minutes early to help set up and warm up in early slots. 
STATUS:CONFIRMED
LAST-MODIFIED:20240417T010000
LOCATION:19 Wing - Court 2\, 1575 Military Row\, Comox\, BC V9M 4H2\, Canada
GEO:49.71222638796791;-124.90959982642823
END:VEVENT
BEGIN:VEVENT
UID:40639
DTSTAMP;TZID=America/Vancouver:20240416T184500
DTSTART;TZID=America/Vancouver:20240416T184500
DTEND;TZID=America/Vancouver:20240416T193000
SUMMARY:Smash Squad 2 I&#8217\;d Hit That 1
DESCRIPTION:
STATUS:CONFIRMED
LAST-MODIFIED:20240417T014500
LOCATION:19 Wing - Court 1\, 1575 Military Row\, Comox\, BC V9M 4H2\, Canada
GEO:49.71223332552268;-124.90958909759217
END:VEVENT
BEGIN:VEVENT
UID:40661
DTSTAMP;TZID=America/Vancouver:20240423T193000
DTSTART;TZID=America/Vancouver:20240423T193000
DTEND;TZID=America/Vancouver:20240423T210000
SUMMARY:Calm Yo Tips 3 I&#8217\;d Hit That 1
DESCRIPTION:*Best-of-5; *Please help clean up and put away gear at end of night in late slots. 
STATUS:CONFIRMED
LAST-MODIFIED:20240424T023000
LOCATION:19 Wing - Court 3\, 1575 Military Row\, Comox\, BC V9M 4H2\, Canada
GEO:49.71223332552268;-124.9096105552643
END:VEVENT
BEGIN:VEVENT
UID:40679
DTSTAMP;TZID=America/Vancouver:20240430T180000
DTSTART;TZID=America/Vancouver:20240430T180000
DTEND;TZID=America/Vancouver:20240430T184500
SUMMARY:I&#8217\;d Hit That 0 Serv-ivors 2
DESCRIPTION:
STATUS:CONFIRMED
LAST-MODIFIED:20240501T010000
LOCATION:Ecole au Coeur de L’Ile - Court 2\, 566 Linshart Rd\, Comox\, BC V9M 2K8\, Canada
GEO:49.6839056;-124.9287382
END:VEVENT
BEGIN:VEVENT
UID:40681
DTSTAMP;TZID=America/Vancouver:20240430T184500
DTSTART;TZID=America/Vancouver:20240430T184500
DTEND;TZID=America/Vancouver:20240430T193000
SUMMARY:I&#8217\;d Hit That 0 Full Disclaimer: Armpits may smell 2
DESCRIPTION:
STATUS:CONFIRMED
LAST-MODIFIED:20240501T014500
LOCATION:Ecole au Coeur de L’Ile - Court 2\, 566 Linshart Rd\, Comox\, BC V9M 2K8\, Canada
GEO:49.6839056;-124.9287382
END:VEVENT
BEGIN:VEVENT
UID:40691
DTSTAMP;TZID=America/Vancouver:20240507T180000
DTSTART;TZID=America/Vancouver:20240507T180000
DTEND;TZID=America/Vancouver:20240507T184500
SUMMARY:I&#8217\;d Hit That 1 there is no rule preventing a dog from playing volleyball 2
DESCRIPTION:*Please arrive 10-15 minutes early to help set up and warm up in early slots. 
STATUS:CONFIRMED
LAST-MODIFIED:20240508T010000
LOCATION:19 Wing - Court 2\, 1575 Military Row\, Comox\, BC V9M 4H2\, Canada
GEO:49.71222638796791;-124.90959982642823
END:VEVENT
BEGIN:VEVENT
UID:40694
DTSTAMP;TZID=America/Vancouver:20240507T184500
DTSTART;TZID=America/Vancouver:20240507T184500
DTEND;TZID=America/Vancouver:20240507T193000
SUMMARY:I&#8217\;d Hit That 0 Hits &amp\; Giggles 2
DESCRIPTION:
STATUS:CONFIRMED
LAST-MODIFIED:20240508T014500
LOCATION:19 Wing - Court 2\, 1575 Military Row\, Comox\, BC V9M 4H2\, Canada
GEO:49.71222638796791;-124.90959982642823
END:VEVENT
BEGIN:VEVENT
UID:41318
DTSTAMP;TZID=America/Vancouver:20240514T193000
DTSTART;TZID=America/Vancouver:20240514T193000
DTEND;TZID=America/Vancouver:20240514T210000
SUMMARY:I&#8217\;d Hit That 0 Calm Yo Tips 3
DESCRIPTION:*Best-of-5, time permitting
STATUS:CONFIRMED
LAST-MODIFIED:20240515T023000
LOCATION:Ecole au Coeur de L’Ile - Court 1\, 566 Linshart Rd\, Comox\, BC V9M 2K8\, Canada
GEO:49.6839056;-124.9287382
END:VEVENT
BEGIN:VEVENT
UID:41388
DTSTAMP;TZID=America/Vancouver:20240521T180000
DTSTART;TZID=America/Vancouver:20240521T180000
DTEND;TZID=America/Vancouver:20240521T193000
SUMMARY:Jagged Little Kill 3 I&#8217\;d Hit That 1
DESCRIPTION:*B Tier SF#5: Seeds 9 vs. 10: Best-of-5
STATUS:CONFIRMED
LAST-MODIFIED:20240522T010000
LOCATION:Ecole au Coeur de L’Ile - Court 2\, 566 Linshart Rd\, Comox\, BC V9M 2K8\, Canada
GEO:49.6839056;-124.9287382
END:VEVENT
BEGIN:VEVENT
UID:41457
DTSTAMP;TZID=America/Vancouver:20240528T193000
DTSTART;TZID=America/Vancouver:20240528T193000
DTEND;TZID=America/Vancouver:20240528T210000
SUMMARY:I&#8217\;d Hit That 0 Hits &amp\; Giggles 3
DESCRIPTION:B Tier 9th Place: Best-of-5, time permitting. 
STATUS:CONFIRMED
LAST-MODIFIED:20240529T023000
LOCATION:Queneesh Elementary - Court 2\, 2345 Mission Rd\, Courtenay\, BC V9N 9H1\, Canada
GEO:49.7133517;-124.9737178
END:VEVENT
BEGIN:VEVENT
UID:41633
DTSTAMP;TZID=America/Vancouver:20240604T180000
DTSTART;TZID=America/Vancouver:20240604T180000
DTEND;TZID=America/Vancouver:20240604T193000
SUMMARY:Jagged Little Kill 2 I&#8217\;d Hit That 2
DESCRIPTION:Bonus B Tier Game
STATUS:CONFIRMED
LAST-MODIFIED:20240605T010000
LOCATION:Ecole au Coeur de L’Ile - Court 2\, 566 Linshart Rd\, Comox\, BC V9M 2K8\, Canada
GEO:49.6839056;-124.9287382
END:VEVENT
END:VCALENDAR