BEGIN:VCALENDAR
VERSION:2.0
PRODID:-//SCVSSC//EN
CALSCALE:GREGORIAN
METHOD:PUBLISH
URL:https://comoxvalleysports.ca/calendar/how-i-set-your-mother-calendar/?feed=cvssc-calendar-ical
X-FROM-URL:https://comoxvalleysports.ca/calendar/how-i-set-your-mother-calendar/?feed=cvssc-calendar-ical
NAME:How I Set Your Mother Calendar
X-WR-CALNAME:How I Set Your Mother Calendar
DESCRIPTION:How I Set Your Mother Calendar
X-WR-CALDESC:How I Set Your Mother Calendar
REFRESH-INTERVAL;VALUE=DURATION:PT2M
X-PUBLISHED-TTL:PT2M
TZID:America/Vancouver
X-WR-TIMEZONE:America/Vancouver
BEGIN:VTIMEZONE
TZID:America/Vancouver
X-LIC-LOCATION:America/Vancouver
BEGIN:DAYLIGHT
TZOFFSETFROM:-0800
TZOFFSETTO:-0700
TZNAME:PDT
DTSTART:19700308T020000
RRULE:FREQ=YEARLY;BYMONTH=3;BYDAY=2SU
END:DAYLIGHT
BEGIN:STANDARD
TZOFFSETFROM:-0700
TZOFFSETTO:-0800
TZNAME:PST
DTSTART:19701101T020000
RRULE:FREQ=YEARLY;BYMONTH=11;BYDAY=1SU
END:STANDARD
END:VTIMEZONE
BEGIN:VEVENT
UID:14797
DTSTAMP;TZID=America/Vancouver:20190925T200000
DTSTART;TZID=America/Vancouver:20190925T200000
DTEND;TZID=America/Vancouver:20190925T204500
SUMMARY:Old Hoes &#038\; Young Does 0 How I Set Your Mother 2
DESCRIPTION:
STATUS:CONFIRMED
LAST-MODIFIED:20190926T030000
LOCATION:Ecole au Coeur de L’Ile - Court 2\, 566 Linshart Rd\, Comox\, BC V9M 2K8\, Canada
GEO:49.6839056;-124.9287382
END:VEVENT
BEGIN:VEVENT
UID:14798
DTSTAMP;TZID=America/Vancouver:20190925T204500
DTSTART;TZID=America/Vancouver:20190925T204500
DTEND;TZID=America/Vancouver:20190925T213000
SUMMARY:Old Ass Cripples 0 How I Set Your Mother 2
DESCRIPTION:
STATUS:CONFIRMED
LAST-MODIFIED:20190926T034500
LOCATION:Ecole au Coeur de L’Ile - Court 1\, 566 Linshart Rd\, Comox\, BC V9M 2K8\, Canada
GEO:49.6839056;-124.9287382
END:VEVENT
BEGIN:VEVENT
UID:14896
DTSTAMP;TZID=America/Vancouver:20191002T203000
DTSTART;TZID=America/Vancouver:20191002T203000
DTEND;TZID=America/Vancouver:20191002T211500
SUMMARY:How I Set Your Mother 1 The Muggles 2
DESCRIPTION:
STATUS:CONFIRMED
LAST-MODIFIED:20191003T033000
LOCATION:19 Wing - Court 1\, 1575 Military Row\, Comox\, BC V9M 4H2\, Canada
GEO:49.71223332552268;-124.90958909759217
END:VEVENT
BEGIN:VEVENT
UID:14899
DTSTAMP;TZID=America/Vancouver:20191002T211500
DTSTART;TZID=America/Vancouver:20191002T211500
DTEND;TZID=America/Vancouver:20191002T220000
SUMMARY:How I Set Your Mother 0 Oddballers 2
DESCRIPTION:
STATUS:CONFIRMED
LAST-MODIFIED:20191003T041500
LOCATION:19 Wing - Court 1\, 1575 Military Row\, Comox\, BC V9M 4H2\, Canada
GEO:49.71223332552268;-124.90958909759217
END:VEVENT
BEGIN:VEVENT
UID:14911
DTSTAMP;TZID=America/Vancouver:20191009T190000
DTSTART;TZID=America/Vancouver:20191009T190000
DTEND;TZID=America/Vancouver:20191009T203000
SUMMARY:Animal kingdom 2 How I Set Your Mother 3
DESCRIPTION:Best-of-5
STATUS:CONFIRMED
LAST-MODIFIED:20191010T020000
LOCATION:19 Wing - Court 3\, 1575 Military Row\, Comox\, BC V9M 4H2\, Canada
GEO:49.71223332552268;-124.9096105552643
END:VEVENT
BEGIN:VEVENT
UID:14927
DTSTAMP;TZID=America/Vancouver:20191016T190000
DTSTART;TZID=America/Vancouver:20191016T190000
DTEND;TZID=America/Vancouver:20191016T194500
SUMMARY:How I Set Your Mother 2 Beta Blockers 1
DESCRIPTION:
STATUS:CONFIRMED
LAST-MODIFIED:20191017T020000
LOCATION:19 Wing - Court 1\, 1575 Military Row\, Comox\, BC V9M 4H2\, Canada
GEO:49.71223332552268;-124.90958909759217
END:VEVENT
BEGIN:VEVENT
UID:14930
DTSTAMP;TZID=America/Vancouver:20191016T194500
DTSTART;TZID=America/Vancouver:20191016T194500
DTEND;TZID=America/Vancouver:20191016T203000
SUMMARY:How I Set Your Mother 1 Paddles 1
DESCRIPTION:
STATUS:CONFIRMED
LAST-MODIFIED:20191017T024500
LOCATION:19 Wing - Court 1\, 1575 Military Row\, Comox\, BC V9M 4H2\, Canada
GEO:49.71223332552268;-124.90958909759217
END:VEVENT
BEGIN:VEVENT
UID:15112
DTSTAMP;TZID=America/Vancouver:20191023T183000
DTSTART;TZID=America/Vancouver:20191023T183000
DTEND;TZID=America/Vancouver:20191023T191500
SUMMARY:The Muggles 1 How I Set Your Mother 1
DESCRIPTION:
STATUS:CONFIRMED
LAST-MODIFIED:20191024T013000
LOCATION:Ecole au Coeur de L’Ile - Court 1\, 566 Linshart Rd\, Comox\, BC V9M 2K8\, Canada
GEO:49.6839056;-124.9287382
END:VEVENT
BEGIN:VEVENT
UID:15115
DTSTAMP;TZID=America/Vancouver:20191023T191500
DTSTART;TZID=America/Vancouver:20191023T191500
DTEND;TZID=America/Vancouver:20191023T200000
SUMMARY:Oddballers 0 How I Set Your Mother 2
DESCRIPTION:
STATUS:CONFIRMED
LAST-MODIFIED:20191024T021500
LOCATION:Ecole au Coeur de L’Ile - Court 2\, 566 Linshart Rd\, Comox\, BC V9M 2K8\, Canada
GEO:49.6839056;-124.9287382
END:VEVENT
BEGIN:VEVENT
UID:15145
DTSTAMP;TZID=America/Vancouver:20191030T203000
DTSTART;TZID=America/Vancouver:20191030T203000
DTEND;TZID=America/Vancouver:20191030T220000
SUMMARY:How I Set Your Mother 3 Beta Blockers 1
DESCRIPTION:A Tier QF#2: Seeds 2 vs. 7
STATUS:CONFIRMED
LAST-MODIFIED:20191031T033000
LOCATION:19 Wing - Court 3\, 1575 Military Row\, Comox\, BC V9M 4H2\, Canada
GEO:49.71223332552268;-124.9096105552643
END:VEVENT
BEGIN:VEVENT
UID:15174
DTSTAMP;TZID=America/Vancouver:20191106T201500
DTSTART;TZID=America/Vancouver:20191106T201500
DTEND;TZID=America/Vancouver:20191106T221500
SUMMARY:How I Set Your Mother 0 Paddles 3
DESCRIPTION:A Tier SF#2: Mid-Seed QF Winners
STATUS:CONFIRMED
LAST-MODIFIED:20191107T041500
LOCATION:19 Wing - Court 2\, 1575 Military Row\, Comox\, BC V9M 4H2\, Canada
GEO:49.71222638796791;-124.90959982642823
END:VEVENT
BEGIN:VEVENT
UID:15219
DTSTAMP;TZID=America/Vancouver:20191113T201500
DTSTART;TZID=America/Vancouver:20191113T201500
DTEND;TZID=America/Vancouver:20191113T221500
SUMMARY:The Muggles 3 How I Set Your Mother 1
DESCRIPTION:A Tier 3rd Place: Losers SF#1 vs. SF#2
STATUS:CONFIRMED
LAST-MODIFIED:20191114T041500
LOCATION:19 Wing - Court 3\, 1575 Military Row\, Comox\, BC V9M 4H2\, Canada
GEO:49.71223332552268;-124.9096105552643
END:VEVENT
BEGIN:VEVENT
UID:15791
DTSTAMP;TZID=America/Vancouver:20200122T201500
DTSTART;TZID=America/Vancouver:20200122T201500
DTEND;TZID=America/Vancouver:20200122T210000
SUMMARY:How I Set Your Mother 2 Net Flex 0
DESCRIPTION:*Game re-scheduled from Jan. 15 due to snow cancellation. 
STATUS:CONFIRMED
LAST-MODIFIED:20200115T221600
LOCATION:19 Wing - Court 2\, 1575 Military Row\, Comox\, BC V9M 4H2\, Canada
GEO:49.71222638796791;-124.90959982642823
END:VEVENT
BEGIN:VEVENT
UID:15794
DTSTAMP;TZID=America/Vancouver:20200122T210000
DTSTART;TZID=America/Vancouver:20200122T210000
DTEND;TZID=America/Vancouver:20200122T214500
SUMMARY:How I Set Your Mother 2 Animal kingdom 0
DESCRIPTION:*Game re-scheduled from Jan. 15 due to snow cancellation. 
STATUS:CONFIRMED
LAST-MODIFIED:20200115T221800
LOCATION:19 Wing - Court 2\, 1575 Military Row\, Comox\, BC V9M 4H2\, Canada
GEO:49.71222638796791;-124.90959982642823
END:VEVENT
BEGIN:VEVENT
UID:15933
DTSTAMP;TZID=America/Vancouver:20200129T201500
DTSTART;TZID=America/Vancouver:20200129T201500
DTEND;TZID=America/Vancouver:20200129T210000
SUMMARY:Net Ninjas 1 How I Set Your Mother 2
DESCRIPTION:
STATUS:CONFIRMED
LAST-MODIFIED:20200130T041500
LOCATION:19 Wing - Court 2\, 1575 Military Row\, Comox\, BC V9M 4H2\, Canada
GEO:49.71222638796791;-124.90959982642823
END:VEVENT
BEGIN:VEVENT
UID:15935
DTSTAMP;TZID=America/Vancouver:20200129T210000
DTSTART;TZID=America/Vancouver:20200129T210000
DTEND;TZID=America/Vancouver:20200129T214500
SUMMARY:Paddles 1 How I Set Your Mother 1
DESCRIPTION:
STATUS:CONFIRMED
LAST-MODIFIED:20200130T050000
LOCATION:19 Wing - Court 1\, 1575 Military Row\, Comox\, BC V9M 4H2\, Canada
GEO:49.71223332552268;-124.90958909759217
END:VEVENT
BEGIN:VEVENT
UID:15952
DTSTAMP;TZID=America/Vancouver:20200205T201500
DTSTART;TZID=America/Vancouver:20200205T201500
DTEND;TZID=America/Vancouver:20200205T214500
SUMMARY:The Muggles 3 How I Set Your Mother 2
DESCRIPTION:Best-of-5
STATUS:CONFIRMED
LAST-MODIFIED:20200206T041500
LOCATION:19 Wing - Court 3\, 1575 Military Row\, Comox\, BC V9M 4H2\, Canada
GEO:49.71223332552268;-124.9096105552643
END:VEVENT
BEGIN:VEVENT
UID:15970
DTSTAMP;TZID=America/Vancouver:20200212T201500
DTSTART;TZID=America/Vancouver:20200212T201500
DTEND;TZID=America/Vancouver:20200212T210000
SUMMARY:How I Set Your Mother 2 Old Ass Cripples 0
DESCRIPTION:
STATUS:CONFIRMED
LAST-MODIFIED:20200213T041500
LOCATION:19 Wing - Court 2\, 1575 Military Row\, Comox\, BC V9M 4H2\, Canada
GEO:49.71222638796791;-124.90959982642823
END:VEVENT
BEGIN:VEVENT
UID:15972
DTSTAMP;TZID=America/Vancouver:20200212T210000
DTSTART;TZID=America/Vancouver:20200212T210000
DTEND;TZID=America/Vancouver:20200212T214500
SUMMARY:How I Set Your Mother 2 Lastminuters 0
DESCRIPTION:
STATUS:CONFIRMED
LAST-MODIFIED:20200213T050000
LOCATION:19 Wing - Court 2\, 1575 Military Row\, Comox\, BC V9M 4H2\, Canada
GEO:49.71222638796791;-124.90959982642823
END:VEVENT
BEGIN:VEVENT
UID:16151
DTSTAMP;TZID=America/Vancouver:20200219T200000
DTSTART;TZID=America/Vancouver:20200219T200000
DTEND;TZID=America/Vancouver:20200219T204500
SUMMARY:How I Set Your Mother 2 Net Ninjas 1
DESCRIPTION:
STATUS:CONFIRMED
LAST-MODIFIED:20200220T040000
LOCATION:Ecole au Coeur de L’Ile - Court 1\, 566 Linshart Rd\, Comox\, BC V9M 2K8\, Canada
GEO:49.6839056;-124.9287382
END:VEVENT
BEGIN:VEVENT
UID:16153
DTSTAMP;TZID=America/Vancouver:20200219T204500
DTSTART;TZID=America/Vancouver:20200219T204500
DTEND;TZID=America/Vancouver:20200219T213000
SUMMARY:How I Set Your Mother 2 Old Ass Cripples 0
DESCRIPTION:
STATUS:CONFIRMED
LAST-MODIFIED:20200220T044500
LOCATION:Ecole au Coeur de L’Ile - Court 1\, 566 Linshart Rd\, Comox\, BC V9M 2K8\, Canada
GEO:49.6839056;-124.9287382
END:VEVENT
BEGIN:VEVENT
UID:16163
DTSTAMP;TZID=America/Vancouver:20200226T201500
DTSTART;TZID=America/Vancouver:20200226T201500
DTEND;TZID=America/Vancouver:20200226T210000
SUMMARY:The Muggles 2 How I Set Your Mother 1
DESCRIPTION:
STATUS:CONFIRMED
LAST-MODIFIED:20200227T041500
LOCATION:19 Wing - Court 1\, 1575 Military Row\, Comox\, BC V9M 4H2\, Canada
GEO:49.71223332552268;-124.90958909759217
END:VEVENT
BEGIN:VEVENT
UID:16166
DTSTAMP;TZID=America/Vancouver:20200226T210000
DTSTART;TZID=America/Vancouver:20200226T210000
DTEND;TZID=America/Vancouver:20200226T214500
SUMMARY:Lastminuters 0 How I Set Your Mother 2
DESCRIPTION:
STATUS:CONFIRMED
LAST-MODIFIED:20200227T050000
LOCATION:19 Wing - Court 2\, 1575 Military Row\, Comox\, BC V9M 4H2\, Canada
GEO:49.71222638796791;-124.90959982642823
END:VEVENT
BEGIN:VEVENT
UID:16244
DTSTAMP;TZID=America/Vancouver:20200304T201500
DTSTART;TZID=America/Vancouver:20200304T201500
DTEND;TZID=America/Vancouver:20200304T214500
SUMMARY:How I Set Your Mother 2 Paddles 3
DESCRIPTION:A Tier SF#2: Seeds 2 vs. 3
STATUS:CONFIRMED
LAST-MODIFIED:20200305T041500
LOCATION:19 Wing - Court 3\, 1575 Military Row\, Comox\, BC V9M 4H2\, Canada
GEO:49.71223332552268;-124.9096105552643
END:VEVENT
BEGIN:VEVENT
UID:16353
DTSTAMP;TZID=America/Vancouver:20200311T201500
DTSTART;TZID=America/Vancouver:20200311T201500
DTEND;TZID=America/Vancouver:20200311T214500
SUMMARY:The Muggles 3 How I Set Your Mother 1
DESCRIPTION:A Tier 3rd Place: Losers SF#1 vs. SF#2
STATUS:CONFIRMED
LAST-MODIFIED:20200312T031500
LOCATION:19 Wing - Court 3\, 1575 Military Row\, Comox\, BC V9M 4H2\, Canada
GEO:49.71223332552268;-124.9096105552643
END:VEVENT
BEGIN:VEVENT
UID:18819
DTSTAMP;TZID=America/Vancouver:20200923T183000
DTSTART;TZID=America/Vancouver:20200923T183000
DTEND;TZID=America/Vancouver:20200923T191500
SUMMARY:How I Set Your Mother 1 Net Ninjas 2
DESCRIPTION:*Ensure all players have signed online waiver and read Return To Play Guidelines. **Teams may enter the gym at 6:20 p.m.
STATUS:CONFIRMED
LAST-MODIFIED:20200924T013000
LOCATION:19 Wing - Court 2\, 1575 Military Row\, Comox\, BC V9M 4H2\, Canada
GEO:49.71222638796791;-124.90959982642823
END:VEVENT
BEGIN:VEVENT
UID:18822
DTSTAMP;TZID=America/Vancouver:20200923T191500
DTSTART;TZID=America/Vancouver:20200923T191500
DTEND;TZID=America/Vancouver:20200923T200000
SUMMARY:How I Set Your Mother 1 Old Ass Cripples 1
DESCRIPTION:
STATUS:CONFIRMED
LAST-MODIFIED:20200924T021500
LOCATION:19 Wing - Court 2\, 1575 Military Row\, Comox\, BC V9M 4H2\, Canada
GEO:49.71222638796791;-124.90959982642823
END:VEVENT
BEGIN:VEVENT
UID:18835
DTSTAMP;TZID=America/Vancouver:20200930T201000
DTSTART;TZID=America/Vancouver:20200930T201000
DTEND;TZID=America/Vancouver:20200930T214000
SUMMARY:Animal kingdom 3 How I Set Your Mother 2
DESCRIPTION:*Best-of-5
STATUS:CONFIRMED
LAST-MODIFIED:20201001T031000
LOCATION:19 Wing - Court 3\, 1575 Military Row\, Comox\, BC V9M 4H2\, Canada
GEO:49.71223332552268;-124.9096105552643
END:VEVENT
BEGIN:VEVENT
UID:18839
DTSTAMP;TZID=America/Vancouver:20201007T183000
DTSTART;TZID=America/Vancouver:20201007T183000
DTEND;TZID=America/Vancouver:20201007T191500
SUMMARY:Paddles 2 How I Set Your Mother 0
DESCRIPTION:
STATUS:CONFIRMED
LAST-MODIFIED:20201008T013000
LOCATION:19 Wing - Court 2\, 1575 Military Row\, Comox\, BC V9M 4H2\, Canada
GEO:49.71222638796791;-124.90959982642823
END:VEVENT
BEGIN:VEVENT
UID:18841
DTSTAMP;TZID=America/Vancouver:20201007T191500
DTSTART;TZID=America/Vancouver:20201007T191500
DTEND;TZID=America/Vancouver:20201007T200000
SUMMARY:The Muggles 2 How I Set Your Mother 0
DESCRIPTION:
STATUS:CONFIRMED
LAST-MODIFIED:20201008T021500
LOCATION:19 Wing - Court 1\, 1575 Military Row\, Comox\, BC V9M 4H2\, Canada
GEO:49.71223332552268;-124.90958909759217
END:VEVENT
BEGIN:VEVENT
UID:19125
DTSTAMP;TZID=America/Vancouver:20201014T201000
DTSTART;TZID=America/Vancouver:20201014T201000
DTEND;TZID=America/Vancouver:20201014T205500
SUMMARY:How I Set Your Mother 1 Net Ninjas 1
DESCRIPTION:
STATUS:CONFIRMED
LAST-MODIFIED:20201015T031000
LOCATION:19 Wing - Court 2\, 1575 Military Row\, Comox\, BC V9M 4H2\, Canada
GEO:49.71222638796791;-124.90959982642823
END:VEVENT
BEGIN:VEVENT
UID:19128
DTSTAMP;TZID=America/Vancouver:20201014T205500
DTSTART;TZID=America/Vancouver:20201014T205500
DTEND;TZID=America/Vancouver:20201014T214000
SUMMARY:How I Set Your Mother 1 Paddles 1
DESCRIPTION:
STATUS:CONFIRMED
LAST-MODIFIED:20201015T035500
LOCATION:19 Wing - Court 2\, 1575 Military Row\, Comox\, BC V9M 4H2\, Canada
GEO:49.71222638796791;-124.90959982642823
END:VEVENT
BEGIN:VEVENT
UID:19131
DTSTAMP;TZID=America/Vancouver:20201021T183000
DTSTART;TZID=America/Vancouver:20201021T183000
DTEND;TZID=America/Vancouver:20201021T200000
SUMMARY:The Muggles 3 How I Set Your Mother 0
DESCRIPTION:Best-of-5
STATUS:CONFIRMED
LAST-MODIFIED:20201022T013000
LOCATION:19 Wing - Court 3\, 1575 Military Row\, Comox\, BC V9M 4H2\, Canada
GEO:49.71223332552268;-124.9096105552643
END:VEVENT
BEGIN:VEVENT
UID:19145
DTSTAMP;TZID=America/Vancouver:20201028T201000
DTSTART;TZID=America/Vancouver:20201028T201000
DTEND;TZID=America/Vancouver:20201028T205500
SUMMARY:Animal kingdom 0 How I Set Your Mother 2
DESCRIPTION:
STATUS:CONFIRMED
LAST-MODIFIED:20201029T031000
LOCATION:19 Wing - Court 2\, 1575 Military Row\, Comox\, BC V9M 4H2\, Canada
GEO:49.71222638796791;-124.90959982642823
END:VEVENT
BEGIN:VEVENT
UID:19147
DTSTAMP;TZID=America/Vancouver:20201028T205500
DTSTART;TZID=America/Vancouver:20201028T205500
DTEND;TZID=America/Vancouver:20201028T214000
SUMMARY:Old Ass Cripples 1 How I Set Your Mother 1
DESCRIPTION:
STATUS:CONFIRMED
LAST-MODIFIED:20201029T035500
LOCATION:19 Wing - Court 1\, 1575 Military Row\, Comox\, BC V9M 4H2\, Canada
GEO:49.71223332552268;-124.90958909759217
END:VEVENT
BEGIN:VEVENT
UID:19294
DTSTAMP;TZID=America/Vancouver:20201104T183000
DTSTART;TZID=America/Vancouver:20201104T183000
DTEND;TZID=America/Vancouver:20201104T200000
SUMMARY:How I Set Your Mother 3 Animal kingdom 1
DESCRIPTION:A Tier SF#3: Seeds 5 vs. 6 *Best-of-5
STATUS:CONFIRMED
LAST-MODIFIED:20201105T023000
LOCATION:19 Wing - Court 2\, 1575 Military Row\, Comox\, BC V9M 4H2\, Canada
GEO:49.71222638796791;-124.90959982642823
END:VEVENT
BEGIN:VEVENT
UID:19429
DTSTAMP;TZID=America/Vancouver:20201118T201000
DTSTART;TZID=America/Vancouver:20201118T201000
DTEND;TZID=America/Vancouver:20201118T214000
SUMMARY:Net Ninjas 2 How I Set Your Mother 3
DESCRIPTION:A Tier 3rd Place - Best of 5
STATUS:CONFIRMED
LAST-MODIFIED:20201119T041000
LOCATION:19 Wing - Court 3\, 1575 Military Row\, Comox\, BC V9M 4H2\, Canada
GEO:49.71223332552268;-124.9096105552643
END:VEVENT
BEGIN:VEVENT
UID:19653
DTSTAMP;TZID=America/Vancouver:20201125T183000
DTSTART;TZID=America/Vancouver:20201125T183000
DTEND;TZID=America/Vancouver:20201125T191500
SUMMARY:How I Set Your Mother 2 Setting Duck Dynasty 1
DESCRIPTION:*Ensure all players have signed online waiver and read Return To Play Guidelines. **Teams may enter the gym at 6:20 p.m.
STATUS:CONFIRMED
LAST-MODIFIED:20201126T023000
LOCATION:19 Wing - Court 2\, 1575 Military Row\, Comox\, BC V9M 4H2\, Canada
GEO:49.71222638796791;-124.90959982642823
END:VEVENT
BEGIN:VEVENT
UID:19655
DTSTAMP;TZID=America/Vancouver:20201125T191500
DTSTART;TZID=America/Vancouver:20201125T191500
DTEND;TZID=America/Vancouver:20201125T200000
SUMMARY:How I Set Your Mother 2 Itsy Tipsy Spikers 0
DESCRIPTION:
STATUS:CONFIRMED
LAST-MODIFIED:20201126T031500
LOCATION:19 Wing - Court 2\, 1575 Military Row\, Comox\, BC V9M 4H2\, Canada
GEO:49.71222638796791;-124.90959982642823
END:VEVENT
BEGIN:VEVENT
UID:23597
DTSTAMP;TZID=America/Vancouver:20210922T183000
DTSTART;TZID=America/Vancouver:20210922T183000
DTEND;TZID=America/Vancouver:20210922T200000
SUMMARY:Animal kingdom 3 How I Set Your Mother 0
DESCRIPTION:*Best-of-5; *Proof of vaccination will be checked at the gym entry doors. Please have that and your piece of government-issued ID ready. Masks are required in the hallways and common areas, but not while playing.
STATUS:CONFIRMED
LAST-MODIFIED:20210923T013000
LOCATION:19 Wing - Court 3\, 1575 Military Row\, Comox\, BC V9M 4H2\, Canada
GEO:49.71223332552268;-124.9096105552643
END:VEVENT
BEGIN:VEVENT
UID:23615
DTSTAMP;TZID=America/Vancouver:20210929T200000
DTSTART;TZID=America/Vancouver:20210929T200000
DTEND;TZID=America/Vancouver:20210929T204500
SUMMARY:The Muggles 2 How I Set Your Mother 0
DESCRIPTION:*Proof of vaccination will be checked at the gym entry doors. Please have that and your piece of government-issued ID ready. Masks are required in the hallways and common areas, but not while playing.
STATUS:CONFIRMED
LAST-MODIFIED:20210930T030000
LOCATION:19 Wing - Court 2\, 1575 Military Row\, Comox\, BC V9M 4H2\, Canada
GEO:49.71222638796791;-124.90959982642823
END:VEVENT
BEGIN:VEVENT
UID:23617
DTSTAMP;TZID=America/Vancouver:20210929T204500
DTSTART;TZID=America/Vancouver:20210929T204500
DTEND;TZID=America/Vancouver:20210929T213000
SUMMARY:Setting Duck Dynasty 2 How I Set Your Mother 0
DESCRIPTION:
STATUS:CONFIRMED
LAST-MODIFIED:20210930T034500
LOCATION:19 Wing - Court 1\, 1575 Military Row\, Comox\, BC V9M 4H2\, Canada
GEO:49.71223332552268;-124.90958909759217
END:VEVENT
BEGIN:VEVENT
UID:23623
DTSTAMP;TZID=America/Vancouver:20211006T183000
DTSTART;TZID=America/Vancouver:20211006T183000
DTEND;TZID=America/Vancouver:20211006T191500
SUMMARY:Paddles 2 How I Set Your Mother 0
DESCRIPTION:*Captains are to direct any subs or players who have not had their vaccination status checked to the coordinator to be checked. 
STATUS:CONFIRMED
LAST-MODIFIED:20211007T013000
LOCATION:19 Wing - Court 1\, 1575 Military Row\, Comox\, BC V9M 4H2\, Canada
GEO:49.71223332552268;-124.90958909759217
END:VEVENT
BEGIN:VEVENT
UID:23627
DTSTAMP;TZID=America/Vancouver:20211006T191500
DTSTART;TZID=America/Vancouver:20211006T191500
DTEND;TZID=America/Vancouver:20211006T200000
SUMMARY:Demolition Raccoons 2 How I Set Your Mother 0
DESCRIPTION:
STATUS:CONFIRMED
LAST-MODIFIED:20211007T021500
LOCATION:19 Wing - Court 2\, 1575 Military Row\, Comox\, BC V9M 4H2\, Canada
GEO:49.71222638796791;-124.90959982642823
END:VEVENT
BEGIN:VEVENT
UID:24127
DTSTAMP;TZID=America/Vancouver:20211013T200000
DTSTART;TZID=America/Vancouver:20211013T200000
DTEND;TZID=America/Vancouver:20211013T213000
SUMMARY:Animal kingdom 2 How I Set Your Mother 2
DESCRIPTION:Best-of-5
STATUS:CONFIRMED
LAST-MODIFIED:20211014T030000
LOCATION:19 Wing - Court 3\, 1575 Military Row\, Comox\, BC V9M 4H2\, Canada
GEO:49.71223332552268;-124.9096105552643
END:VEVENT
BEGIN:VEVENT
UID:24135
DTSTAMP;TZID=America/Vancouver:20211020T183000
DTSTART;TZID=America/Vancouver:20211020T183000
DTEND;TZID=America/Vancouver:20211020T191500
SUMMARY:The Muggles 2 How I Set Your Mother 0
DESCRIPTION:
STATUS:CONFIRMED
LAST-MODIFIED:20211021T013000
LOCATION:19 Wing - Court 2\, 1575 Military Row\, Comox\, BC V9M 4H2\, Canada
GEO:49.71222638796791;-124.90959982642823
END:VEVENT
BEGIN:VEVENT
UID:24137
DTSTAMP;TZID=America/Vancouver:20211020T191500
DTSTART;TZID=America/Vancouver:20211020T191500
DTEND;TZID=America/Vancouver:20211020T200000
SUMMARY:Setting Duck Dynasty 2 How I Set Your Mother 0
DESCRIPTION:
STATUS:CONFIRMED
LAST-MODIFIED:20211021T021500
LOCATION:19 Wing - Court 1\, 1575 Military Row\, Comox\, BC V9M 4H2\, Canada
GEO:49.71223332552268;-124.90958909759217
END:VEVENT
BEGIN:VEVENT
UID:24148
DTSTAMP;TZID=America/Vancouver:20211027T200000
DTSTART;TZID=America/Vancouver:20211027T200000
DTEND;TZID=America/Vancouver:20211027T204500
SUMMARY:Paddles 2 How I Set Your Mother 0
DESCRIPTION:
STATUS:CONFIRMED
LAST-MODIFIED:20211028T030000
LOCATION:19 Wing - Court 1\, 1575 Military Row\, Comox\, BC V9M 4H2\, Canada
GEO:49.71223332552268;-124.90958909759217
END:VEVENT
BEGIN:VEVENT
UID:24152
DTSTAMP;TZID=America/Vancouver:20211027T204500
DTSTART;TZID=America/Vancouver:20211027T204500
DTEND;TZID=America/Vancouver:20211027T213000
SUMMARY:Demolition Raccoons 2 How I Set Your Mother 0
DESCRIPTION:
STATUS:CONFIRMED
LAST-MODIFIED:20211028T034500
LOCATION:19 Wing - Court 2\, 1575 Military Row\, Comox\, BC V9M 4H2\, Canada
GEO:49.71222638796791;-124.90959982642823
END:VEVENT
BEGIN:VEVENT
UID:24330
DTSTAMP;TZID=America/Vancouver:20211103T235900
DTSTART;TZID=America/Vancouver:20211103T235900
DTEND;TZID=America/Vancouver:20211103T235900
SUMMARY:How I Set Your Mother - BYE WEEK. NO GAME.
DESCRIPTION:*Bye week due to gym conflict. Another week has been added onto the season. 
STATUS:CONFIRMED
LAST-MODIFIED:20211104T065900
GEO:49.71222638796791;-124.90959982642823
END:VEVENT
BEGIN:VEVENT
UID:24407
DTSTAMP;TZID=America/Vancouver:20211103T235900
DTSTART;TZID=America/Vancouver:20211103T235900
DTEND;TZID=America/Vancouver:20211103T235900
SUMMARY:How I Set Your Mother - BYE WEEK. NO GAME.
DESCRIPTION:*No game due to gym time constraints. Playoffs start Nov. 10.
STATUS:CONFIRMED
LAST-MODIFIED:20211104T065900
GEO:49.71222638796791;-124.90959982642823
END:VEVENT
BEGIN:VEVENT
UID:24412
DTSTAMP;TZID=America/Vancouver:20211110T201500
DTSTART;TZID=America/Vancouver:20211110T201500
DTEND;TZID=America/Vancouver:20211110T220000
SUMMARY:Animal kingdom 1 How I Set Your Mother 3
DESCRIPTION:A Tier SF#3: Seeds 5 vs. 6; Time Slot has additional 15 minutes. Please do your best to start on time in case full slot is needed.
STATUS:CONFIRMED
LAST-MODIFIED:20211111T041500
LOCATION:19 Wing - Court 2\, 1575 Military Row\, Comox\, BC V9M 4H2\, Canada
GEO:49.71222638796791;-124.90959982642823
END:VEVENT
BEGIN:VEVENT
UID:24562
DTSTAMP;TZID=America/Vancouver:20211117T190000
DTSTART;TZID=America/Vancouver:20211117T190000
DTEND;TZID=America/Vancouver:20211117T210000
SUMMARY:Paddles 3 How I Set Your Mother 1
DESCRIPTION:3rd Place Game - A Tier; Best-of-5
STATUS:CONFIRMED
LAST-MODIFIED:20220729T171600
LOCATION:19 Wing - Court 3\, 1575 Military Row\, Comox\, BC V9M 4H2\, Canada
GEO:49.71223332552268;-124.9096105552643
END:VEVENT
BEGIN:VEVENT
UID:25472
DTSTAMP;TZID=America/Vancouver:20220126T193000
DTSTART;TZID=America/Vancouver:20220126T193000
DTEND;TZID=America/Vancouver:20220126T210000
SUMMARY:Paddles 3 How I Set Your Mother 0
DESCRIPTION:*Best-of-5; *At 19 Wing Gym, temporary restrictions include: (1) Wear masks at all times; (2) no access to change rooms/washrooms; (3) Enter building through side gym doors in alley at back of building. 
STATUS:CONFIRMED
LAST-MODIFIED:20220127T033000
LOCATION:19 Wing - Court 3\, 1575 Military Row\, Comox\, BC V9M 4H2\, Canada
GEO:49.71223332552268;-124.9096105552643
END:VEVENT
BEGIN:VEVENT
UID:25486
DTSTAMP;TZID=America/Vancouver:20220202T180000
DTSTART;TZID=America/Vancouver:20220202T180000
DTEND;TZID=America/Vancouver:20220202T184500
SUMMARY:How I Set Your Mother 0 Hit it Huddy 2
DESCRIPTION:*At 19 Wing Gym, temporary restrictions include: (1) Wear masks at all times; (2) no access to change rooms/washrooms; (3) Enter building through side gym doors in alley at back of building. 
STATUS:CONFIRMED
LAST-MODIFIED:20220203T020000
LOCATION:19 Wing - Court 2\, 1575 Military Row\, Comox\, BC V9M 4H2\, Canada
GEO:49.71222638796791;-124.90959982642823
END:VEVENT
BEGIN:VEVENT
UID:25489
DTSTAMP;TZID=America/Vancouver:20220202T184500
DTSTART;TZID=America/Vancouver:20220202T184500
DTEND;TZID=America/Vancouver:20220202T193000
SUMMARY:How I Set Your Mother 0 Demolition Raccoons 2
DESCRIPTION:
STATUS:CONFIRMED
LAST-MODIFIED:20220203T024500
LOCATION:19 Wing - Court 2\, 1575 Military Row\, Comox\, BC V9M 4H2\, Canada
GEO:49.71222638796791;-124.90959982642823
END:VEVENT
BEGIN:VEVENT
UID:25511
DTSTAMP;TZID=America/Vancouver:20220209T193000
DTSTART;TZID=America/Vancouver:20220209T193000
DTEND;TZID=America/Vancouver:20220209T201500
SUMMARY:Volleyball Pun 2 How I Set Your Mother 0
DESCRIPTION:
STATUS:CONFIRMED
LAST-MODIFIED:20220210T033000
LOCATION:19 Wing - Court 2\, 1575 Military Row\, Comox\, BC V9M 4H2\, Canada
GEO:49.71222638796791;-124.90959982642823
END:VEVENT
BEGIN:VEVENT
UID:25513
DTSTAMP;TZID=America/Vancouver:20220209T201500
DTSTART;TZID=America/Vancouver:20220209T201500
DTEND;TZID=America/Vancouver:20220209T210000
SUMMARY:The Short Ones 2 How I Set Your Mother 0
DESCRIPTION:
STATUS:CONFIRMED
LAST-MODIFIED:20220210T041500
LOCATION:19 Wing - Court 1\, 1575 Military Row\, Comox\, BC V9M 4H2\, Canada
GEO:49.71223332552268;-124.90958909759217
END:VEVENT
BEGIN:VEVENT
UID:25778
DTSTAMP;TZID=America/Vancouver:20220216T180000
DTSTART;TZID=America/Vancouver:20220216T180000
DTEND;TZID=America/Vancouver:20220216T193000
SUMMARY:Multiple Scoregasms 1 How I Set Your Mother 3
DESCRIPTION:Best-of-5
STATUS:CONFIRMED
LAST-MODIFIED:20220217T020000
LOCATION:19 Wing - Court 3\, 1575 Military Row\, Comox\, BC V9M 4H2\, Canada
GEO:49.71223332552268;-124.9096105552643
END:VEVENT
BEGIN:VEVENT
UID:25795
DTSTAMP;TZID=America/Vancouver:20220223T180000
DTSTART;TZID=America/Vancouver:20220223T180000
DTEND;TZID=America/Vancouver:20220223T184500
SUMMARY:Block &#038\; Awe 1 How I Set Your Mother 1
DESCRIPTION:
STATUS:CONFIRMED
LAST-MODIFIED:20220224T020000
LOCATION:19 Wing - Court 2\, 1575 Military Row\, Comox\, BC V9M 4H2\, Canada
GEO:49.71222638796791;-124.90959982642823
END:VEVENT
BEGIN:VEVENT
UID:25797
DTSTAMP;TZID=America/Vancouver:20220223T184500
DTSTART;TZID=America/Vancouver:20220223T184500
DTEND;TZID=America/Vancouver:20220223T193000
SUMMARY:Misfits 1 How I Set Your Mother 1
DESCRIPTION:
STATUS:CONFIRMED
LAST-MODIFIED:20220224T024500
LOCATION:19 Wing - Court 1\, 1575 Military Row\, Comox\, BC V9M 4H2\, Canada
GEO:49.71223332552268;-124.90958909759217
END:VEVENT
BEGIN:VEVENT
UID:25818
DTSTAMP;TZID=America/Vancouver:20220302T193000
DTSTART;TZID=America/Vancouver:20220302T193000
DTEND;TZID=America/Vancouver:20220302T201500
SUMMARY:How I Set Your Mother 0 The Muggles 2
DESCRIPTION:
STATUS:CONFIRMED
LAST-MODIFIED:20220303T033000
LOCATION:19 Wing - Court 2\, 1575 Military Row\, Comox\, BC V9M 4H2\, Canada
GEO:49.71222638796791;-124.90959982642823
END:VEVENT
BEGIN:VEVENT
UID:25821
DTSTAMP;TZID=America/Vancouver:20220302T201500
DTSTART;TZID=America/Vancouver:20220302T201500
DTEND;TZID=America/Vancouver:20220302T210000
SUMMARY:How I Set Your Mother 0 Setting Duck Dynasty 2
DESCRIPTION:
STATUS:CONFIRMED
LAST-MODIFIED:20220303T041500
LOCATION:19 Wing - Court 2\, 1575 Military Row\, Comox\, BC V9M 4H2\, Canada
GEO:49.71222638796791;-124.90959982642823
END:VEVENT
BEGIN:VEVENT
UID:26151
DTSTAMP;TZID=America/Vancouver:20220309T193000
DTSTART;TZID=America/Vancouver:20220309T193000
DTEND;TZID=America/Vancouver:20220309T210000
SUMMARY:Multiple Scoregasms 2 How I Set Your Mother 3
DESCRIPTION:*Best-of-5; A Tier SF#6 - Seeds 10v11
STATUS:CONFIRMED
LAST-MODIFIED:20220303T211400
LOCATION:19 Wing - Court 2\, 1575 Military Row\, Comox\, BC V9M 4H2\, Canada
GEO:49.71222638796791;-124.90959982642823
END:VEVENT
BEGIN:VEVENT
UID:26260
DTSTAMP;TZID=America/Vancouver:20220316T194500
DTSTART;TZID=America/Vancouver:20220316T194500
DTEND;TZID=America/Vancouver:20220316T213000
SUMMARY:Animal kingdom 3 How I Set Your Mother 2
DESCRIPTION:A Tier 9th Place; Best-of-5
STATUS:CONFIRMED
LAST-MODIFIED:20220317T024500
LOCATION:19 Wing - Court 2\, 1575 Military Row\, Comox\, BC V9M 4H2\, Canada
GEO:49.71222638796791;-124.90959982642823
END:VEVENT
END:VCALENDAR