BEGIN:VCALENDAR
VERSION:2.0
PRODID:-//SCVSSC//EN
CALSCALE:GREGORIAN
METHOD:PUBLISH
URL:https://comoxvalleysports.ca/calendar/hit-or-miss-calendar-2/?feed=cvssc-calendar-ical
X-FROM-URL:https://comoxvalleysports.ca/calendar/hit-or-miss-calendar-2/?feed=cvssc-calendar-ical
NAME:Hit or Miss Calendar
X-WR-CALNAME:Hit or Miss Calendar
DESCRIPTION:Hit or Miss Calendar
X-WR-CALDESC:Hit or Miss Calendar
REFRESH-INTERVAL;VALUE=DURATION:PT2M
X-PUBLISHED-TTL:PT2M
TZID:America/Vancouver
X-WR-TIMEZONE:America/Vancouver
BEGIN:VTIMEZONE
TZID:America/Vancouver
X-LIC-LOCATION:America/Vancouver
BEGIN:DAYLIGHT
TZOFFSETFROM:-0800
TZOFFSETTO:-0700
TZNAME:PDT
DTSTART:19700308T020000
RRULE:FREQ=YEARLY;BYMONTH=3;BYDAY=2SU
END:DAYLIGHT
BEGIN:STANDARD
TZOFFSETFROM:-0700
TZOFFSETTO:-0800
TZNAME:PST
DTSTART:19701101T020000
RRULE:FREQ=YEARLY;BYMONTH=11;BYDAY=1SU
END:STANDARD
END:VTIMEZONE
BEGIN:VEVENT
UID:50584
DTSTAMP;TZID=America/Vancouver:20250916T235900
DTSTART;TZID=America/Vancouver:20250916T235900
DTEND;TZID=America/Vancouver:20250916T235900
SUMMARY:Hit or Miss - BYE WEEK. NO GAME.
DESCRIPTION:*No opponent this week as we await SD71 booking process; Please show up 10-15 mins early for early games to help set up, warm up and start on time and help clean up at the end. Have a great season!
STATUS:CONFIRMED
LAST-MODIFIED:20250917T065900
END:VEVENT
BEGIN:VEVENT
UID:50721
DTSTAMP;TZID=America/Vancouver:20250923T235900
DTSTART;TZID=America/Vancouver:20250923T235900
DTEND;TZID=America/Vancouver:20250923T235900
SUMMARY:Hit or Miss - BYE WEEK. NO GAME.
DESCRIPTION:*No scheduled opponent this week. Still awaiting booking updates from SD71. Sorry for the delay.
STATUS:CONFIRMED
LAST-MODIFIED:20250924T065900
END:VEVENT
BEGIN:VEVENT
UID:50821
DTSTAMP;TZID=America/Vancouver:20251006T180000
DTSTART;TZID=America/Vancouver:20251006T180000
DTEND;TZID=America/Vancouver:20251006T184500
SUMMARY:Bumped Up Kicks 0 Hit or Miss 2
DESCRIPTION:*Season starts! Please show up 10-15 minutes early to help set up and warm up in the early slot. When in the late slot, please help put away. Have a great season!
STATUS:CONFIRMED
LAST-MODIFIED:20251007T010000
LOCATION:Lake Trail Community School - Court 1\, 805 Willemar Avenue\, Courtenay\, BC\, V9N 3L7
GEO:49.681546;-125.010521
END:VEVENT
BEGIN:VEVENT
UID:50824
DTSTAMP;TZID=America/Vancouver:20251006T184500
DTSTART;TZID=America/Vancouver:20251006T184500
DTEND;TZID=America/Vancouver:20251006T193000
SUMMARY:Practice Safe Sets 2 Hit or Miss 0
DESCRIPTION:
STATUS:CONFIRMED
LAST-MODIFIED:20251007T014500
LOCATION:Lake Trail Community School - Court 2\, 805 Willemar Avenue\, Courtenay\, BC\, V9N 3L7
GEO:49.681546;-125.010521
END:VEVENT
BEGIN:VEVENT
UID:50834
DTSTAMP;TZID=America/Vancouver:20251020T193000
DTSTART;TZID=America/Vancouver:20251020T193000
DTEND;TZID=America/Vancouver:20251020T201500
SUMMARY:Team Q 2 Hit or Miss 0
DESCRIPTION:
STATUS:CONFIRMED
LAST-MODIFIED:20251021T023000
LOCATION:Lake Trail Community School - Court 2\, 805 Willemar Avenue\, Courtenay\, BC\, V9N 3L7
GEO:49.681546;-125.010521
END:VEVENT
BEGIN:VEVENT
UID:50835
DTSTAMP;TZID=America/Vancouver:20251020T201500
DTSTART;TZID=America/Vancouver:20251020T201500
DTEND;TZID=America/Vancouver:20251020T210000
SUMMARY:Oops I Hit it Again 2 Hit or Miss 1
DESCRIPTION:
STATUS:CONFIRMED
LAST-MODIFIED:20251021T031500
LOCATION:Lake Trail Community School - Court 1\, 805 Willemar Avenue\, Courtenay\, BC\, V9N 3L7
GEO:49.681546;-125.010521
END:VEVENT
BEGIN:VEVENT
UID:50838
DTSTAMP;TZID=America/Vancouver:20251027T180000
DTSTART;TZID=America/Vancouver:20251027T180000
DTEND;TZID=America/Vancouver:20251027T184500
SUMMARY:Hit or Miss 1 Revenge of the Sets 2
DESCRIPTION:
STATUS:CONFIRMED
LAST-MODIFIED:20251028T010000
LOCATION:Lake Trail Community School - Court 2\, 805 Willemar Avenue\, Courtenay\, BC\, V9N 3L7
GEO:49.681546;-125.010521
END:VEVENT
BEGIN:VEVENT
UID:50840
DTSTAMP;TZID=America/Vancouver:20251027T184500
DTSTART;TZID=America/Vancouver:20251027T184500
DTEND;TZID=America/Vancouver:20251027T193000
SUMMARY:Hit or Miss 1 Team Media(ocre) 2
DESCRIPTION:
STATUS:CONFIRMED
LAST-MODIFIED:20251028T014500
LOCATION:Lake Trail Community School - Court 2\, 805 Willemar Avenue\, Courtenay\, BC\, V9N 3L7
GEO:49.681546;-125.010521
END:VEVENT
BEGIN:VEVENT
UID:50847
DTSTAMP;TZID=America/Vancouver:20251103T193000
DTSTART;TZID=America/Vancouver:20251103T193000
DTEND;TZID=America/Vancouver:20251103T210000
SUMMARY:Hit or Miss 1 Pandemonium 3
DESCRIPTION:*Best-of-5, time permitting
STATUS:CONFIRMED
LAST-MODIFIED:20251104T033000
LOCATION:Lake Trail Community School - Court 1\, 805 Willemar Avenue\, Courtenay\, BC\, V9N 3L7
GEO:49.681546;-125.010521
END:VEVENT
BEGIN:VEVENT
UID:50854
DTSTAMP;TZID=America/Vancouver:20251110T193000
DTSTART;TZID=America/Vancouver:20251110T193000
DTEND;TZID=America/Vancouver:20251110T201500
SUMMARY:Hit or Miss 2 Bumped Up Kicks 0
DESCRIPTION:
STATUS:CONFIRMED
LAST-MODIFIED:20251111T033000
LOCATION:Lake Trail Community School - Court 2\, 805 Willemar Avenue\, Courtenay\, BC\, V9N 3L7
GEO:49.681546;-125.010521
END:VEVENT
BEGIN:VEVENT
UID:50856
DTSTAMP;TZID=America/Vancouver:20251110T201500
DTSTART;TZID=America/Vancouver:20251110T201500
DTEND;TZID=America/Vancouver:20251110T210000
SUMMARY:Hit or Miss 2 Practice Safe Sets 0
DESCRIPTION:
STATUS:CONFIRMED
LAST-MODIFIED:20251111T041500
LOCATION:Lake Trail Community School - Court 2\, 805 Willemar Avenue\, Courtenay\, BC\, V9N 3L7
GEO:49.681546;-125.010521
END:VEVENT
BEGIN:VEVENT
UID:50858
DTSTAMP;TZID=America/Vancouver:20251117T180000
DTSTART;TZID=America/Vancouver:20251117T180000
DTEND;TZID=America/Vancouver:20251117T184500
SUMMARY:Hit or Miss 1 Team Q 2
DESCRIPTION:
STATUS:CONFIRMED
LAST-MODIFIED:20251118T020000
LOCATION:Lake Trail Community School - Court 2\, 805 Willemar Avenue\, Courtenay\, BC\, V9N 3L7
GEO:49.681546;-125.010521
END:VEVENT
BEGIN:VEVENT
UID:50860
DTSTAMP;TZID=America/Vancouver:20251117T184500
DTSTART;TZID=America/Vancouver:20251117T184500
DTEND;TZID=America/Vancouver:20251117T193000
SUMMARY:Hit or Miss 0 Oops I Hit it Again 2
DESCRIPTION:
STATUS:CONFIRMED
LAST-MODIFIED:20251118T024500
LOCATION:Lake Trail Community School - Court 2\, 805 Willemar Avenue\, Courtenay\, BC\, V9N 3L7
GEO:49.681546;-125.010521
END:VEVENT
BEGIN:VEVENT
UID:51503
DTSTAMP;TZID=America/Vancouver:20251124T193000
DTSTART;TZID=America/Vancouver:20251124T193000
DTEND;TZID=America/Vancouver:20251124T210000
SUMMARY:Hit or Miss 1 Practice Safe Sets 3
DESCRIPTION:SF#4: Seeds 6 vs. 7; best-of-5 (time permitting)
STATUS:CONFIRMED
LAST-MODIFIED:20251125T033000
LOCATION:Cumberland Jr - Court 2\, 2674 Windemere Ave\, Cumberland\, BC V0R\, Canada
GEO:49.62112036211578;-125.03315414550781
END:VEVENT
BEGIN:VEVENT
UID:51650
DTSTAMP;TZID=America/Vancouver:20251201T193000
DTSTART;TZID=America/Vancouver:20251201T193000
DTEND;TZID=America/Vancouver:20251201T210000
SUMMARY:Team Q 0 Hit or Miss 3
DESCRIPTION:*7th Place Game; Best-of-5 (time permitting). 
STATUS:CONFIRMED
LAST-MODIFIED:20251202T033000
LOCATION:Cumberland Jr - Court 2\, 2674 Windemere Ave\, Cumberland\, BC V0R\, Canada
GEO:49.62112036211578;-125.03315414550781
END:VEVENT
END:VCALENDAR