BEGIN:VCALENDAR
VERSION:2.0
PRODID:-//SCVSSC//EN
CALSCALE:GREGORIAN
METHOD:PUBLISH
URL:https://comoxvalleysports.ca/calendar/hit-and-miss-calendar-2/?feed=cvssc-calendar-ical
X-FROM-URL:https://comoxvalleysports.ca/calendar/hit-and-miss-calendar-2/?feed=cvssc-calendar-ical
NAME:Hit and Miss Calendar
X-WR-CALNAME:Hit and Miss Calendar
DESCRIPTION:Hit and Miss Calendar
X-WR-CALDESC:Hit and Miss Calendar
REFRESH-INTERVAL;VALUE=DURATION:PT2M
X-PUBLISHED-TTL:PT2M
TZID:America/Vancouver
X-WR-TIMEZONE:America/Vancouver
BEGIN:VTIMEZONE
TZID:America/Vancouver
X-LIC-LOCATION:America/Vancouver
BEGIN:DAYLIGHT
TZOFFSETFROM:-0800
TZOFFSETTO:-0700
TZNAME:PDT
DTSTART:19700308T020000
RRULE:FREQ=YEARLY;BYMONTH=3;BYDAY=2SU
END:DAYLIGHT
BEGIN:STANDARD
TZOFFSETFROM:-0700
TZOFFSETTO:-0800
TZNAME:PST
DTSTART:19701101T020000
RRULE:FREQ=YEARLY;BYMONTH=11;BYDAY=1SU
END:STANDARD
END:VTIMEZONE
BEGIN:VEVENT
UID:48589
DTSTAMP;TZID=America/Vancouver:20250616T173000
DTSTART;TZID=America/Vancouver:20250616T173000
DTEND;TZID=America/Vancouver:20250616T181000
SUMMARY:Block Party 2 Hit and Miss 0
DESCRIPTION:*Season starts! Please arrive 10-15 minutes early for your games each week to warm up, help set up in early slot and be ready to start on time. Have fun!
STATUS:CONFIRMED
LAST-MODIFIED:20250617T003000
LOCATION:Standard Park - Court 1 - Closest to the Road\, 1450-1530 Cliffe Ave\, Courtenay\, BC V9N\, Canada
GEO:49.686237141457475;-124.99255257642824
END:VEVENT
BEGIN:VEVENT
UID:48592
DTSTAMP;TZID=America/Vancouver:20250616T181000
DTSTART;TZID=America/Vancouver:20250616T181000
DTEND;TZID=America/Vancouver:20250616T185000
SUMMARY:Anything from the volley\, dear? 2 Hit and Miss 1
DESCRIPTION:
STATUS:CONFIRMED
LAST-MODIFIED:20250617T011000
LOCATION:Standard Park - Court 2 - Furthest From the Road\, 1450-1530 Cliffe Ave\, Courtenay\, BC V9N\, Canada
GEO:49.68625102398914;-124.99253111875612
END:VEVENT
BEGIN:VEVENT
UID:48609
DTSTAMP;TZID=America/Vancouver:20250623T201000
DTSTART;TZID=America/Vancouver:20250623T201000
DTEND;TZID=America/Vancouver:20250623T205000
SUMMARY:Hit and Miss 0 Sand Ninjas 2
DESCRIPTION:
STATUS:CONFIRMED
LAST-MODIFIED:20250624T031000
LOCATION:Standard Park - Court 1 - Closest to the Road\, 1450-1530 Cliffe Ave\, Courtenay\, BC V9N\, Canada
GEO:49.686237141457475;-124.99255257642824
END:VEVENT
BEGIN:VEVENT
UID:48611
DTSTAMP;TZID=America/Vancouver:20250623T205000
DTSTART;TZID=America/Vancouver:20250623T205000
DTEND;TZID=America/Vancouver:20250623T213000
SUMMARY:Hit and Miss 1 Sandy Balls 2
DESCRIPTION:
STATUS:CONFIRMED
LAST-MODIFIED:20250624T035000
LOCATION:Standard Park - Court 1 - Closest to the Road\, 1450-1530 Cliffe Ave\, Courtenay\, BC V9N\, Canada
GEO:49.686237141457475;-124.99255257642824
END:VEVENT
BEGIN:VEVENT
UID:48618
DTSTAMP;TZID=America/Vancouver:20250630T185000
DTSTART;TZID=America/Vancouver:20250630T185000
DTEND;TZID=America/Vancouver:20250630T193000
SUMMARY:Sets on the Beach 2 Hit and Miss 0
DESCRIPTION:
STATUS:CONFIRMED
LAST-MODIFIED:20250701T015000
LOCATION:Standard Park - Court 2 - Furthest From the Road\, 1450-1530 Cliffe Ave\, Courtenay\, BC V9N\, Canada
GEO:49.68625102398914;-124.99253111875612
END:VEVENT
BEGIN:VEVENT
UID:48619
DTSTAMP;TZID=America/Vancouver:20250630T193000
DTSTART;TZID=America/Vancouver:20250630T193000
DTEND;TZID=America/Vancouver:20250630T201000
SUMMARY:Sandstorm 2 Hit and Miss 0
DESCRIPTION:
STATUS:CONFIRMED
LAST-MODIFIED:20250701T023000
LOCATION:Standard Park - Court 1 - Closest to the Road\, 1450-1530 Cliffe Ave\, Courtenay\, BC V9N\, Canada
GEO:49.686237141457475;-124.99255257642824
END:VEVENT
BEGIN:VEVENT
UID:49062
DTSTAMP;TZID=America/Vancouver:20250707T201000
DTSTART;TZID=America/Vancouver:20250707T201000
DTEND;TZID=America/Vancouver:20250707T211500
SUMMARY:Hit and Miss 2 Deez Nets 3
DESCRIPTION:*Best-of-5, time permitting
STATUS:CONFIRMED
LAST-MODIFIED:20250708T031000
LOCATION:Standard Park - Court 1 - Closest to the Road\, 1450-1530 Cliffe Ave\, Courtenay\, BC V9N\, Canada
GEO:49.686237141457475;-124.99255257642824
END:VEVENT
BEGIN:VEVENT
UID:49064
DTSTAMP;TZID=America/Vancouver:20250714T173000
DTSTART;TZID=America/Vancouver:20250714T173000
DTEND;TZID=America/Vancouver:20250714T181000
SUMMARY:Hit and Miss 0 Holy Blockamole 2
DESCRIPTION:
STATUS:CONFIRMED
LAST-MODIFIED:20250715T003000
LOCATION:Standard Park - Court 1 - Closest to the Road\, 1450-1530 Cliffe Ave\, Courtenay\, BC V9N\, Canada
GEO:49.686237141457475;-124.99255257642824
END:VEVENT
BEGIN:VEVENT
UID:49066
DTSTAMP;TZID=America/Vancouver:20250714T181000
DTSTART;TZID=America/Vancouver:20250714T181000
DTEND;TZID=America/Vancouver:20250714T185000
SUMMARY:Hit and Miss 0 Notorious D.I.G. 2
DESCRIPTION:
STATUS:CONFIRMED
LAST-MODIFIED:20250715T011000
LOCATION:Standard Park - Court 1 - Closest to the Road\, 1450-1530 Cliffe Ave\, Courtenay\, BC V9N\, Canada
GEO:49.686237141457475;-124.99255257642824
END:VEVENT
BEGIN:VEVENT
UID:49078
DTSTAMP;TZID=America/Vancouver:20250721T185000
DTSTART;TZID=America/Vancouver:20250721T185000
DTEND;TZID=America/Vancouver:20250721T193000
SUMMARY:Bad Beaches 1 Hit and Miss 2
DESCRIPTION:
STATUS:CONFIRMED
LAST-MODIFIED:20250722T015000
LOCATION:Standard Park - Court 1 - Closest to the Road\, 1450-1530 Cliffe Ave\, Courtenay\, BC V9N\, Canada
GEO:49.686237141457475;-124.99255257642824
END:VEVENT
BEGIN:VEVENT
UID:49081
DTSTAMP;TZID=America/Vancouver:20250721T193000
DTSTART;TZID=America/Vancouver:20250721T193000
DTEND;TZID=America/Vancouver:20250721T201000
SUMMARY:Sun setters 2 Hit and Miss 0
DESCRIPTION:
STATUS:CONFIRMED
LAST-MODIFIED:20250722T023000
LOCATION:Standard Park - Court 2 - Furthest From the Road\, 1450-1530 Cliffe Ave\, Courtenay\, BC V9N\, Canada
GEO:49.68625102398914;-124.99253111875612
END:VEVENT
BEGIN:VEVENT
UID:49268
DTSTAMP;TZID=America/Vancouver:20250728T195000
DTSTART;TZID=America/Vancouver:20250728T195000
DTEND;TZID=America/Vancouver:20250728T210000
SUMMARY:Sets on the Beach 3 Hit and Miss 0
DESCRIPTION:SF#5: Seeds 9 vs. 12; best-of-5 (time permitting)
STATUS:CONFIRMED
LAST-MODIFIED:20250729T025000
LOCATION:Standard Park - Court 1 - Closest to the Road\, 1450-1530 Cliffe Ave\, Courtenay\, BC V9N\, Canada
GEO:49.686237141457475;-124.99255257642824
END:VEVENT
BEGIN:VEVENT
UID:49318
DTSTAMP;TZID=America/Vancouver:20250811T173000
DTSTART;TZID=America/Vancouver:20250811T173000
DTEND;TZID=America/Vancouver:20250811T184000
SUMMARY:Bad Beaches 2 Hit and Miss 2
DESCRIPTION:11th Place Game; best-of-5 (time permitting)
STATUS:CONFIRMED
LAST-MODIFIED:20250812T003000
LOCATION:Standard Park - Court 2 - Furthest From the Road\, 1450-1530 Cliffe Ave\, Courtenay\, BC V9N\, Canada
GEO:49.68625102398914;-124.99253111875612
END:VEVENT
END:VCALENDAR