BEGIN:VCALENDAR
VERSION:2.0
PRODID:-//SCVSSC//EN
CALSCALE:GREGORIAN
METHOD:PUBLISH
URL:https://comoxvalleysports.ca/calendar/fear-the-deer-calendar/?feed=cvssc-calendar-ical
X-FROM-URL:https://comoxvalleysports.ca/calendar/fear-the-deer-calendar/?feed=cvssc-calendar-ical
NAME:Fear the Deer Calendar
X-WR-CALNAME:Fear the Deer Calendar
DESCRIPTION:Fear the Deer Calendar
X-WR-CALDESC:Fear the Deer Calendar
REFRESH-INTERVAL;VALUE=DURATION:PT2M
X-PUBLISHED-TTL:PT2M
TZID:America/Vancouver
X-WR-TIMEZONE:America/Vancouver
BEGIN:VTIMEZONE
TZID:America/Vancouver
X-LIC-LOCATION:America/Vancouver
BEGIN:DAYLIGHT
TZOFFSETFROM:-0800
TZOFFSETTO:-0700
TZNAME:PDT
DTSTART:19700308T020000
RRULE:FREQ=YEARLY;BYMONTH=3;BYDAY=2SU
END:DAYLIGHT
BEGIN:STANDARD
TZOFFSETFROM:-0700
TZOFFSETTO:-0800
TZNAME:PST
DTSTART:19701101T020000
RRULE:FREQ=YEARLY;BYMONTH=11;BYDAY=1SU
END:STANDARD
END:VTIMEZONE
BEGIN:VEVENT
UID:14824
DTSTAMP;TZID=America/Vancouver:20190927T190000
DTSTART;TZID=America/Vancouver:20190927T190000
DTEND;TZID=America/Vancouver:20190927T200000
SUMMARY:Fear the Deer 40 Raining 3s 46
DESCRIPTION:
STATUS:CONFIRMED
LAST-MODIFIED:20190928T020000
LOCATION:19 Wing Gym - Gym Entrance Side\, 1575 Military Row\, Comox\, BC V9M 4H2\, Canada
GEO:49.71217159999999;-124.90964311163941
END:VEVENT
BEGIN:VEVENT
UID:14830
DTSTAMP;TZID=America/Vancouver:20191004T200000
DTSTART;TZID=America/Vancouver:20191004T200000
DTEND;TZID=America/Vancouver:20191004T210000
SUMMARY:Fear the Deer 30 Raiders 47
DESCRIPTION:
STATUS:CONFIRMED
LAST-MODIFIED:20191005T030000
LOCATION:19 Wing Gym - Gym Entrance Side\, 1575 Military Row\, Comox\, BC V9M 4H2\, Canada
GEO:49.71217159999999;-124.90964311163941
END:VEVENT
BEGIN:VEVENT
UID:14833
DTSTAMP;TZID=America/Vancouver:20191011T190000
DTSTART;TZID=America/Vancouver:20191011T190000
DTEND;TZID=America/Vancouver:20191011T200000
SUMMARY:Fear the Deer 55 Rimming Me Softly 79
DESCRIPTION:
STATUS:CONFIRMED
LAST-MODIFIED:20191012T020000
LOCATION:19 Wing Gym - Storage Side\, 1575 Military Row\, Comox\, BC V9M 4H2\, Canada
GEO:49.7121716;-124.90975040000001
END:VEVENT
BEGIN:VEVENT
UID:15068
DTSTAMP;TZID=America/Vancouver:20191018T200000
DTSTART;TZID=America/Vancouver:20191018T200000
DTEND;TZID=America/Vancouver:20191018T210000
SUMMARY:That 70s team 60 Fear the Deer 59
DESCRIPTION:
STATUS:CONFIRMED
LAST-MODIFIED:20191105T000200
LOCATION:19 Wing Gym - Storage Side\, 1575 Military Row\, Comox\, BC V9M 4H2\, Canada
GEO:49.7121716;-124.90975040000001
END:VEVENT
BEGIN:VEVENT
UID:15070
DTSTAMP;TZID=America/Vancouver:20191025T190000
DTSTART;TZID=America/Vancouver:20191025T190000
DTEND;TZID=America/Vancouver:20191025T200000
SUMMARY:The 3 &amp\; Ds 73 Fear the Deer 46
DESCRIPTION:
STATUS:CONFIRMED
LAST-MODIFIED:20191105T000200
LOCATION:19 Wing Gym - Storage Side\, 1575 Military Row\, Comox\, BC V9M 4H2\, Canada
GEO:49.7121716;-124.90975040000001
END:VEVENT
BEGIN:VEVENT
UID:15075
DTSTAMP;TZID=America/Vancouver:20191101T200000
DTSTART;TZID=America/Vancouver:20191101T200000
DTEND;TZID=America/Vancouver:20191101T210000
SUMMARY:Tropics 70 Fear the Deer 65
DESCRIPTION:
STATUS:CONFIRMED
LAST-MODIFIED:20191105T000300
LOCATION:19 Wing Gym - Gym Entrance Side\, 1575 Military Row\, Comox\, BC V9M 4H2\, Canada
GEO:49.71217159999999;-124.90964311163941
END:VEVENT
BEGIN:VEVENT
UID:15185
DTSTAMP;TZID=America/Vancouver:20191108T200000
DTSTART;TZID=America/Vancouver:20191108T200000
DTEND;TZID=America/Vancouver:20191108T205500
SUMMARY:Tropics 75 Fear the Deer 81
DESCRIPTION:SF#3: Seeds 5 vs. 8
STATUS:CONFIRMED
LAST-MODIFIED:20191109T040000
LOCATION:19 Wing Gym - Storage Side\, 1575 Military Row\, Comox\, BC V9M 4H2\, Canada
GEO:49.7121716;-124.90975040000001
END:VEVENT
BEGIN:VEVENT
UID:15240
DTSTAMP;TZID=America/Vancouver:20191115T190000
DTSTART;TZID=America/Vancouver:20191115T190000
DTEND;TZID=America/Vancouver:20191115T195500
SUMMARY:Holy Shot! 58 Fear the Deer 79
DESCRIPTION:5th Place: Winners SF#3 vs. SF#4
STATUS:CONFIRMED
LAST-MODIFIED:20191116T030000
LOCATION:19 Wing Gym - Gym Entrance Side\, 1575 Military Row\, Comox\, BC V9M 4H2\, Canada
GEO:49.71217159999999;-124.90964311163941
END:VEVENT
BEGIN:VEVENT
UID:15801
DTSTAMP;TZID=America/Vancouver:20200117T190000
DTSTART;TZID=America/Vancouver:20200117T190000
DTEND;TZID=America/Vancouver:20200117T200000
SUMMARY:Royston Rockets 59 Fear the Deer 56
DESCRIPTION:
STATUS:CONFIRMED
LAST-MODIFIED:20200118T030000
LOCATION:19 Wing Gym - Storage Side\, 1575 Military Row\, Comox\, BC V9M 4H2\, Canada
GEO:49.7121716;-124.90975040000001
END:VEVENT
BEGIN:VEVENT
UID:15852
DTSTAMP;TZID=America/Vancouver:20200124T235900
DTSTART;TZID=America/Vancouver:20200124T235900
DTEND;TZID=America/Vancouver:20200124T235900
SUMMARY:Fear the Deer - BYE WEEK. NO GAME.
DESCRIPTION:
STATUS:CONFIRMED
LAST-MODIFIED:20200125T075900
GEO:49.7121716;-124.90975040000001
END:VEVENT
BEGIN:VEVENT
UID:15859
DTSTAMP;TZID=America/Vancouver:20200131T200000
DTSTART;TZID=America/Vancouver:20200131T200000
DTEND;TZID=America/Vancouver:20200131T210000
SUMMARY:The big L 50 Fear the Deer 59
DESCRIPTION:
STATUS:CONFIRMED
LAST-MODIFIED:20200304T191200
LOCATION:19 Wing Gym - Gym Entrance Side\, 1575 Military Row\, Comox\, BC V9M 4H2\, Canada
GEO:49.71217159999999;-124.90964311163941
END:VEVENT
BEGIN:VEVENT
UID:15865
DTSTAMP;TZID=America/Vancouver:20200207T200000
DTSTART;TZID=America/Vancouver:20200207T200000
DTEND;TZID=America/Vancouver:20200207T210000
SUMMARY:Tune Squad 64 Fear the Deer 47
DESCRIPTION:
STATUS:CONFIRMED
LAST-MODIFIED:20200215T023200
LOCATION:19 Wing Gym - Storage Side\, 1575 Military Row\, Comox\, BC V9M 4H2\, Canada
GEO:49.7121716;-124.90975040000001
END:VEVENT
BEGIN:VEVENT
UID:15869
DTSTAMP;TZID=America/Vancouver:20200214T200000
DTSTART;TZID=America/Vancouver:20200214T200000
DTEND;TZID=America/Vancouver:20200214T210000
SUMMARY:Fear the Deer 61 The 3 &amp\; Ds 63
DESCRIPTION:
STATUS:CONFIRMED
LAST-MODIFIED:20200215T040000
LOCATION:19 Wing Gym - Gym Entrance Side\, 1575 Military Row\, Comox\, BC V9M 4H2\, Canada
GEO:49.71217159999999;-124.90964311163941
END:VEVENT
BEGIN:VEVENT
UID:15874
DTSTAMP;TZID=America/Vancouver:20200221T190000
DTSTART;TZID=America/Vancouver:20200221T190000
DTEND;TZID=America/Vancouver:20200221T200000
SUMMARY:FRIDAY CLUB&#8211\;PHENOM 82 Fear the Deer 70
DESCRIPTION:
STATUS:CONFIRMED
LAST-MODIFIED:20200222T030000
LOCATION:19 Wing Gym - Storage Side\, 1575 Military Row\, Comox\, BC V9M 4H2\, Canada
GEO:49.7121716;-124.90975040000001
END:VEVENT
BEGIN:VEVENT
UID:15879
DTSTAMP;TZID=America/Vancouver:20200228T190000
DTSTART;TZID=America/Vancouver:20200228T190000
DTEND;TZID=America/Vancouver:20200228T200000
SUMMARY:Tropics 73 Fear the Deer 72
DESCRIPTION:
STATUS:CONFIRMED
LAST-MODIFIED:20200229T030000
LOCATION:19 Wing Gym - Storage Side\, 1575 Military Row\, Comox\, BC V9M 4H2\, Canada
GEO:49.7121716;-124.90975040000001
END:VEVENT
BEGIN:VEVENT
UID:16295
DTSTAMP;TZID=America/Vancouver:20200306T210000
DTSTART;TZID=America/Vancouver:20200306T210000
DTEND;TZID=America/Vancouver:20200306T215500
SUMMARY:Fear the Deer 81 Tropics 73
DESCRIPTION:SF#5: Seed 9 vs. Loser SF#3
STATUS:CONFIRMED
LAST-MODIFIED:20200307T160400
LOCATION:19 Wing Gym - Gym Entrance Side\, 1575 Military Row\, Comox\, BC V9M 4H2\, Canada
GEO:49.71217159999999;-124.90964311163941
END:VEVENT
BEGIN:VEVENT
UID:16374
DTSTAMP;TZID=America/Vancouver:20200313T200000
DTSTART;TZID=America/Vancouver:20200313T200000
DTEND;TZID=America/Vancouver:20200313T205500
SUMMARY:Fear the Deer 57 The big L 52
DESCRIPTION:7th Place Game: Fear the Deer vs. Winner SF#4 (Winner of Tropics and Big L stays for double-header)
STATUS:CONFIRMED
LAST-MODIFIED:20200315T031200
LOCATION:19 Wing Gym - Gym Entrance Side\, 1575 Military Row\, Comox\, BC V9M 4H2\, Canada
GEO:49.71217159999999;-124.90964311163941
END:VEVENT
END:VCALENDAR