BEGIN:VCALENDAR
VERSION:2.0
PRODID:-//SCVSSC//EN
CALSCALE:GREGORIAN
METHOD:PUBLISH
URL:https://comoxvalleysports.ca/calendar/empire-spikes-back-calendar-8/?feed=cvssc-calendar-ical
X-FROM-URL:https://comoxvalleysports.ca/calendar/empire-spikes-back-calendar-8/?feed=cvssc-calendar-ical
NAME:Empire Spikes Back Calendar
X-WR-CALNAME:Empire Spikes Back Calendar
DESCRIPTION:Empire Spikes Back Calendar
X-WR-CALDESC:Empire Spikes Back Calendar
REFRESH-INTERVAL;VALUE=DURATION:PT2M
X-PUBLISHED-TTL:PT2M
TZID:America/Vancouver
X-WR-TIMEZONE:America/Vancouver
BEGIN:VTIMEZONE
TZID:America/Vancouver
X-LIC-LOCATION:America/Vancouver
BEGIN:DAYLIGHT
TZOFFSETFROM:-0800
TZOFFSETTO:-0700
TZNAME:PDT
DTSTART:19700308T020000
RRULE:FREQ=YEARLY;BYMONTH=3;BYDAY=2SU
END:DAYLIGHT
BEGIN:STANDARD
TZOFFSETFROM:-0700
TZOFFSETTO:-0800
TZNAME:PST
DTSTART:19701101T020000
RRULE:FREQ=YEARLY;BYMONTH=11;BYDAY=1SU
END:STANDARD
END:VTIMEZONE
BEGIN:VEVENT
UID:48664
DTSTAMP;TZID=America/Vancouver:20250618T173000
DTSTART;TZID=America/Vancouver:20250618T173000
DTEND;TZID=America/Vancouver:20250618T181000
SUMMARY:Sandstorm 0 Empire Spikes Back 2
DESCRIPTION:*Season starts! Please arrive 10-15 minutes early for your games each week to warm up, help set up in early slot and be ready to start on time. Have fun!
STATUS:CONFIRMED
LAST-MODIFIED:20250619T003000
LOCATION:Standard Park - Court 2 - Furthest From the Road\, 1450-1530 Cliffe Ave\, Courtenay\, BC V9N\, Canada
GEO:49.68625102398914;-124.99253111875612
END:VEVENT
BEGIN:VEVENT
UID:48665
DTSTAMP;TZID=America/Vancouver:20250618T181000
DTSTART;TZID=America/Vancouver:20250618T181000
DTEND;TZID=America/Vancouver:20250618T185000
SUMMARY:Hit-Faced 0 Empire Spikes Back 2
DESCRIPTION:
STATUS:CONFIRMED
LAST-MODIFIED:20250619T011000
LOCATION:Standard Park - Court 1 - Closest to the Road\, 1450-1530 Cliffe Ave\, Courtenay\, BC V9N\, Canada
GEO:49.686237141457475;-124.99255257642824
END:VEVENT
BEGIN:VEVENT
UID:48684
DTSTAMP;TZID=America/Vancouver:20250625T201500
DTSTART;TZID=America/Vancouver:20250625T201500
DTEND;TZID=America/Vancouver:20250625T205500
SUMMARY:Empire Spikes Back 0 Toni’s Tigers 3.0 2
DESCRIPTION:
STATUS:CONFIRMED
LAST-MODIFIED:20250626T031500
LOCATION:Standard Park - Court 2 - Furthest From the Road\, 1450-1530 Cliffe Ave\, Courtenay\, BC V9N\, Canada
GEO:49.68625102398914;-124.99253111875612
END:VEVENT
BEGIN:VEVENT
UID:48686
DTSTAMP;TZID=America/Vancouver:20250625T205000
DTSTART;TZID=America/Vancouver:20250625T205000
DTEND;TZID=America/Vancouver:20250625T213000
SUMMARY:Empire Spikes Back 2 Hard Blocks Life 0
DESCRIPTION:
STATUS:CONFIRMED
LAST-MODIFIED:20250626T035000
LOCATION:Standard Park - Court 2 - Furthest From the Road\, 1450-1530 Cliffe Ave\, Courtenay\, BC V9N\, Canada
GEO:49.68625102398914;-124.99253111875612
END:VEVENT
BEGIN:VEVENT
UID:48691
DTSTAMP;TZID=America/Vancouver:20250702T185000
DTSTART;TZID=America/Vancouver:20250702T185000
DTEND;TZID=America/Vancouver:20250702T193000
SUMMARY:Gold Diggers 2 Empire Spikes Back 0
DESCRIPTION:
STATUS:CONFIRMED
LAST-MODIFIED:20250703T015000
LOCATION:Standard Park - Court 1 - Closest to the Road\, 1450-1530 Cliffe Ave\, Courtenay\, BC V9N\, Canada
GEO:49.686237141457475;-124.99255257642824
END:VEVENT
BEGIN:VEVENT
UID:48694
DTSTAMP;TZID=America/Vancouver:20250702T193000
DTSTART;TZID=America/Vancouver:20250702T193000
DTEND;TZID=America/Vancouver:20250702T201000
SUMMARY:Crack Attack 0 Empire Spikes Back 2
DESCRIPTION:
STATUS:CONFIRMED
LAST-MODIFIED:20250703T023000
LOCATION:Standard Park - Court 2 - Furthest From the Road\, 1450-1530 Cliffe Ave\, Courtenay\, BC V9N\, Canada
GEO:49.68625102398914;-124.99253111875612
END:VEVENT
BEGIN:VEVENT
UID:49093
DTSTAMP;TZID=America/Vancouver:20250709T201000
DTSTART;TZID=America/Vancouver:20250709T201000
DTEND;TZID=America/Vancouver:20250709T211500
SUMMARY:Ball Busters 1 Empire Spikes Back 3
DESCRIPTION:*Best-of-5, time permitting
STATUS:CONFIRMED
LAST-MODIFIED:20250710T031000
LOCATION:Standard Park - Court 1 - Closest to the Road\, 1450-1530 Cliffe Ave\, Courtenay\, BC V9N\, Canada
GEO:49.686237141457475;-124.99255257642824
END:VEVENT
BEGIN:VEVENT
UID:49096
DTSTAMP;TZID=America/Vancouver:20250716T173000
DTSTART;TZID=America/Vancouver:20250716T173000
DTEND;TZID=America/Vancouver:20250716T181000
SUMMARY:Empire Spikes Back 1 Smackers 1
DESCRIPTION:
STATUS:CONFIRMED
LAST-MODIFIED:20250717T003000
LOCATION:Standard Park - Court 2 - Furthest From the Road\, 1450-1530 Cliffe Ave\, Courtenay\, BC V9N\, Canada
GEO:49.68625102398914;-124.99253111875612
END:VEVENT
BEGIN:VEVENT
UID:49098
DTSTAMP;TZID=America/Vancouver:20250716T181000
DTSTART;TZID=America/Vancouver:20250716T181000
DTEND;TZID=America/Vancouver:20250716T185000
SUMMARY:Empire Spikes Back 2 Big dig lovers 0
DESCRIPTION:
STATUS:CONFIRMED
LAST-MODIFIED:20250717T011000
LOCATION:Standard Park - Court 2 - Furthest From the Road\, 1450-1530 Cliffe Ave\, Courtenay\, BC V9N\, Canada
GEO:49.68625102398914;-124.99253111875612
END:VEVENT
BEGIN:VEVENT
UID:49110
DTSTAMP;TZID=America/Vancouver:20250723T185000
DTSTART;TZID=America/Vancouver:20250723T185000
DTEND;TZID=America/Vancouver:20250723T193000
SUMMARY:Spicy Rolls 0 Empire Spikes Back 2
DESCRIPTION:
STATUS:CONFIRMED
LAST-MODIFIED:20250724T015000
LOCATION:Standard Park - Court 2 - Furthest From the Road\, 1450-1530 Cliffe Ave\, Courtenay\, BC V9N\, Canada
GEO:49.68625102398914;-124.99253111875612
END:VEVENT
BEGIN:VEVENT
UID:49111
DTSTAMP;TZID=America/Vancouver:20250723T193000
DTSTART;TZID=America/Vancouver:20250723T193000
DTEND;TZID=America/Vancouver:20250723T201000
SUMMARY:Sets on the Beach 0 Empire Spikes Back 2
DESCRIPTION:
STATUS:CONFIRMED
LAST-MODIFIED:20250724T023000
LOCATION:Standard Park - Court 1 - Closest to the Road\, 1450-1530 Cliffe Ave\, Courtenay\, BC V9N\, Canada
GEO:49.686237141457475;-124.99255257642824
END:VEVENT
BEGIN:VEVENT
UID:49282
DTSTAMP;TZID=America/Vancouver:20250730T173000
DTSTART;TZID=America/Vancouver:20250730T173000
DTEND;TZID=America/Vancouver:20250730T184000
SUMMARY:Gold Diggers 1 Empire Spikes Back 2
DESCRIPTION:SF#2: Seeds 2 vs. 3; best-of-5 (time permitting)
STATUS:CONFIRMED
LAST-MODIFIED:20250731T003000
LOCATION:Standard Park - Court 2 - Furthest From the Road\, 1450-1530 Cliffe Ave\, Courtenay\, BC V9N\, Canada
GEO:49.68625102398914;-124.99253111875612
END:VEVENT
BEGIN:VEVENT
UID:49342
DTSTAMP;TZID=America/Vancouver:20250813T184000
DTSTART;TZID=America/Vancouver:20250813T184000
DTEND;TZID=America/Vancouver:20250813T195000
SUMMARY:Toni’s Tigers 3.0 3 Empire Spikes Back 1
DESCRIPTION:1st Place Game; best-of-5 (time permitting) *Game moved to Aug. 13 due to thunderstorm warnings. 
STATUS:CONFIRMED
LAST-MODIFIED:20250806T232400
LOCATION:Standard Park - Court 1 - Closest to the Road\, 1450-1530 Cliffe Ave\, Courtenay\, BC V9N\, Canada
GEO:49.686237141457475;-124.99255257642824
END:VEVENT
BEGIN:VEVENT
UID:52328
DTSTAMP;TZID=America/Vancouver:20260106T185000
DTSTART;TZID=America/Vancouver:20260106T185000
DTEND;TZID=America/Vancouver:20260106T193000
SUMMARY:Empire Spikes Back 2 there is no rule preventing a dog from playing volleyball 0
DESCRIPTION:
STATUS:CONFIRMED
LAST-MODIFIED:20260107T025000
LOCATION:Ecole au Coeur de L’Ile - Court 2\, 566 Linshart Rd\, Comox\, BC V9M 2K8\, Canada
GEO:49.6839056;-124.9287382
END:VEVENT
BEGIN:VEVENT
UID:52330
DTSTAMP;TZID=America/Vancouver:20260106T193000
DTSTART;TZID=America/Vancouver:20260106T193000
DTEND;TZID=America/Vancouver:20260106T201000
SUMMARY:Empire Spikes Back 2 Blockness Monsters 0
DESCRIPTION:
STATUS:CONFIRMED
LAST-MODIFIED:20260107T033000
LOCATION:Ecole au Coeur de L’Ile - Court 2\, 566 Linshart Rd\, Comox\, BC V9M 2K8\, Canada
GEO:49.6839056;-124.9287382
END:VEVENT
BEGIN:VEVENT
UID:52356
DTSTAMP;TZID=America/Vancouver:20260113T173000
DTSTART;TZID=America/Vancouver:20260113T173000
DTEND;TZID=America/Vancouver:20260113T181000
SUMMARY:Empire Spikes Back 2 Can you dig it? 1
DESCRIPTION:
STATUS:CONFIRMED
LAST-MODIFIED:20260114T013000
LOCATION:Ecole au Coeur de L’Ile - Court 2\, 566 Linshart Rd\, Comox\, BC V9M 2K8\, Canada
GEO:49.6839056;-124.9287382
END:VEVENT
BEGIN:VEVENT
UID:52358
DTSTAMP;TZID=America/Vancouver:20260113T181000
DTSTART;TZID=America/Vancouver:20260113T181000
DTEND;TZID=America/Vancouver:20260113T185000
SUMMARY:Empire Spikes Back 0 Holy Blockamole 2
DESCRIPTION:
STATUS:CONFIRMED
LAST-MODIFIED:20260114T021000
LOCATION:Ecole au Coeur de L’Ile - Court 2\, 566 Linshart Rd\, Comox\, BC V9M 2K8\, Canada
GEO:49.6839056;-124.9287382
END:VEVENT
BEGIN:VEVENT
UID:52683
DTSTAMP;TZID=America/Vancouver:20260120T185000
DTSTART;TZID=America/Vancouver:20260120T185000
DTEND;TZID=America/Vancouver:20260120T193000
SUMMARY:Empire Spikes Back 2 Hits &amp\; Giggles 0
DESCRIPTION:
STATUS:CONFIRMED
LAST-MODIFIED:20260121T025000
LOCATION:Ecole au Coeur de L’Ile - Court 2\, 566 Linshart Rd\, Comox\, BC V9M 2K8\, Canada
GEO:49.6839056;-124.9287382
END:VEVENT
BEGIN:VEVENT
UID:52685
DTSTAMP;TZID=America/Vancouver:20260120T193000
DTSTART;TZID=America/Vancouver:20260120T193000
DTEND;TZID=America/Vancouver:20260120T201000
SUMMARY:Empire Spikes Back 2 Big Dig Energy 0
DESCRIPTION:
STATUS:CONFIRMED
LAST-MODIFIED:20260121T033000
LOCATION:Ecole au Coeur de L’Ile - Court 2\, 566 Linshart Rd\, Comox\, BC V9M 2K8\, Canada
GEO:49.6839056;-124.9287382
END:VEVENT
BEGIN:VEVENT
UID:52715
DTSTAMP;TZID=America/Vancouver:20260127T185000
DTSTART;TZID=America/Vancouver:20260127T185000
DTEND;TZID=America/Vancouver:20260127T193000
SUMMARY:Empire Spikes Back 2 Dig Dawgs 0
DESCRIPTION:
STATUS:CONFIRMED
LAST-MODIFIED:20260128T025000
LOCATION:Ecole au Coeur de L’Ile - Court 2\, 566 Linshart Rd\, Comox\, BC V9M 2K8\, Canada
GEO:49.6839056;-124.9287382
END:VEVENT
BEGIN:VEVENT
UID:52717
DTSTAMP;TZID=America/Vancouver:20260127T193000
DTSTART;TZID=America/Vancouver:20260127T193000
DTEND;TZID=America/Vancouver:20260127T201000
SUMMARY:Empire Spikes Back 1 Brazilian National Volleyball Team 1
DESCRIPTION:
STATUS:CONFIRMED
LAST-MODIFIED:20260128T033000
LOCATION:Ecole au Coeur de L’Ile - Court 2\, 566 Linshart Rd\, Comox\, BC V9M 2K8\, Canada
GEO:49.6839056;-124.9287382
END:VEVENT
BEGIN:VEVENT
UID:52743
DTSTAMP;TZID=America/Vancouver:20260203T173000
DTSTART;TZID=America/Vancouver:20260203T173000
DTEND;TZID=America/Vancouver:20260203T181000
SUMMARY:Empire Spikes Back 2 Put Togethers 0
DESCRIPTION:
STATUS:CONFIRMED
LAST-MODIFIED:20260204T013000
LOCATION:Ecole au Coeur de L’Ile - Court 2\, 566 Linshart Rd\, Comox\, BC V9M 2K8\, Canada
GEO:49.6839056;-124.9287382
END:VEVENT
BEGIN:VEVENT
UID:52745
DTSTAMP;TZID=America/Vancouver:20260203T181000
DTSTART;TZID=America/Vancouver:20260203T181000
DTEND;TZID=America/Vancouver:20260203T185000
SUMMARY:Empire Spikes Back 2 I&#8217\;d hit that\, harder then last time 0
DESCRIPTION:
STATUS:CONFIRMED
LAST-MODIFIED:20260204T021000
LOCATION:Ecole au Coeur de L’Ile - Court 2\, 566 Linshart Rd\, Comox\, BC V9M 2K8\, Canada
GEO:49.6839056;-124.9287382
END:VEVENT
BEGIN:VEVENT
UID:52795
DTSTAMP;TZID=America/Vancouver:20260210T235900
DTSTART;TZID=America/Vancouver:20260210T235900
DTEND;TZID=America/Vancouver:20260210T235900
SUMMARY:Empire Spikes Back - BYE WEEK. NO GAME.
DESCRIPTION:*Bye week. No scheduled opponent this week. 
STATUS:CONFIRMED
LAST-MODIFIED:20260211T075900
GEO:49.6839056;-124.9287382
END:VEVENT
BEGIN:VEVENT
UID:52843
DTSTAMP;TZID=America/Vancouver:20260217T201000
DTSTART;TZID=America/Vancouver:20260217T201000
DTEND;TZID=America/Vancouver:20260217T205000
SUMMARY:Empire Spikes Back 2 First Come\, First Serve 1
DESCRIPTION:
STATUS:CONFIRMED
LAST-MODIFIED:20260218T041000
LOCATION:Ecole au Coeur de L’Ile - Court 2\, 566 Linshart Rd\, Comox\, BC V9M 2K8\, Canada
GEO:49.6839056;-124.9287382
END:VEVENT
BEGIN:VEVENT
UID:52845
DTSTAMP;TZID=America/Vancouver:20260217T205000
DTSTART;TZID=America/Vancouver:20260217T205000
DTEND;TZID=America/Vancouver:20260217T213000
SUMMARY:Empire Spikes Back 2 Almost Fight Club 0
DESCRIPTION:
STATUS:CONFIRMED
LAST-MODIFIED:20260218T045000
LOCATION:Ecole au Coeur de L’Ile - Court 2\, 566 Linshart Rd\, Comox\, BC V9M 2K8\, Canada
GEO:49.6839056;-124.9287382
END:VEVENT
BEGIN:VEVENT
UID:52823
DTSTAMP;TZID=America/Vancouver:20260224T235900
DTSTART;TZID=America/Vancouver:20260224T235900
DTEND;TZID=America/Vancouver:20260224T235900
SUMMARY:Empire Spikes Back - BYE WEEK. NO GAME.
DESCRIPTION:*No scheduled game. One of school gyms unavailable. 
STATUS:CONFIRMED
LAST-MODIFIED:20260225T075900
GEO:49.6839056;-124.9287382
END:VEVENT
BEGIN:VEVENT
UID:53258
DTSTAMP;TZID=America/Vancouver:20260303T180000
DTSTART;TZID=America/Vancouver:20260303T180000
DTEND;TZID=America/Vancouver:20260303T193000
SUMMARY:Empire Spikes Back 1 Put Togethers 3
DESCRIPTION:B+ Tier SF#2: Seeds 2 vs. 3; best-of-5 (time permitting)
STATUS:CONFIRMED
LAST-MODIFIED:20260304T020000
LOCATION:Aspen Court 2\, 2250 Bolt Ave\, Comox\, BC V9M 4E7\, Canada
GEO:49.6850049;-124.94600100000002
END:VEVENT
BEGIN:VEVENT
UID:53406
DTSTAMP;TZID=America/Vancouver:20260310T235900
DTSTART;TZID=America/Vancouver:20260310T235900
DTEND;TZID=America/Vancouver:20260310T235900
SUMMARY:Empire Spikes Back - BYE WEEK. NO GAME.
DESCRIPTION:*No scheduled game this week, as Aspen now unavailable. Wrap up March 17. 
STATUS:CONFIRMED
LAST-MODIFIED:20260311T065900
GEO:49.6850049;-124.94600100000002
END:VEVENT
BEGIN:VEVENT
UID:53410
DTSTAMP;TZID=America/Vancouver:20260317T193000
DTSTART;TZID=America/Vancouver:20260317T193000
DTEND;TZID=America/Vancouver:20260317T210000
SUMMARY:Almost Fight Club 3 Empire Spikes Back 2
DESCRIPTION:B+ Tier 3rd Place Game, Best-of-5 (time permitting)
STATUS:CONFIRMED
LAST-MODIFIED:20260318T023000
LOCATION:Ecole au Coeur de L’Ile - Court 2\, 566 Linshart Rd\, Comox\, BC V9M 2K8\, Canada
GEO:49.6839056;-124.9287382
END:VEVENT
BEGIN:VEVENT
UID:54251
DTSTAMP;TZID=America/Vancouver:20260408T201000
DTSTART;TZID=America/Vancouver:20260408T201000
DTEND;TZID=America/Vancouver:20260408T205000
SUMMARY:Dial-Up Defense 0 Empire Spikes Back 2
DESCRIPTION:*Please only use hallways to access the gym/washrooms and note the school requests no spectators (children only if necessary and must be monitored).
STATUS:CONFIRMED
LAST-MODIFIED:20260409T031000
LOCATION:Ecole au Coeur de L’Ile - Court 2\, 566 Linshart Rd\, Comox\, BC V9M 2K8\, Canada
GEO:49.6839056;-124.9287382
END:VEVENT
BEGIN:VEVENT
UID:54252
DTSTAMP;TZID=America/Vancouver:20260408T205000
DTSTART;TZID=America/Vancouver:20260408T205000
DTEND;TZID=America/Vancouver:20260408T213000
SUMMARY:Counter-Spike 0 Empire Spikes Back 2
DESCRIPTION:
STATUS:CONFIRMED
LAST-MODIFIED:20260409T035000
LOCATION:Ecole au Coeur de L’Ile - Court 1\, 566 Linshart Rd\, Comox\, BC V9M 2K8\, Canada
GEO:49.6839056;-124.9287382
END:VEVENT
BEGIN:VEVENT
UID:54554
DTSTAMP;TZID=America/Vancouver:20260415T180000
DTSTART;TZID=America/Vancouver:20260415T180000
DTEND;TZID=America/Vancouver:20260415T184500
SUMMARY:Old Spikes 0 Empire Spikes Back 2
DESCRIPTION:
STATUS:CONFIRMED
LAST-MODIFIED:20260416T010000
LOCATION:Cumberland Jr - Court 2\, 2674 Windemere Ave\, Cumberland\, BC V0R\, Canada
GEO:49.62112036211578;-125.03315414550781
END:VEVENT
BEGIN:VEVENT
UID:54555
DTSTAMP;TZID=America/Vancouver:20260415T184500
DTSTART;TZID=America/Vancouver:20260415T184500
DTEND;TZID=America/Vancouver:20260415T193000
SUMMARY:NiceBalls 0 Empire Spikes Back 2
DESCRIPTION:
STATUS:CONFIRMED
LAST-MODIFIED:20260416T014500
LOCATION:Cumberland Jr - Court 1\, 2674 Windemere Ave\, Cumberland\, BC V0R\, Canada
GEO:49.62114293423199;-125.03311143224335
END:VEVENT
BEGIN:VEVENT
UID:54449
DTSTAMP;TZID=America/Vancouver:20260422T235900
DTSTART;TZID=America/Vancouver:20260422T235900
DTEND;TZID=America/Vancouver:20260422T235900
SUMMARY:Empire Spikes Back - BYE WEEK. NO GAME.
DESCRIPTION:*Bye week; No scheduled opponent (french school gym unavailable)
STATUS:CONFIRMED
LAST-MODIFIED:20260423T065900
GEO:49.62114293423199;-125.03311143224335
END:VEVENT
BEGIN:VEVENT
UID:54457
DTSTAMP;TZID=America/Vancouver:20260429T183000
DTSTART;TZID=America/Vancouver:20260429T183000
DTEND;TZID=America/Vancouver:20260429T191500
SUMMARY:Empire Spikes Back vs Highballs
DESCRIPTION:
STATUS:CONFIRMED
LAST-MODIFIED:20260430T013000
LOCATION:19 Wing - Court 2\, 1575 Military Row\, Comox\, BC V9M 4H2\, Canada
GEO:49.71222638796791;-124.90959982642823
END:VEVENT
BEGIN:VEVENT
UID:54459
DTSTAMP;TZID=America/Vancouver:20260429T191500
DTSTART;TZID=America/Vancouver:20260429T191500
DTEND;TZID=America/Vancouver:20260429T200000
SUMMARY:Empire Spikes Back vs Fight Club
DESCRIPTION:
STATUS:CONFIRMED
LAST-MODIFIED:20260430T021500
LOCATION:19 Wing - Court 2\, 1575 Military Row\, Comox\, BC V9M 4H2\, Canada
GEO:49.71222638796791;-124.90959982642823
END:VEVENT
BEGIN:VEVENT
UID:54578
DTSTAMP;TZID=America/Vancouver:20260506T193000
DTSTART;TZID=America/Vancouver:20260506T193000
DTEND;TZID=America/Vancouver:20260506T201500
SUMMARY:Protected Set vs Empire Spikes Back
DESCRIPTION:
STATUS:CONFIRMED
LAST-MODIFIED:20260507T023000
LOCATION:Cumberland Jr - Court 2\, 2674 Windemere Ave\, Cumberland\, BC V0R\, Canada
GEO:49.62112036211578;-125.03315414550781
END:VEVENT
BEGIN:VEVENT
UID:54579
DTSTAMP;TZID=America/Vancouver:20260506T201500
DTSTART;TZID=America/Vancouver:20260506T201500
DTEND;TZID=America/Vancouver:20260506T210000
SUMMARY:Pop-up Blockers vs Empire Spikes Back
DESCRIPTION:
STATUS:CONFIRMED
LAST-MODIFIED:20260507T031500
LOCATION:Cumberland Jr - Court 1\, 2674 Windemere Ave\, Cumberland\, BC V0R\, Canada
GEO:49.62114293423199;-125.03311143224335
END:VEVENT
BEGIN:VEVENT
UID:54598
DTSTAMP;TZID=America/Vancouver:20260513T180000
DTSTART;TZID=America/Vancouver:20260513T180000
DTEND;TZID=America/Vancouver:20260513T184500
SUMMARY:Hit It &amp\; Quit It vs Empire Spikes Back
DESCRIPTION:
STATUS:CONFIRMED
LAST-MODIFIED:20260514T010000
LOCATION:Brooklyn Elementary - Court 2\, 1290 Guthrie Rd\, Comox\, BC V9M 4G2\, Canada
GEO:49.6868764;-124.90481720000002
END:VEVENT
BEGIN:VEVENT
UID:54599
DTSTAMP;TZID=America/Vancouver:20260513T184500
DTSTART;TZID=America/Vancouver:20260513T184500
DTEND;TZID=America/Vancouver:20260513T193000
SUMMARY:Jagged Little Kill vs Empire Spikes Back
DESCRIPTION:
STATUS:CONFIRMED
LAST-MODIFIED:20260514T014500
LOCATION:Brooklyn Elementary - Court 1\, 1290 Guthrie Rd\, Comox\, BC V9M 4G2\, Canada
GEO:49.6868764;-124.90481720000002
END:VEVENT
BEGIN:VEVENT
UID:54544
DTSTAMP;TZID=America/Vancouver:20260520T173000
DTSTART;TZID=America/Vancouver:20260520T173000
DTEND;TZID=America/Vancouver:20260520T185000
SUMMARY:Dressed to Kill vs Empire Spikes Back
DESCRIPTION:*Best-of-5, time permitting
STATUS:CONFIRMED
LAST-MODIFIED:20260521T003000
LOCATION:Ecole au Coeur de L’Ile - Court 2\, 566 Linshart Rd\, Comox\, BC V9M 2K8\, Canada
GEO:49.6839056;-124.9287382
END:VEVENT
END:VCALENDAR