BEGIN:VCALENDAR
VERSION:2.0
PRODID:-//SCVSSC//EN
CALSCALE:GREGORIAN
METHOD:PUBLISH
URL:https://comoxvalleysports.ca/calendar/comox-totems-calendar/?feed=cvssc-calendar-ical
X-FROM-URL:https://comoxvalleysports.ca/calendar/comox-totems-calendar/?feed=cvssc-calendar-ical
NAME:Comox Totems Calendar
X-WR-CALNAME:Comox Totems Calendar
DESCRIPTION:Comox Totems Calendar
X-WR-CALDESC:Comox Totems Calendar
REFRESH-INTERVAL;VALUE=DURATION:PT2M
X-PUBLISHED-TTL:PT2M
TZID:America/Vancouver
X-WR-TIMEZONE:America/Vancouver
BEGIN:VTIMEZONE
TZID:America/Vancouver
X-LIC-LOCATION:America/Vancouver
BEGIN:DAYLIGHT
TZOFFSETFROM:-0800
TZOFFSETTO:-0700
TZNAME:PDT
DTSTART:19700308T020000
RRULE:FREQ=YEARLY;BYMONTH=3;BYDAY=2SU
END:DAYLIGHT
BEGIN:STANDARD
TZOFFSETFROM:-0700
TZOFFSETTO:-0800
TZNAME:PST
DTSTART:19701101T020000
RRULE:FREQ=YEARLY;BYMONTH=11;BYDAY=1SU
END:STANDARD
END:VTIMEZONE
BEGIN:VEVENT
UID:30738
DTSTAMP;TZID=America/Vancouver:20220923T184500
DTSTART;TZID=America/Vancouver:20220923T184500
DTEND;TZID=America/Vancouver:20220923T194500
SUMMARY:Keep Fit\, Have Fun 60 Comox Totems 35
DESCRIPTION:
STATUS:CONFIRMED
LAST-MODIFIED:20220924T014500
LOCATION:19 Wing Gym - Storage Side\, 1575 Military Row\, Comox\, BC V9M 4H2\, Canada
GEO:49.7121716;-124.90975040000001
END:VEVENT
BEGIN:VEVENT
UID:30742
DTSTAMP;TZID=America/Vancouver:20221014T194500
DTSTART;TZID=America/Vancouver:20221014T194500
DTEND;TZID=America/Vancouver:20221014T204500
SUMMARY:Comox Totems 57 Airballerz 75
DESCRIPTION:
STATUS:CONFIRMED
LAST-MODIFIED:20221015T024500
LOCATION:19 Wing Gym - Gym Entrance Side\, 1575 Military Row\, Comox\, BC V9M 4H2\, Canada
GEO:49.71217159999999;-124.90964311163941
END:VEVENT
BEGIN:VEVENT
UID:31175
DTSTAMP;TZID=America/Vancouver:20221021T184500
DTSTART;TZID=America/Vancouver:20221021T184500
DTEND;TZID=America/Vancouver:20221021T194500
SUMMARY:Comox Totems 58 Rimshots 35
DESCRIPTION:
STATUS:CONFIRMED
LAST-MODIFIED:20221022T014500
LOCATION:19 Wing Gym - Gym Entrance Side\, 1575 Military Row\, Comox\, BC V9M 4H2\, Canada
GEO:49.71217159999999;-124.90964311163941
END:VEVENT
BEGIN:VEVENT
UID:31179
DTSTAMP;TZID=America/Vancouver:20221028T184500
DTSTART;TZID=America/Vancouver:20221028T184500
DTEND;TZID=America/Vancouver:20221028T194500
SUMMARY:Hennessy 77 Comox Totems 72
DESCRIPTION:
STATUS:CONFIRMED
LAST-MODIFIED:20221029T014500
LOCATION:19 Wing Gym - Storage Side\, 1575 Military Row\, Comox\, BC V9M 4H2\, Canada
GEO:49.7121716;-124.90975040000001
END:VEVENT
BEGIN:VEVENT
UID:31181
DTSTAMP;TZID=America/Vancouver:20221104T184500
DTSTART;TZID=America/Vancouver:20221104T184500
DTEND;TZID=America/Vancouver:20221104T194500
SUMMARY:Block Party 58 Comox Totems 72
DESCRIPTION:
STATUS:CONFIRMED
LAST-MODIFIED:20221105T014500
LOCATION:19 Wing Gym - Gym Entrance Side\, 1575 Military Row\, Comox\, BC V9M 4H2\, Canada
GEO:49.71217159999999;-124.90964311163941
END:VEVENT
BEGIN:VEVENT
UID:31411
DTSTAMP;TZID=America/Vancouver:20221118T184500
DTSTART;TZID=America/Vancouver:20221118T184500
DTEND;TZID=America/Vancouver:20221118T194000
SUMMARY:Comox Totems 62 Hennessy 58
DESCRIPTION:QF#3: Seeds 3 vs. 4
STATUS:CONFIRMED
LAST-MODIFIED:20221119T024500
LOCATION:19 Wing Gym - Storage Side\, 1575 Military Row\, Comox\, BC V9M 4H2\, Canada
GEO:49.7121716;-124.90975040000001
END:VEVENT
BEGIN:VEVENT
UID:31683
DTSTAMP;TZID=America/Vancouver:20221209T194500
DTSTART;TZID=America/Vancouver:20221209T194500
DTEND;TZID=America/Vancouver:20221209T204000
SUMMARY:Comox Totems 40 Keep Fit\, Have Fun 83
DESCRIPTION:SF#2: Two low-seed QF winners. *Make-up game from Dec. 2 snow cancellation.
STATUS:CONFIRMED
LAST-MODIFIED:20221202T185300
LOCATION:19 Wing Gym - Gym Entrance Side\, 1575 Military Row\, Comox\, BC V9M 4H2\, Canada
GEO:49.71217159999999;-124.90964311163941
END:VEVENT
BEGIN:VEVENT
UID:31942
DTSTAMP;TZID=America/Vancouver:20221216T194500
DTSTART;TZID=America/Vancouver:20221216T194500
DTEND;TZID=America/Vancouver:20221216T204000
SUMMARY:Block Party 72 Comox Totems 62
DESCRIPTION:5th Place Game
STATUS:CONFIRMED
LAST-MODIFIED:20221219T175700
LOCATION:19 Wing Gym - Gym Entrance Side\, 1575 Military Row\, Comox\, BC V9M 4H2\, Canada
GEO:49.71217159999999;-124.90964311163941
END:VEVENT
BEGIN:VEVENT
UID:32392
DTSTAMP;TZID=America/Vancouver:20230113T184500
DTSTART;TZID=America/Vancouver:20230113T184500
DTEND;TZID=America/Vancouver:20230113T194500
SUMMARY:Keep Fit\, Have Fun 72 Comox Totems 53
DESCRIPTION:*Totems have priority over blue colour shirts. 
STATUS:CONFIRMED
LAST-MODIFIED:20230114T024500
LOCATION:19 Wing Gym - Storage Side\, 1575 Military Row\, Comox\, BC V9M 4H2\, Canada
GEO:49.7121716;-124.90975040000001
END:VEVENT
BEGIN:VEVENT
UID:32395
DTSTAMP;TZID=America/Vancouver:20230120T184500
DTSTART;TZID=America/Vancouver:20230120T184500
DTEND;TZID=America/Vancouver:20230120T194500
SUMMARY:Airballerz 100 Comox Totems 74
DESCRIPTION:
STATUS:CONFIRMED
LAST-MODIFIED:20230121T024500
LOCATION:19 Wing Gym - Storage Side\, 1575 Military Row\, Comox\, BC V9M 4H2\, Canada
GEO:49.7121716;-124.90975040000001
END:VEVENT
BEGIN:VEVENT
UID:32397
DTSTAMP;TZID=America/Vancouver:20230203T184500
DTSTART;TZID=America/Vancouver:20230203T184500
DTEND;TZID=America/Vancouver:20230203T194500
SUMMARY:Comox Totems 0 Shake &#038\; Bake 20
DESCRIPTION:
STATUS:CONFIRMED
LAST-MODIFIED:20230204T024500
LOCATION:19 Wing Gym - Gym Entrance Side\, 1575 Military Row\, Comox\, BC V9M 4H2\, Canada
GEO:49.71217159999999;-124.90964311163941
END:VEVENT
BEGIN:VEVENT
UID:32402
DTSTAMP;TZID=America/Vancouver:20230210T194500
DTSTART;TZID=America/Vancouver:20230210T194500
DTEND;TZID=America/Vancouver:20230210T204500
SUMMARY:Shooting Stars 50 Comox Totems 64
DESCRIPTION:
STATUS:CONFIRMED
LAST-MODIFIED:20230211T034500
LOCATION:19 Wing Gym - Gym Entrance Side\, 1575 Military Row\, Comox\, BC V9M 4H2\, Canada
GEO:49.71217159999999;-124.90964311163941
END:VEVENT
BEGIN:VEVENT
UID:32405
DTSTAMP;TZID=America/Vancouver:20230217T194500
DTSTART;TZID=America/Vancouver:20230217T194500
DTEND;TZID=America/Vancouver:20230217T204500
SUMMARY:Comox Totems 20 Geeks in Sneaks 0
DESCRIPTION:
STATUS:CONFIRMED
LAST-MODIFIED:20230218T034500
LOCATION:19 Wing Gym - Gym Entrance Side\, 1575 Military Row\, Comox\, BC V9M 4H2\, Canada
GEO:49.71217159999999;-124.90964311163941
END:VEVENT
BEGIN:VEVENT
UID:33297
DTSTAMP;TZID=America/Vancouver:20230303T184500
DTSTART;TZID=America/Vancouver:20230303T184500
DTEND;TZID=America/Vancouver:20230303T194500
SUMMARY:Comox Totems 76 Shooting Stars 73
DESCRIPTION:QF#3: Seeds 3 vs. 4
STATUS:CONFIRMED
LAST-MODIFIED:20230304T024500
LOCATION:19 Wing Gym - Storage Side\, 1575 Military Row\, Comox\, BC V9M 4H2\, Canada
GEO:49.7121716;-124.90975040000001
END:VEVENT
BEGIN:VEVENT
UID:33513
DTSTAMP;TZID=America/Vancouver:20230310T184500
DTSTART;TZID=America/Vancouver:20230310T184500
DTEND;TZID=America/Vancouver:20230310T194000
SUMMARY:Keep Fit\, Have Fun 73 Comox Totems 60
DESCRIPTION:SF#2: Winners QF#2 vs. QF#3
STATUS:CONFIRMED
LAST-MODIFIED:20230311T024500
LOCATION:19 Wing Gym - Storage Side\, 1575 Military Row\, Comox\, BC V9M 4H2\, Canada
GEO:49.7121716;-124.90975040000001
END:VEVENT
BEGIN:VEVENT
UID:33666
DTSTAMP;TZID=America/Vancouver:20230317T194500
DTSTART;TZID=America/Vancouver:20230317T194500
DTEND;TZID=America/Vancouver:20230317T204000
SUMMARY:Comox Totems 101 Geeks in Sneaks 84
DESCRIPTION:3rd Place Game
STATUS:CONFIRMED
LAST-MODIFIED:20230318T024500
LOCATION:19 Wing Gym - Gym Entrance Side\, 1575 Military Row\, Comox\, BC V9M 4H2\, Canada
GEO:49.71217159999999;-124.90964311163941
END:VEVENT
BEGIN:VEVENT
UID:40820
DTSTAMP;TZID=America/Vancouver:20240412T184500
DTSTART;TZID=America/Vancouver:20240412T184500
DTEND;TZID=America/Vancouver:20240412T194500
SUMMARY:Swish Kebabs 47 Comox Totems 77
DESCRIPTION:*Please show up 10-15 minutes early to warm up and help set up. 
STATUS:CONFIRMED
LAST-MODIFIED:20240603T183400
LOCATION:19 Wing Gym - Storage Side\, 1575 Military Row\, Comox\, BC V9M 4H2\, Canada
GEO:49.7121716;-124.90975040000001
END:VEVENT
BEGIN:VEVENT
UID:40825
DTSTAMP;TZID=America/Vancouver:20240419T194500
DTSTART;TZID=America/Vancouver:20240419T194500
DTEND;TZID=America/Vancouver:20240419T204500
SUMMARY:Comox Totems 71 The Strikers 73
DESCRIPTION:*Please help put away at the end of the night. 
STATUS:CONFIRMED
LAST-MODIFIED:20240420T024500
LOCATION:19 Wing Gym - Gym Entrance Side\, 1575 Military Row\, Comox\, BC V9M 4H2\, Canada
GEO:49.71217159999999;-124.90964311163941
END:VEVENT
BEGIN:VEVENT
UID:40827
DTSTAMP;TZID=America/Vancouver:20240426T184500
DTSTART;TZID=America/Vancouver:20240426T184500
DTEND;TZID=America/Vancouver:20240426T194500
SUMMARY:Geeks in Sneaks 51 Comox Totems 81
DESCRIPTION:*Please show up 10-15 minutes early to warm up and help set up. 
STATUS:CONFIRMED
LAST-MODIFIED:20240427T014500
LOCATION:19 Wing Gym - Gym Entrance Side\, 1575 Military Row\, Comox\, BC V9M 4H2\, Canada
GEO:49.71217159999999;-124.90964311163941
END:VEVENT
BEGIN:VEVENT
UID:40832
DTSTAMP;TZID=America/Vancouver:20240510T184500
DTSTART;TZID=America/Vancouver:20240510T184500
DTEND;TZID=America/Vancouver:20240510T194500
SUMMARY:Tropics 79 Comox Totems 68
DESCRIPTION:*Please show up 10-15 minutes early to warm up and help set up. 
STATUS:CONFIRMED
LAST-MODIFIED:20240511T014500
LOCATION:19 Wing Gym - Storage Side\, 1575 Military Row\, Comox\, BC V9M 4H2\, Canada
GEO:49.7121716;-124.90975040000001
END:VEVENT
BEGIN:VEVENT
UID:40838
DTSTAMP;TZID=America/Vancouver:20240524T194500
DTSTART;TZID=America/Vancouver:20240524T194500
DTEND;TZID=America/Vancouver:20240524T204500
SUMMARY:Bob Ross in the Paint 64 Comox Totems 47
DESCRIPTION:*Please help put away at the end of the night. 
STATUS:CONFIRMED
LAST-MODIFIED:20240525T024500
LOCATION:19 Wing Gym - Storage Side\, 1575 Military Row\, Comox\, BC V9M 4H2\, Canada
GEO:49.7121716;-124.90975040000001
END:VEVENT
BEGIN:VEVENT
UID:40839
DTSTAMP;TZID=America/Vancouver:20240531T184500
DTSTART;TZID=America/Vancouver:20240531T184500
DTEND;TZID=America/Vancouver:20240531T194500
SUMMARY:Comox Totems 82 Half Court Hustlers 100
DESCRIPTION:*Please show up 10-15 minutes early to warm up and help set up. 
STATUS:CONFIRMED
LAST-MODIFIED:20240601T014500
LOCATION:19 Wing Gym - Gym Entrance Side\, 1575 Military Row\, Comox\, BC V9M 4H2\, Canada
GEO:49.71217159999999;-124.90964311163941
END:VEVENT
BEGIN:VEVENT
UID:41796
DTSTAMP;TZID=America/Vancouver:20240607T184500
DTSTART;TZID=America/Vancouver:20240607T184500
DTEND;TZID=America/Vancouver:20240607T194000
SUMMARY:Comox Totems 73 Swish Kebabs 60
DESCRIPTION:SF#4: Seeds 6 vs. 7; 55 minute time slots to allow for OT if needed. 
STATUS:CONFIRMED
LAST-MODIFIED:20240608T014500
LOCATION:19 Wing Gym - Storage Side\, 1575 Military Row\, Comox\, BC V9M 4H2\, Canada
GEO:49.7121716;-124.90975040000001
END:VEVENT
BEGIN:VEVENT
UID:42044
DTSTAMP;TZID=America/Vancouver:20240614T194500
DTSTART;TZID=America/Vancouver:20240614T194500
DTEND;TZID=America/Vancouver:20240614T204000
SUMMARY:Tropics 75 Comox Totems 82
DESCRIPTION:5th Place Game
STATUS:CONFIRMED
LAST-MODIFIED:20240615T024500
LOCATION:19 Wing Gym - Gym Entrance Side\, 1575 Military Row\, Comox\, BC V9M 4H2\, Canada
GEO:49.71217159999999;-124.90964311163941
END:VEVENT
END:VCALENDAR