BEGIN:VCALENDAR
VERSION:2.0
PRODID:-//SCVSSC//EN
CALSCALE:GREGORIAN
METHOD:PUBLISH
URL:https://comoxvalleysports.ca/calendar/class-on-grass-calendar/?feed=cvssc-calendar-ical
X-FROM-URL:https://comoxvalleysports.ca/calendar/class-on-grass-calendar/?feed=cvssc-calendar-ical
NAME:Class on Grass Calendar
X-WR-CALNAME:Class on Grass Calendar
DESCRIPTION:Class on Grass Calendar
X-WR-CALDESC:Class on Grass Calendar
REFRESH-INTERVAL;VALUE=DURATION:PT2M
X-PUBLISHED-TTL:PT2M
TZID:America/Vancouver
X-WR-TIMEZONE:America/Vancouver
BEGIN:VTIMEZONE
TZID:America/Vancouver
X-LIC-LOCATION:America/Vancouver
BEGIN:DAYLIGHT
TZOFFSETFROM:-0800
TZOFFSETTO:-0700
TZNAME:PDT
DTSTART:19700308T020000
RRULE:FREQ=YEARLY;BYMONTH=3;BYDAY=2SU
END:DAYLIGHT
BEGIN:STANDARD
TZOFFSETFROM:-0700
TZOFFSETTO:-0800
TZNAME:PST
DTSTART:19701101T020000
RRULE:FREQ=YEARLY;BYMONTH=11;BYDAY=1SU
END:STANDARD
END:VTIMEZONE
BEGIN:VEVENT
UID:28772
DTSTAMP;TZID=America/Vancouver:20220623T194500
DTSTART;TZID=America/Vancouver:20220623T194500
DTEND;TZID=America/Vancouver:20220623T210000
SUMMARY:Class on Grass 6 Looking To Score 3
DESCRIPTION:*Please arrive 10 minutes early to your games and bring cleats, water and check your team colour priority on the schedule for each week of games. Let's have some fun!
STATUS:CONFIRMED
LAST-MODIFIED:20220624T024500
LOCATION:Queneesh - Field 2: Middle Field\, 2345 Mission Rd\, Courtenay\, BC V9N 9H1\, Canada
GEO:;
END:VEVENT
BEGIN:VEVENT
UID:28842
DTSTAMP;TZID=America/Vancouver:20220630T183000
DTSTART;TZID=America/Vancouver:20220630T183000
DTEND;TZID=America/Vancouver:20220630T194500
SUMMARY:Pitches 10 Class on Grass 6
DESCRIPTION:
STATUS:CONFIRMED
LAST-MODIFIED:20220701T013000
LOCATION:Highland Soccer Field #1 - Closest to Pickleball Courts\, 775 Torrence Rd\, Comox\, BC V9M 0A5\, Canada
GEO:49.689179;-124.909933
END:VEVENT
BEGIN:VEVENT
UID:28862
DTSTAMP;TZID=America/Vancouver:20220707T194500
DTSTART;TZID=America/Vancouver:20220707T194500
DTEND;TZID=America/Vancouver:20220707T210000
SUMMARY:Toasted Goats FC 7 Class on Grass 6
DESCRIPTION:
STATUS:CONFIRMED
LAST-MODIFIED:20220708T024500
LOCATION:Highland Soccer Field #1 - Closest to Pickleball Courts\, 775 Torrence Rd\, Comox\, BC V9M 0A5\, Canada
GEO:49.689179;-124.909933
END:VEVENT
BEGIN:VEVENT
UID:29162
DTSTAMP;TZID=America/Vancouver:20220714T235900
DTSTART;TZID=America/Vancouver:20220714T235900
DTEND;TZID=America/Vancouver:20220714T235900
SUMMARY:Class on Grass - BYE WEEK. NO GAME.
DESCRIPTION:*No scheduled game this week. 
STATUS:CONFIRMED
LAST-MODIFIED:20220715T065900
GEO:49.689179;-124.909933
END:VEVENT
BEGIN:VEVENT
UID:29139
DTSTAMP;TZID=America/Vancouver:20220721T183000
DTSTART;TZID=America/Vancouver:20220721T183000
DTEND;TZID=America/Vancouver:20220721T194500
SUMMARY:Class on Grass 6 Low Cost Score-age 6
DESCRIPTION:
STATUS:CONFIRMED
LAST-MODIFIED:20220722T013000
LOCATION:Highland Soccer Field #3 - Furthest from Pickleball Courts\, 775 Torrence Rd\, Comox\, BC V9M 0A5\, Canada
GEO:49.689179;-124.909933
END:VEVENT
BEGIN:VEVENT
UID:29170
DTSTAMP;TZID=America/Vancouver:20220728T183000
DTSTART;TZID=America/Vancouver:20220728T183000
DTEND;TZID=America/Vancouver:20220728T194500
SUMMARY:Crown Isle 2 Class on Grass 4
DESCRIPTION:
STATUS:CONFIRMED
LAST-MODIFIED:20220729T013000
LOCATION:Highland Soccer Field #2 - Middle Field\, 775 Torrence Rd\, Comox\, BC V9M 0A5\, Canada
GEO:49.689179;-124.909933
END:VEVENT
BEGIN:VEVENT
UID:29184
DTSTAMP;TZID=America/Vancouver:20220804T191500
DTSTART;TZID=America/Vancouver:20220804T191500
DTEND;TZID=America/Vancouver:20220804T203000
SUMMARY:Class on Grass 9 C U Next Thursday 6
DESCRIPTION:*Start times move up 30 minutes this week. 
STATUS:CONFIRMED
LAST-MODIFIED:20220805T021500
LOCATION:G.P. Vanier - Field 3: Right field, 2nd closest Headquarters Rd.\, 4830 Headquarters Rd\, Courtenay\, BC V9J 1P2\, Canada
GEO:49.70965529999999;-124.9983923
END:VEVENT
BEGIN:VEVENT
UID:29386
DTSTAMP;TZID=America/Vancouver:20220811T191500
DTSTART;TZID=America/Vancouver:20220811T191500
DTEND;TZID=America/Vancouver:20220811T203000
SUMMARY:Crown Isle 4 Class on Grass 6
DESCRIPTION:A Tier SF#2: Seeds 2 vs. 3
STATUS:CONFIRMED
LAST-MODIFIED:20220812T021500
LOCATION:G.P. Vanier - Field 2: Rugby field, further from school access road\, 4828 Headquarters Rd\, Courtenay\, BC V9N 7J3\, Canada
GEO:49.707656;-125.00350300000002
END:VEVENT
BEGIN:VEVENT
UID:29534
DTSTAMP;TZID=America/Vancouver:20220818T180000
DTSTART;TZID=America/Vancouver:20220818T180000
DTEND;TZID=America/Vancouver:20220818T191500
SUMMARY:Pitches 5 Class on Grass 2
DESCRIPTION:A Tier 1st Place Game
STATUS:CONFIRMED
LAST-MODIFIED:20220815T211400
LOCATION:Highland Soccer Field #1 - Closest to Pickleball Courts\, 775 Torrence Rd\, Comox\, BC V9M 0A5\, Canada
GEO:49.689179;-124.909933
END:VEVENT
BEGIN:VEVENT
UID:36199
DTSTAMP;TZID=America/Vancouver:20230622T183000
DTSTART;TZID=America/Vancouver:20230622T183000
DTEND;TZID=America/Vancouver:20230622T194500
SUMMARY:Kicking and Screaming 3 Class on Grass 3
DESCRIPTION:*Please arrive 10-15 minutes early to games to warm up and get organized. 
STATUS:CONFIRMED
LAST-MODIFIED:20230623T013000
LOCATION:G.P. Vanier - Field 1: Rugby field, closer to school access road\, P252+WG Courtenay\, BC\, Canada
GEO:49.709771;-124.998649
END:VEVENT
BEGIN:VEVENT
UID:36294
DTSTAMP;TZID=America/Vancouver:20230629T194500
DTSTART;TZID=America/Vancouver:20230629T194500
DTEND;TZID=America/Vancouver:20230629T210000
SUMMARY:Flamingos FC 3 Class on Grass 10
DESCRIPTION:
STATUS:CONFIRMED
LAST-MODIFIED:20230630T024500
LOCATION:Highland Soccer Field #1 - Closest to Pickleball Courts\, 775 Torrence Rd\, Comox\, BC V9M 0A5\, Canada
GEO:49.689179;-124.909933
END:VEVENT
BEGIN:VEVENT
UID:36304
DTSTAMP;TZID=America/Vancouver:20230706T183000
DTSTART;TZID=America/Vancouver:20230706T183000
DTEND;TZID=America/Vancouver:20230706T194500
SUMMARY:Arkadia 2 Class on Grass 6
DESCRIPTION:
STATUS:CONFIRMED
LAST-MODIFIED:20230707T013000
LOCATION:G.P. Vanier - Field 3: Right field, 2nd closest Headquarters Rd.\, 4830 Headquarters Rd\, Courtenay\, BC V9J 1P2\, Canada
GEO:49.70965529999999;-124.9983923
END:VEVENT
BEGIN:VEVENT
UID:36471
DTSTAMP;TZID=America/Vancouver:20230713T194500
DTSTART;TZID=America/Vancouver:20230713T194500
DTEND;TZID=America/Vancouver:20230713T210000
SUMMARY:Toasted Goats FC 4 Class on Grass 7
DESCRIPTION:*Please help move goals off of playing field at end of evening (to nearest fence or bordering access road).
STATUS:CONFIRMED
LAST-MODIFIED:20230714T024500
LOCATION:Highland Soccer Field #1 - Closest to Pickleball Courts\, 775 Torrence Rd\, Comox\, BC V9M 0A5\, Canada
GEO:49.689179;-124.909933
END:VEVENT
BEGIN:VEVENT
UID:36478
DTSTAMP;TZID=America/Vancouver:20230720T183000
DTSTART;TZID=America/Vancouver:20230720T183000
DTEND;TZID=America/Vancouver:20230720T194500
SUMMARY:Blue Toque FC 7 Class on Grass 7
DESCRIPTION:
STATUS:CONFIRMED
LAST-MODIFIED:20230721T013000
LOCATION:G.P. Vanier - Field 2: Rugby field, further from school access road\, 4828 Headquarters Rd\, Courtenay\, BC V9N 7J3\, Canada
GEO:49.707656;-125.00350300000002
END:VEVENT
BEGIN:VEVENT
UID:36493
DTSTAMP;TZID=America/Vancouver:20230727T183000
DTSTART;TZID=America/Vancouver:20230727T183000
DTEND;TZID=America/Vancouver:20230727T194500
SUMMARY:Class on Grass 4 C U Next Thursday 3
DESCRIPTION:
STATUS:CONFIRMED
LAST-MODIFIED:20230728T013000
LOCATION:G.P. Vanier - Field 1: Rugby field, closer to school access road\, P252+WG Courtenay\, BC\, Canada
GEO:49.709771;-124.998649
END:VEVENT
BEGIN:VEVENT
UID:36520
DTSTAMP;TZID=America/Vancouver:20230803T194500
DTSTART;TZID=America/Vancouver:20230803T194500
DTEND;TZID=America/Vancouver:20230803T210000
SUMMARY:Class on Grass 5 Kicking and Screaming 2
DESCRIPTION:*A Tier Playoff SF#1: seeds 1 vs. 4; *Please help move goals off of playing field at end of evening (to nearest fence or bordering access road).
STATUS:CONFIRMED
LAST-MODIFIED:20230728T154600
LOCATION:Highland Soccer Field #2 - Middle Field\, 775 Torrence Rd\, Comox\, BC V9M 0A5\, Canada
GEO:49.689179;-124.909933
END:VEVENT
BEGIN:VEVENT
UID:36682
DTSTAMP;TZID=America/Vancouver:20230810T180000
DTSTART;TZID=America/Vancouver:20230810T180000
DTEND;TZID=America/Vancouver:20230810T191500
SUMMARY:Class on Grass 4 Blue Toque FC 3
DESCRIPTION:A Tier 1st Place Game; Note start times move up 30 minutes for rest of season. 
STATUS:CONFIRMED
LAST-MODIFIED:20230811T010000
LOCATION:Highland Soccer Field #1 - Closest to Pickleball Courts\, 775 Torrence Rd\, Comox\, BC V9M 0A5\, Canada
GEO:49.689179;-124.909933
END:VEVENT
BEGIN:VEVENT
UID:36695
DTSTAMP;TZID=America/Vancouver:20230817T235900
DTSTART;TZID=America/Vancouver:20230817T235900
DTEND;TZID=America/Vancouver:20230817T235900
SUMMARY:Class on Grass - BYE WEEK. NO GAME.
DESCRIPTION:*Team wraps up season on Aug. 10.
STATUS:CONFIRMED
LAST-MODIFIED:20230818T065900
GEO:49.689179;-124.909933
END:VEVENT
END:VCALENDAR