BEGIN:VCALENDAR
VERSION:2.0
PRODID:-//SCVSSC//EN
CALSCALE:GREGORIAN
METHOD:PUBLISH
URL:https://comoxvalleysports.ca/calendar/big-shots-calendar/?feed=cvssc-calendar-ical
X-FROM-URL:https://comoxvalleysports.ca/calendar/big-shots-calendar/?feed=cvssc-calendar-ical
NAME:Big Shots Calendar
X-WR-CALNAME:Big Shots Calendar
DESCRIPTION:Big Shots Calendar
X-WR-CALDESC:Big Shots Calendar
REFRESH-INTERVAL;VALUE=DURATION:PT2M
X-PUBLISHED-TTL:PT2M
TZID:America/Vancouver
X-WR-TIMEZONE:America/Vancouver
BEGIN:VTIMEZONE
TZID:America/Vancouver
X-LIC-LOCATION:America/Vancouver
BEGIN:DAYLIGHT
TZOFFSETFROM:-0800
TZOFFSETTO:-0700
TZNAME:PDT
DTSTART:19700308T020000
RRULE:FREQ=YEARLY;BYMONTH=3;BYDAY=2SU
END:DAYLIGHT
BEGIN:STANDARD
TZOFFSETFROM:-0700
TZOFFSETTO:-0800
TZNAME:PST
DTSTART:19701101T020000
RRULE:FREQ=YEARLY;BYMONTH=11;BYDAY=1SU
END:STANDARD
END:VTIMEZONE
BEGIN:VEVENT
UID:37422
DTSTAMP;TZID=America/Vancouver:20230910T171500
DTSTART;TZID=America/Vancouver:20230910T171500
DTEND;TZID=America/Vancouver:20230910T183000
SUMMARY:Kicking and Screaming 6 Big Shots 0
DESCRIPTION:*Please arrive 10-15 minutes early to warm up. And a reminder that goals have to be moved off the field at the end of the night.
STATUS:CONFIRMED
LAST-MODIFIED:20230911T001500
LOCATION:G.P. Vanier - Field 1: Rugby field, closer to school access road\, 4828 Headquarters Rd\, Courtenay\, BC V9N 7J3\, Canada
GEO:49.709771;-124.998649
END:VEVENT
BEGIN:VEVENT
UID:37425
DTSTAMP;TZID=America/Vancouver:20230917T160000
DTSTART;TZID=America/Vancouver:20230917T160000
DTEND;TZID=America/Vancouver:20230917T171500
SUMMARY:Big Shots 2 Disco Pirates 5
DESCRIPTION:*Please arrive 10-15 minutes early to warm up and start games close to on time. 
STATUS:CONFIRMED
LAST-MODIFIED:20230917T230000
LOCATION:G.P. Vanier - Field 2: Rugby field, further from school access road\, 4828 Headquarters Rd\, Courtenay\, BC V9N 7J3\, Canada
GEO:49.707656;-125.00350300000002
END:VEVENT
BEGIN:VEVENT
UID:37766
DTSTAMP;TZID=America/Vancouver:20230924T160000
DTSTART;TZID=America/Vancouver:20230924T160000
DTEND;TZID=America/Vancouver:20230924T171500
SUMMARY:Big Shots 5 Goal Diggers FC 4
DESCRIPTION:
STATUS:CONFIRMED
LAST-MODIFIED:20230924T230000
LOCATION:G.P. Vanier - Field 2: Rugby field, further from school access road\, 4828 Headquarters Rd\, Courtenay\, BC V9N 7J3\, Canada
GEO:49.707656;-125.00350300000002
END:VEVENT
BEGIN:VEVENT
UID:37771
DTSTAMP;TZID=America/Vancouver:20231001T171500
DTSTART;TZID=America/Vancouver:20231001T171500
DTEND;TZID=America/Vancouver:20231001T183000
SUMMARY:Big Shots 1 The Team 8
DESCRIPTION:
STATUS:CONFIRMED
LAST-MODIFIED:20231002T001500
LOCATION:G.P. Vanier - Field 1: Rugby field, closer to school access road\, 4828 Headquarters Rd\, Courtenay\, BC V9N 7J3\, Canada
GEO:49.709771;-124.998649
END:VEVENT
BEGIN:VEVENT
UID:37774
DTSTAMP;TZID=America/Vancouver:20231015T150000
DTSTART;TZID=America/Vancouver:20231015T150000
DTEND;TZID=America/Vancouver:20231015T161500
SUMMARY:Big Shots 3 Puntledge River FC 6
DESCRIPTION:*Start Times Move Ahead for rest of season. 
STATUS:CONFIRMED
LAST-MODIFIED:20230919T231800
LOCATION:G.P. Vanier - Field 2: Rugby field, further from school access road\, 4828 Headquarters Rd\, Courtenay\, BC V9N 7J3\, Canada
GEO:49.707656;-125.00350300000002
END:VEVENT
BEGIN:VEVENT
UID:38078
DTSTAMP;TZID=America/Vancouver:20231022T161500
DTSTART;TZID=America/Vancouver:20231022T161500
DTEND;TZID=America/Vancouver:20231022T173000
SUMMARY:The Team 5 Big Shots 6
DESCRIPTION:7th Place Game: Seeds 7 vs. 8
STATUS:CONFIRMED
LAST-MODIFIED:20231022T231500
LOCATION:G.P. Vanier - Field 1: Rugby field, closer to school access road\, 4828 Headquarters Rd\, Courtenay\, BC V9N 7J3\, Canada
GEO:49.709771;-124.998649
END:VEVENT
END:VCALENDAR